BEGIN:VCALENDAR
VERSION:2.0
PRODID:-//Wycombe Friends of the Earth - ECPv6.15.17//NONSGML v1.0//EN
CALSCALE:GREGORIAN
METHOD:PUBLISH
X-ORIGINAL-URL:https://www.wycombefoe.org.uk
X-WR-CALDESC:Events for Wycombe Friends of the Earth
REFRESH-INTERVAL;VALUE=DURATION:PT1H
X-Robots-Tag:noindex
X-PUBLISHED-TTL:PT1H
BEGIN:VTIMEZONE
TZID:Europe/London
BEGIN:DAYLIGHT
TZOFFSETFROM:+0000
TZOFFSETTO:+0100
TZNAME:BST
DTSTART:20230326T010000
END:DAYLIGHT
BEGIN:STANDARD
TZOFFSETFROM:+0100
TZOFFSETTO:+0000
TZNAME:GMT
DTSTART:20231029T010000
END:STANDARD
BEGIN:DAYLIGHT
TZOFFSETFROM:+0000
TZOFFSETTO:+0100
TZNAME:BST
DTSTART:20240331T010000
END:DAYLIGHT
BEGIN:STANDARD
TZOFFSETFROM:+0100
TZOFFSETTO:+0000
TZNAME:GMT
DTSTART:20241027T010000
END:STANDARD
BEGIN:DAYLIGHT
TZOFFSETFROM:+0000
TZOFFSETTO:+0100
TZNAME:BST
DTSTART:20250330T010000
END:DAYLIGHT
BEGIN:STANDARD
TZOFFSETFROM:+0100
TZOFFSETTO:+0000
TZNAME:GMT
DTSTART:20251026T010000
END:STANDARD
END:VTIMEZONE
BEGIN:VEVENT
DTSTART;VALUE=DATE:20240801
DTEND;VALUE=DATE:20240802
DTSTAMP:20260422T194041
CREATED:20170301T100115Z
LAST-MODIFIED:20240613T203757Z
UID:6707-1722470400-1722556799@www.wycombefoe.org.uk
SUMMARY:OTHER ECO GROUPS & EVENTS
DESCRIPTION:Click links below… \nList of environmental events in the Wycombe area\nThis is a more detailed listing of individual events. It is a pinned post on the Facebook page of Wycombe Env Centre. \nList of environmental organisations in the Wycombe area\nAnother way to find out re events. Click on the link to the organisation’s website and search for ‘what’s on’\, events or similar.\n \n  \n 
URL:https://www.wycombefoe.org.uk/event/note-other-local-event-listings-10-2-2-8-4-2-3-2-2-2-2-2-2-2-2-2-2-3-2-2-2-2-2-2-2-2-2-2-2-2-2-2-2-2-2-2-2-2-2-2-2-2-2-2-2-2-2-2-2-2-2-2-2-2-2-2-2-2-2-2-2-2-2-2-2-2-2-2-2-2-2-2-2-2-2-2/
END:VEVENT
BEGIN:VEVENT
DTSTART;VALUE=DATE:20240801
DTEND;VALUE=DATE:20240802
DTSTAMP:20260422T194041
CREATED:20180724T120746Z
LAST-MODIFIED:20240613T203651Z
UID:6000-1722470400-1722556799@www.wycombefoe.org.uk
SUMMARY:Earth Overshoot Day
DESCRIPTION:Earth Overshoot Day marks the date when humanity’s demand for ecological resources and services in a given year exceeds what Earth can regenerate in that year. We maintain this deficit by liquidating stocks of ecological resources and accumulating waste\, primarily carbon dioxide in the atmosphere. \nEarth Overshoot Day is hosted and calculated by Global Footprint Network\, an international think tank that coordinates research\, develops methodological standards and provides decision-makers with a menu of tools to help the human economy operate within Earth’s ecological limits. \nEvery year has different date depending on how sustainable we are; worldwide.
URL:https://www.wycombefoe.org.uk/event/earth-overshoot-day-2-2-2-2/
END:VEVENT
BEGIN:VEVENT
DTSTART;TZID=Europe/London:20240801T100000
DTEND;TZID=Europe/London:20240801T130000
DTSTAMP:20260422T194041
CREATED:20160409T161011Z
LAST-MODIFIED:20240617T153635Z
UID:6721-1722506400-1722517200@www.wycombefoe.org.uk
SUMMARY:Chiltern Rangers Conservation MOST THURSDAYS
DESCRIPTION:Most Thursdays the Chiltern Rangers run a volunteer conservation group which is open to all.\nCome along and meet the group at Wycombe Rye Lido Car Park and keep fit while helping to take care of your local environment at woodlands. \nTools\, gloves and hot drinks are provided. Please wear stout footwear and appropriate clothing suitable for outdoors activities and the weather. If you would like to get involved then please contact them –  info@chilternrangers.co.uk \nCheck their website for details and more events. \n 
URL:https://www.wycombefoe.org.uk/event/conservation-volunteering-every-thursday-of-the-month-25-4-4-4-3-3-2-2-2-2-2-2-2-2-2-2-3-2-2-2-2-2-2-2-2-2-2-2-2-2-2-2-2-2-3-2-2-2-2-2-2-2-2-2-2-5-2-2-2-2-2-2-2-2-2-2-2-2-2-2-2/
LOCATION:Wycombe Lido Swimming pool\, The Rye \, HighWycombe\, United Kingdom
ORGANIZER;CN="Chiltern rangers":MAILTO:info@chilternrangers.co.uk
END:VEVENT
BEGIN:VEVENT
DTSTART;TZID=Europe/London:20240803T100000
DTEND;TZID=Europe/London:20240803T160000
DTSTAMP:20260422T194041
CREATED:20220608T084910Z
LAST-MODIFIED:20240614T190954Z
UID:6717-1722679200-1722700800@www.wycombefoe.org.uk
SUMMARY:Scrapstore 'Refresh' EVERY SATURDAY
DESCRIPTION:Refresh Wycombe is a wonderful scrap store based in the Chiltern Shopping Centre\, right here in the heart of High Wycombe. Our aim is to encourage you to Reduce\, Reuse\, Recycle and Create. We have a huge selection of surplus and unwanted stock all donated by local businesses and individuals. You may be a crafter\, a teacher\, an artist or a maker. We have fantastic fabrics\, textiles\, haberdashery items\, cards\, papers\, foils\, and shelves full of materials just waiting for you to give it a second life and use it on your next project. We are open to everyone\, so come and visit us every Saturday between 10am and 4pm and Wednesday between 1:30pm and 4:30pm. We’re just next door to Primark inside the Chiltern Shopping Centre.\n\nPlease follow us on Social Media to get all the latest news.\nFacebook – Refreshwycombe\nInstagram – @refreshwycombe\nWebsite – www.refreshwycombe.org
URL:https://www.wycombefoe.org.uk/event/scrapstore-refresh-every-saturday-2-2-2-2-3-2-2-2-2-2-5-2-2-2-2-2-2-2-2-2-2-2-2-2-2/
END:VEVENT
BEGIN:VEVENT
DTSTART;TZID=Europe/London:20240804T120000
DTEND;TZID=Europe/London:20240804T150000
DTSTAMP:20260422T194041
CREATED:20220608T084910Z
LAST-MODIFIED:20240614T190857Z
UID:6715-1722772800-1722783600@www.wycombefoe.org.uk
SUMMARY:Scrapstore 'Refresh' EVERY SUNDAY
DESCRIPTION:Refresh Wycombe is a wonderful scrap store based in the Chiltern Shopping Centre\, right here in the heart of High Wycombe. Our aim is to encourage you to Reduce\, Reuse\, Recycle and Create. We have a huge selection of surplus and unwanted stock all donated by local businesses and individuals. You may be a crafter\, a teacher\, an artist or a maker. We have fantastic fabrics\, textiles\, haberdashery items\, cards\, papers\, foils\, and shelves full of materials just waiting for you to give it a second life and use it on your next project. We are open to everyone\, so come and visit us every Saturday between 10am and 4pm and Wednesday between 1:30pm and 4:30pm. We’re just next door to Primark inside the Chiltern Shopping Centre.\n\nPlease follow us on Social Media to get all the latest news.\nFacebook – Refreshwycombe\nInstagram – @refreshwycombe\nWebsite – www.refreshwycombe.org
URL:https://www.wycombefoe.org.uk/event/scrapstore-refresh-every-saturday-2-2-2-2-3-2-2-2-2-2-5-2-2-2-2-2-2-2-2-2-2-2-2-3-2-2/
END:VEVENT
BEGIN:VEVENT
DTSTART;TZID=Europe/London:20240805T183000
DTEND;TZID=Europe/London:20240805T190000
DTSTAMP:20260422T194041
CREATED:20220608T085815Z
LAST-MODIFIED:20240805T160344Z
UID:6724-1722882600-1722884400@www.wycombefoe.org.uk
SUMMARY:'Wycombe Env Projects' meeting - NO MEETING IN AUG !
DESCRIPTION:Wycombe Environment Projects (WEP) is a projects group run by the charity Wycombe Environment Centre.\nWEP is not a forum for discussion\, but for action\, to cut carbon and boost biodiversity. \nThe group meets weekly for half an hour by Zoom on most Mondays at 6.30 pm.\nIf you would like to join in\, please email penelope.trustee@refreshwycombe.org \nGroup was setup 10th Feb 2021. \n 
URL:https://www.wycombefoe.org.uk/event/wycombe-environment-group-meeting-most-mondays-2-2-2-2-2-4-2-4-2-2-2-2-3-2-2-2-2-2-2-2/
END:VEVENT
BEGIN:VEVENT
DTSTART;TZID=Europe/London:20240807T133000
DTEND;TZID=Europe/London:20240807T163000
DTSTAMP:20260422T194041
CREATED:20220608T084910Z
LAST-MODIFIED:20240614T191032Z
UID:6719-1723037400-1723048200@www.wycombefoe.org.uk
SUMMARY:Scrapstore 'Refresh' EVERY WEDNESDAY
DESCRIPTION:Refresh Wycombe is a wonderful scrap store based in the Chiltern Shopping Centre\, right here in the heart of High Wycombe. Our aim is to encourage you to Reduce\, Reuse\, Recycle and Create. We have a huge selection of surplus and unwanted stock all donated by local businesses and individuals. You may be a crafter\, a teacher\, an artist or a maker. We have fantastic fabrics\, textiles\, haberdashery items\, cards\, papers\, foils\, and shelves full of materials just waiting for you to give it a second life and use it on your next project. We are open to everyone\, so come and visit us every Saturday between 10am and 4pm and Wednesday between 1:30pm and 4:30pm. We’re just next door to Primark inside the Chiltern Shopping Centre.\n\nPlease follow us on Social Media to get all the latest news.\nFacebook – Refreshwycombe\nInstagram – @refreshwycombe\nWebsite – www.refreshwycombe.org
URL:https://www.wycombefoe.org.uk/event/scrapstore-refresh-every-saturday-2-2-2-2-3-2-2-2-2-2-2-2-2-5-2-2-2-2-2-3-2-2-2-2-2-2/
LOCATION:Chilterns Shopping Centre\, Unit 8\, Chilterns Shopping Centre\, Frogmoor\, High Wycombe\, HP13 5ES\, United Kingdom
END:VEVENT
BEGIN:VEVENT
DTSTART;TZID=Europe/London:20240807T193000
DTEND;TZID=Europe/London:20240807T210000
DTSTAMP:20260422T194041
CREATED:20170129T143413Z
LAST-MODIFIED:20240613T173558Z
UID:6705-1723059000-1723064400@www.wycombefoe.org.uk
SUMMARY:Wycombe FoE Monthly Meeting
DESCRIPTION:Format of meeting (Zoom and/or Physical location).\nAgenda will be published a few days beforehand on our Home page – www.wycombefoe.org.uk. \nNon-members please email us at wycombefoe@yahoo.co.uk for a Zoom invitation.\nWe welcome new input and faces\, so let’s hear from you. \n 
URL:https://www.wycombefoe.org.uk/event/wycombe-friends-of-the-earth-monthly-meeting-23-6-2-2-2-3-3-2-3-2-2-2-2-2-2-2-2-2-2-2-2-2-3-3-2-2-2-2-2-3-2-2-2-2-2-2-2-2-2-2-2-2-2-2-4-2-2-2-2-2-2-2-2-2-3-2-2-2-2-2-3/
END:VEVENT
BEGIN:VEVENT
DTSTART;TZID=Europe/London:20240810T100000
DTEND;TZID=Europe/London:20240810T130000
DTSTAMP:20260422T194041
CREATED:20211004T140652Z
LAST-MODIFIED:20240805T161903Z
UID:6728-1723284000-1723294800@www.wycombefoe.org.uk
SUMMARY:Wycombe Repair Café (AUGUST SKIPPED)
DESCRIPTION:The Wycombe Repair Café is a project run by the charity Wycombe Environment Centre. The Repair Cafe is located in All Saints Parish Church in the centre of High Wycombe. Bring your broken household items (mechanical\, textile or small electrical) and we may be able to repair it. Either way\, there will be no charge (except if a new part is required)\, although any donations will be very welcome. \nEvery 2nd Saturday of the month\, in High Wycombe.\n(note also that there are other Repair Cafes nearby\, eg in Marlow and Hazlemere)
URL:https://www.wycombefoe.org.uk/event/repair-cafe-2-2-2-2-2-2-2-2-2-2-2-2-2-2-2-2-2-2-2-2-2-3-2-3-2-2-2-2-2-2-2-2-2-2/
LOCATION:Church Street\, Church Street\, High Wycombe\, HP11 2DE\, United Kingdom
END:VEVENT
BEGIN:VEVENT
DTSTART;VALUE=DATE:20240825
DTEND;VALUE=DATE:20240830
DTSTAMP:20260422T194041
CREATED:20210220T170813Z
LAST-MODIFIED:20240617T154443Z
UID:6730-1724544000-1724975999@www.wycombefoe.org.uk
SUMMARY:Water week (Conference)
DESCRIPTION:World Water Week is the leading conference on global water issues\, held every year since 1991. A non-profit event\, co-created with leading organizations\, World Water Week attracts a diverse mix of participants from many professional backgrounds and every corner of the world. Developing solutions to the world’s greatest water-related challenges\, with topics ranging from food security and health to agriculture\, technology\, biodiversity\, and the climate crisis.  \nStarting in 2nd half of August\, 5days. Worldwide.
URL:https://www.wycombefoe.org.uk/event/water-week-2-2-2/
END:VEVENT
END:VCALENDAR