BEGIN:VCALENDAR
VERSION:2.0
PRODID:-//Wycombe Friends of the Earth - ECPv6.15.17//NONSGML v1.0//EN
CALSCALE:GREGORIAN
METHOD:PUBLISH
X-ORIGINAL-URL:https://www.wycombefoe.org.uk
X-WR-CALDESC:Events for Wycombe Friends of the Earth
REFRESH-INTERVAL;VALUE=DURATION:PT1H
X-Robots-Tag:noindex
X-PUBLISHED-TTL:PT1H
BEGIN:VTIMEZONE
TZID:Europe/London
BEGIN:DAYLIGHT
TZOFFSETFROM:+0000
TZOFFSETTO:+0100
TZNAME:BST
DTSTART:20220327T010000
END:DAYLIGHT
BEGIN:STANDARD
TZOFFSETFROM:+0100
TZOFFSETTO:+0000
TZNAME:GMT
DTSTART:20221030T010000
END:STANDARD
BEGIN:DAYLIGHT
TZOFFSETFROM:+0000
TZOFFSETTO:+0100
TZNAME:BST
DTSTART:20230326T010000
END:DAYLIGHT
BEGIN:STANDARD
TZOFFSETFROM:+0100
TZOFFSETTO:+0000
TZNAME:GMT
DTSTART:20231029T010000
END:STANDARD
BEGIN:DAYLIGHT
TZOFFSETFROM:+0000
TZOFFSETTO:+0100
TZNAME:BST
DTSTART:20240331T010000
END:DAYLIGHT
BEGIN:STANDARD
TZOFFSETFROM:+0100
TZOFFSETTO:+0000
TZNAME:GMT
DTSTART:20241027T010000
END:STANDARD
END:VTIMEZONE
BEGIN:VEVENT
DTSTART;VALUE=DATE:20230501
DTEND;VALUE=DATE:20230502
DTSTAMP:20260423T210303
CREATED:20170301T100115Z
LAST-MODIFIED:20230303T205745Z
UID:5754-1682899200-1682985599@www.wycombefoe.org.uk
SUMMARY:OTHER ECO GROUPS & EVENTS
DESCRIPTION:Click links below… \nList of environmental events in the Wycombe area\nThis is a more detailed listing of individual events. It is a pinned post on the Facebook page of Wycombe Env Centre. \nList of environmental organisations in the Wycombe area\nAnother way to find out re events. Click on the link to the organisation’s website and search for ‘what’s on’\, events or similar.\n \n  \n 
URL:https://www.wycombefoe.org.uk/event/note-other-local-event-listings-10-2-2-8-4-2-3-2-2-2-2-2-2-2-2-2-2-3-2-2-2-2-2-2-2-2-2-2-2-2-2-2-2-2-2-2-2-2-2-2-2-2-2-2-2-2-2-2-2-2-2-2-2-2-2-2-2-2-2-2-2/
END:VEVENT
BEGIN:VEVENT
DTSTART;TZID=Europe/London:20230501T183000
DTEND;TZID=Europe/London:20230501T193000
DTSTAMP:20260423T210303
CREATED:20220608T085815Z
LAST-MODIFIED:20230303T205852Z
UID:5756-1682965800-1682969400@www.wycombefoe.org.uk
SUMMARY:'Wycombe Environment' group meeting (most Mondays)
DESCRIPTION:Wycombe Environment (WE) is part of the Environment and Climate Change sub-group of the High Wycombe Community Board – itself part of Buckinghamshire County Council. WE is not a forum for discussion\, but for action\, to cut carbon and boost biodiversity. It meets weekly for half an hour by Zoom on Mondays at 6.30 pm. If you would like to join\, please email hwcb@buckinghamshire.gov.uk\, with ‘WE’ in the subject line. \nIt was setup 10th Feb 2021. \n 
URL:https://www.wycombefoe.org.uk/event/wycombe-environment-group-meeting-most-mondays-2-2-2-2/
END:VEVENT
BEGIN:VEVENT
DTSTART;TZID=Europe/London:20230503T143000
DTEND;TZID=Europe/London:20230503T173000
DTSTAMP:20260423T210303
CREATED:20220608T084910Z
LAST-MODIFIED:20230405T154333Z
UID:5822-1683124200-1683135000@www.wycombefoe.org.uk
SUMMARY:Scrapstore 'Refresh' (EVERY Wednesday)
DESCRIPTION:The scrap store (Refresh) is run by Wycombe Environment Centre and is located in the Chiltern Shopping Centre (Frogmoor). \n(It ‘inherited’ stock from the old scrapstore Wycombe Resource Zone\, in Cressex\, which was run by the Council)
URL:https://www.wycombefoe.org.uk/event/scrapstore-refresh-every-saturday-2-2-2-2-3-2-2-2-2-2-2-2/
END:VEVENT
BEGIN:VEVENT
DTSTART;TZID=Europe/London:20230503T193000
DTEND;TZID=Europe/London:20230503T210000
DTSTAMP:20260423T210303
CREATED:20170129T143413Z
LAST-MODIFIED:20230303T210131Z
UID:5758-1683142200-1683147600@www.wycombefoe.org.uk
SUMMARY:Wycombe FoE Monthly Meeting
DESCRIPTION:Format of meeting (Zoom and/or Physical location).\nAgenda will be published a few days beforehand on our Home page – www.wycombefoe.org.uk. \nNonmembers please email us at wycombefoe@yahoo.co.uk for a Zoom invitation.\nWe welcome new input and faces\, so lets hear from you. \n 
URL:https://www.wycombefoe.org.uk/event/wycombe-friends-of-the-earth-monthly-meeting-23-6-2-2-2-3-3-2-3-2-2-2-2-2-2-2-2-2-2-2-2-2-3-3-2-2-2-2-2-3-2-2-2-2-2-2-2-2-2-2-2-2-2-2-4-2-2-2/
END:VEVENT
BEGIN:VEVENT
DTSTART;TZID=Europe/London:20230504T100000
DTEND;TZID=Europe/London:20230504T130000
DTSTAMP:20260423T210303
CREATED:20160409T161011Z
LAST-MODIFIED:20230303T210207Z
UID:5760-1683194400-1683205200@www.wycombefoe.org.uk
SUMMARY:Chiltern Rangers Conservation (most Thursdays - check website)
DESCRIPTION:Every Thursday the Chiltern Rangers run a volunteer conservation group which is open to all.\nCome along and meet the group at Wycombe Rye Lido Car Park and keep fit while helping to take care of your local environment at woodlands. \nTools\, gloves and hot drinks are provided. Please wear stout footwear and appropriate clothing suitable for outdoors activities and the weather. If you would like to get involved then please contact them –  info@chilternrangers.co.uk \nMore events are on their website. \n 
URL:https://www.wycombefoe.org.uk/event/conservation-volunteering-every-thursday-of-the-month-25-4-4-4-3-3-2-2-2-2-2-2-2-2-2-2-3-2-2-2-2-2-2-2-2-2-2-2-2-2-2-2-2-2-3-2-2-2-2-2-2-2-2-2/
LOCATION:Wycombe Lido Swimming pool\, The Rye \, HighWycombe\, United Kingdom
ORGANIZER;CN="Chiltern rangers":MAILTO:info@chilternrangers.co.uk
END:VEVENT
BEGIN:VEVENT
DTSTART;TZID=Europe/London:20230506T100000
DTEND;TZID=Europe/London:20230506T160000
DTSTAMP:20260423T210303
CREATED:20220608T084910Z
LAST-MODIFIED:20230303T210315Z
UID:5762-1683367200-1683388800@www.wycombefoe.org.uk
SUMMARY:Scrapstore 'Refresh' (EVERY Saturday)
DESCRIPTION:The scrap store (Refresh) is run by Wycombe Environment Centre and is located in the Chiltern Shopping Centre (Frogmoor). \n(It ‘inherited’ stock from the old scrapstore Wycombe Resource Zone\, in Cressex\, which was run by the Council)
URL:https://www.wycombefoe.org.uk/event/scrapstore-refresh-every-saturday-2-2-2-2-3-2-2-2-2/
END:VEVENT
BEGIN:VEVENT
DTSTART;VALUE=DATE:20230507
DTEND;VALUE=DATE:20230514
DTSTAMP:20260423T210303
CREATED:20170129T145017Z
LAST-MODIFIED:20230303T211925Z
UID:5767-1683417600-1684022399@www.wycombefoe.org.uk
SUMMARY:Compost awareness week
DESCRIPTION:Find out about the importance of composting and learn how to do it. \nFurther info at www.gardenorganic.org.uk\, or for international go www.compostfoundation.org/ICAW/ICAW-Home \nStarts every first Sunday of May\, till Saturday. Worldwide. \n 
URL:https://www.wycombefoe.org.uk/event/compost-awareness-week-2-2-2-2-2-2-2/
END:VEVENT
BEGIN:VEVENT
DTSTART;VALUE=DATE:20230513
DTEND;VALUE=DATE:20230514
DTSTAMP:20260423T210303
CREATED:20170129T145809Z
LAST-MODIFIED:20230303T222451Z
UID:5769-1683936000-1684022399@www.wycombefoe.org.uk
SUMMARY:World Fairtrade Day
DESCRIPTION:Fair Trade is an agent for change. It is a tangible solution to poverty eradication\, a good tool for sustainable development\, and most of all Fair Trade promotes social justice. \nContact High Wycombe Fairtrade group to find out if any events/stalls are happening in your area – www.wycombefairtrade.org.uk/ \nWorldwide. Every 2nd Saturday of May. \n 
URL:https://www.wycombefoe.org.uk/event/world-fairtrade-day-2-2-2-2-2-2-2/
END:VEVENT
BEGIN:VEVENT
DTSTART;TZID=Europe/London:20230513T100000
DTEND;TZID=Europe/London:20230513T130000
DTSTAMP:20260423T210303
CREATED:20211004T140652Z
LAST-MODIFIED:20230324T093542Z
UID:5764-1683972000-1683982800@www.wycombefoe.org.uk
SUMMARY:Wycombe Repair Café
DESCRIPTION:Wycombe Repair Café is run by volunteers and organised by Wycombe Environment. The Repair Café is located in All Saints Parish Church in the centre of High Wycombe. Bring your broken household items (mechanical\, textile or small electrical) and we may be able to repair it. Either way\, there will be no charge (except if a new part is required)\, although any donations will be very welcome. \nEvery 2nd Saturday of the month\, in High Wycombe.\n(note also that there are other Repair Cafes nearby\, eg in Marlow and Hazlemere)
URL:https://www.wycombefoe.org.uk/event/repair-cafe-2-2-2-2-2-2-2-2-2-2-2-2-2-2-2-2-2-2-2-2/
LOCATION:Church Street\, Church Street\, High Wycombe\, HP11 2DE\, United Kingdom
END:VEVENT
BEGIN:VEVENT
DTSTART;TZID=Europe/London:20230514T110000
DTEND;TZID=Europe/London:20230514T170000
DTSTAMP:20260423T210303
CREATED:20170129T151130Z
LAST-MODIFIED:20230220T214057Z
UID:5740-1684062000-1684083600@www.wycombefoe.org.uk
SUMMARY:Pann Mill Open day
DESCRIPTION:Enjoy a walk round the Rye and stop in on Pann Mill for cake/tea/coffee and view the variety of stands (books\, plants\, brick-a-brack\, charity groups etc). \nFlour made in Pann Mill is usually on sale (dependent on water levels). \nLikely environmental stalls: Wycombe Friends of the Earth and Revive the Wye. \nCoincides with the Sunday of National mills weekend (https://nationaltoday.com/national-mills-weekend).
URL:https://www.wycombefoe.org.uk/event/pann-mill-open-day-3-2-2-2-2-2/
LOCATION:Pann Mill\, The Rye (nr Busy Bees nursery)\, High Wycombe\, HP11 1BJ\, United Kingdom
END:VEVENT
BEGIN:VEVENT
DTSTART;VALUE=DATE:20230515
DTEND;VALUE=DATE:20230520
DTSTAMP:20260423T210303
CREATED:20160406T114605Z
LAST-MODIFIED:20230304T153954Z
UID:5774-1684108800-1684540799@www.wycombefoe.org.uk
SUMMARY:Walk to school week
DESCRIPTION:Join over a million pupils and their families to celebrate walking to school. \nChallenge everyone in your school to walk every day during Walk to School Week and make a real difference to your children’s happiness and wellbeing. \nUK. \nEvery 3rd Monday of May\, till Friday.
URL:https://www.wycombefoe.org.uk/event/walk-to-school-week-2-2-2-2-2-2/
END:VEVENT
BEGIN:VEVENT
DTSTART;VALUE=DATE:20230515
DTEND;VALUE=DATE:20230522
DTSTAMP:20260423T210303
CREATED:20160406T132935Z
LAST-MODIFIED:20230303T222723Z
UID:5771-1684108800-1684713599@www.wycombefoe.org.uk
SUMMARY:Vegetarian week
DESCRIPTION:What we eat has a huge impact on our environment. See website for further details/events. \nUK\, Every (2nd or) 3rd Monday in May\, to Sunday. \n 
URL:https://www.wycombefoe.org.uk/event/vegetarian-week-2-2-2-2-2-2/
END:VEVENT
BEGIN:VEVENT
DTSTART;VALUE=DATE:20230517
DTEND;VALUE=DATE:20230518
DTSTAMP:20260423T210303
CREATED:20160217T170728Z
LAST-MODIFIED:20230304T175044Z
UID:5776-1684281600-1684367999@www.wycombefoe.org.uk
SUMMARY:Anniversary of Environment Centre (2001)
DESCRIPTION:The Wycombe Environment Centre (on Holywell Mead near the Rye) was founded in 17 May 2001 by Frances Alexander and steering group. \nDue to financial constraints it has re-located a number of times e.g. to West Wycombe Rd and to Chilterns Shopping Centre (2014-2016). \nContact details on website www.ecobuzz.org.uk/contact\nor message them via Facebook – www.facebook.com/WycombeEnvironmentCentre \n 
URL:https://www.wycombefoe.org.uk/event/anniversary-of-wycombe-environment-centre-2003-2-2-2-2-2-2/
LOCATION:Wycombe Environment Centre\, Chilterns Shopping Centre\,\, High Wycombe\, HP13 5ES
END:VEVENT
BEGIN:VEVENT
DTSTART;VALUE=DATE:20230520
DTEND;VALUE=DATE:20230521
DTSTAMP:20260423T210303
CREATED:20210220T164813Z
LAST-MODIFIED:20230304T175232Z
UID:5778-1684540800-1684627199@www.wycombefoe.org.uk
SUMMARY:Bee day
DESCRIPTION:Bees and other pollinators\, such as butterflies\, bats and hummingbirds\, are increasingly under threat from human activities. \nPollination is\, however\, a fundamental process for the survival of our ecosystems. Nearly 90% of the world’s wild flowering plant species depend\, entirely\, or at least in part\, on animal pollination\, along with more than 75% of the world’s food crops and 35% of global agricultural land. Not only do pollinators contribute directly to food security\, but they are key to conserving biodiversity. \nEvery 20th May. Worldwide.
URL:https://www.wycombefoe.org.uk/event/bee-day-2-2/
END:VEVENT
BEGIN:VEVENT
DTSTART;VALUE=DATE:20230522
DTEND;VALUE=DATE:20230523
DTSTAMP:20260423T210303
CREATED:20170129T153226Z
LAST-MODIFIED:20230304T175329Z
UID:5780-1684713600-1684799999@www.wycombefoe.org.uk
SUMMARY:Biological diversity day
DESCRIPTION:The United Nations has proclaimed May 22 The International Day for Biological Diversity to increase understanding and awareness of biodiversity issues. \nEvery 22nd May. Worldwide
URL:https://www.wycombefoe.org.uk/event/biological-diversity-day-2-2-2-2-2/
END:VEVENT
BEGIN:VEVENT
DTSTART;TZID=Europe/London:20230528T110000
DTEND;TZID=Europe/London:20230528T200000
DTSTAMP:20260423T210303
CREATED:20230420T194917Z
LAST-MODIFIED:20230420T195526Z
UID:5898-1685271600-1685304000@www.wycombefoe.org.uk
SUMMARY:Refresh Scrapstore Stall (TBC) at Frog Fest
DESCRIPTION:The Refresh Scrapstore will be holding a stall at Frog Fest https://www.facebook.com/HelloMyWycombe\nMore info about the stall nearer the time.
URL:https://www.wycombefoe.org.uk/event/refresh-scrapstore-stall-tbc/
END:VEVENT
END:VCALENDAR