BEGIN:VCALENDAR
VERSION:2.0
PRODID:-//Wycombe Friends of the Earth - ECPv6.15.17//NONSGML v1.0//EN
CALSCALE:GREGORIAN
METHOD:PUBLISH
X-WR-CALNAME:Wycombe Friends of the Earth
X-ORIGINAL-URL:https://www.wycombefoe.org.uk
X-WR-CALDESC:Events for Wycombe Friends of the Earth
REFRESH-INTERVAL;VALUE=DURATION:PT1H
X-Robots-Tag:noindex
X-PUBLISHED-TTL:PT1H
BEGIN:VTIMEZONE
TZID:Europe/London
BEGIN:DAYLIGHT
TZOFFSETFROM:+0000
TZOFFSETTO:+0100
TZNAME:BST
DTSTART:20220327T010000
END:DAYLIGHT
BEGIN:STANDARD
TZOFFSETFROM:+0100
TZOFFSETTO:+0000
TZNAME:GMT
DTSTART:20221030T010000
END:STANDARD
BEGIN:DAYLIGHT
TZOFFSETFROM:+0000
TZOFFSETTO:+0100
TZNAME:BST
DTSTART:20230326T010000
END:DAYLIGHT
BEGIN:STANDARD
TZOFFSETFROM:+0100
TZOFFSETTO:+0000
TZNAME:GMT
DTSTART:20231029T010000
END:STANDARD
BEGIN:DAYLIGHT
TZOFFSETFROM:+0000
TZOFFSETTO:+0100
TZNAME:BST
DTSTART:20240331T010000
END:DAYLIGHT
BEGIN:STANDARD
TZOFFSETFROM:+0100
TZOFFSETTO:+0000
TZNAME:GMT
DTSTART:20241027T010000
END:STANDARD
END:VTIMEZONE
BEGIN:VEVENT
DTSTART;VALUE=DATE:20230401
DTEND;VALUE=DATE:20230402
DTSTAMP:20260423T224237
CREATED:20170301T100115Z
LAST-MODIFIED:20230203T201738Z
UID:5721-1680307200-1680393599@www.wycombefoe.org.uk
SUMMARY:OTHER ECO GROUPS & EVENTS
DESCRIPTION:Click links below… \nList of environmental events in the Wycombe area\nThis is a more detailed listing of individual events. It is a pinned post on the Facebook page of Wycombe Env Centre. \nList of environmental organisations in the Wycombe area\nAnother way to find out re events. Click on the link to the organisation’s website and search for ‘what’s on’\, events or similar.\n \n  \n 
URL:https://www.wycombefoe.org.uk/event/note-other-local-event-listings-10-2-2-8-4-2-3-2-2-2-2-2-2-2-2-2-2-3-2-2-2-2-2-2-2-2-2-2-2-2-2-2-2-2-2-2-2-2-2-2-2-2-2-2-2-2-2-2-2-2-2-2-2-2-2-2-2-2-2-2/
END:VEVENT
BEGIN:VEVENT
DTSTART;TZID=Europe/London:20230401T100000
DTEND;TZID=Europe/London:20230401T160000
DTSTAMP:20260423T224237
CREATED:20220608T084910Z
LAST-MODIFIED:20230204T152110Z
UID:5735-1680343200-1680364800@www.wycombefoe.org.uk
SUMMARY:Scrapstore 'Refresh' (EVERY Saturday)
DESCRIPTION:The scrap store (Refresh) is run by Wycombe Environment Centre and is located in the Chiltern Shopping Centre (Frogmoor). \n(It ‘inherited’ stock from the old scrapstore Wycombe Resource Zone\, in Cressex\, which was run by the Council)
URL:https://www.wycombefoe.org.uk/event/scrapstore-refresh-every-saturday-2-2-2-2-3-2-2-2/
END:VEVENT
BEGIN:VEVENT
DTSTART;TZID=Europe/London:20230403T080000
DTEND;TZID=Europe/London:20230403T170000
DTSTAMP:20260423T224237
CREATED:20220608T085815Z
LAST-MODIFIED:20230204T125809Z
UID:5723-1680508800-1680541200@www.wycombefoe.org.uk
SUMMARY:'Wycombe Environment' group meeting (most Mondays)
DESCRIPTION:Wycombe Environment (WE) is part of the Environment and Climate Change sub-group of the High Wycombe Community Board – itself part of Buckinghamshire County Council. WE is not a forum for discussion\, but for action\, to cut carbon and boost biodiversity. It meets weekly for half an hour by Zoom on Mondays at 6.30 pm. If you would like to join\, please email hwcb@buckinghamshire.gov.uk\, with ‘WE’ in the subject line. \nIt was setup 10th Feb 2021. \n 
URL:https://www.wycombefoe.org.uk/event/wycombe-environment-group-meeting-most-mondays-2-2-2/
END:VEVENT
BEGIN:VEVENT
DTSTART;TZID=Europe/London:20230405T143000
DTEND;TZID=Europe/London:20230405T173000
DTSTAMP:20260423T224237
CREATED:20220608T084910Z
LAST-MODIFIED:20230405T154215Z
UID:5820-1680705000-1680715800@www.wycombefoe.org.uk
SUMMARY:Scrapstore 'Refresh' (EVERY Wednesday)
DESCRIPTION:The scrap store (Refresh) is run by Wycombe Environment Centre and is located in the Chiltern Shopping Centre (Frogmoor). \n(It ‘inherited’ stock from the old scrapstore Wycombe Resource Zone\, in Cressex\, which was run by the Council)
URL:https://www.wycombefoe.org.uk/event/scrapstore-refresh-every-saturday-2-2-2-2-3-2-2-2-2-2-2/
END:VEVENT
BEGIN:VEVENT
DTSTART;TZID=Europe/London:20230405T193000
DTEND;TZID=Europe/London:20230405T210000
DTSTAMP:20260423T224237
CREATED:20170129T143413Z
LAST-MODIFIED:20230204T130046Z
UID:5725-1680723000-1680728400@www.wycombefoe.org.uk
SUMMARY:Wycombe FoE Monthly Meeting
DESCRIPTION:Format of meeting (Zoom and/or Physical location).\nAgenda will be published a few days beforehand on our Home page – www.wycombefoe.org.uk. \nNonmembers please email us at wycombefoe@yahoo.co.uk for a Zoom invitation.\nWe welcome new input and faces\, so lets hear from you. \n 
URL:https://www.wycombefoe.org.uk/event/wycombe-friends-of-the-earth-monthly-meeting-23-6-2-2-2-3-3-2-3-2-2-2-2-2-2-2-2-2-2-2-2-2-3-3-2-2-2-2-2-3-2-2-2-2-2-2-2-2-2-2-2-2-2-2-4-2-2/
END:VEVENT
BEGIN:VEVENT
DTSTART;TZID=Europe/London:20230406T100000
DTEND;TZID=Europe/London:20230406T130000
DTSTAMP:20260423T224237
CREATED:20160409T161011Z
LAST-MODIFIED:20230204T130141Z
UID:5729-1680775200-1680786000@www.wycombefoe.org.uk
SUMMARY:Chiltern Rangers Conservation (most Thursdays - check website)
DESCRIPTION:Every Thursday the Chiltern Rangers run a volunteer conservation group which is open to all.\nCome along and meet the group at Wycombe Rye Lido Car Park and keep fit while helping to take care of your local environment at woodlands. \nTools\, gloves and hot drinks are provided. Please wear stout footwear and appropriate clothing suitable for outdoors activities and the weather. If you would like to get involved then please contact them –  info@chilternrangers.co.uk \nMore events are on their website. \n 
URL:https://www.wycombefoe.org.uk/event/conservation-volunteering-every-thursday-of-the-month-25-4-4-4-3-3-2-2-2-2-2-2-2-2-2-2-3-2-2-2-2-2-2-2-2-2-2-2-2-2-2-2-2-2-3-2-2-2-2-2-2-2-2/
LOCATION:Wycombe Lido Swimming pool\, The Rye \, HighWycombe\, United Kingdom
ORGANIZER;CN="Chiltern rangers":MAILTO:info@chilternrangers.co.uk
END:VEVENT
BEGIN:VEVENT
DTSTART;TZID=Europe/London:20230408T100000
DTEND;TZID=Europe/London:20230408T130000
DTSTAMP:20260423T224237
CREATED:20211004T140652Z
LAST-MODIFIED:20230324T092923Z
UID:5731-1680948000-1680958800@www.wycombefoe.org.uk
SUMMARY:Wycombe Repair Café (cancelled due to Easter)
DESCRIPTION:A Repair Café\, run by volunteers and organised by Wycombe Environment\, is operating in High Wycombe (All Saints Parish Church in the centre of High Wycombe). Bring your broken household items (mechanical\, textile or small electrical) and you may be able to get them repaired. There will be no charge (except if a new part is required)\, although any donations will be very welcome. \nUsually every 2nd Saturday of the month\, in High Wycombe.\n(note also that there are other Repair Cafes nearby\, eg in Marlow and Hazlemere)
URL:https://www.wycombefoe.org.uk/event/repair-cafe-2-2-2-2-2-2-2-2-2-2-2-2-2-2-2-2-2-2-2/
LOCATION:Church Street\, Church Street\, High Wycombe\, HP11 2DE\, United Kingdom
END:VEVENT
BEGIN:VEVENT
DTSTART;VALUE=DATE:20230422
DTEND;VALUE=DATE:20230423
DTSTAMP:20260423T224237
CREATED:20161207T163635Z
LAST-MODIFIED:20230204T130335Z
UID:5733-1682121600-1682207999@www.wycombefoe.org.uk
SUMMARY:Earth Day
DESCRIPTION:Celebrate our planet. Find an event near you. \nOrganised by Earth Day Network. \n“Now is the time for the unstoppable courage to preserve and protect our health\, our families\, our livelihoods… together\, we must Invest In Our Planet. Because a green future is a prosperous future. We need to act (boldly)\, innovate (broadly)\, and implement (equitably). It’s going to take all of us. All in. Businesses\, governments\, and citizens — everyone accounted for\, and everyone accountable.” \nWorldwide. Every 22nd April.
URL:https://www.wycombefoe.org.uk/event/earth-day-2-2-2-2-2-2-2/
CATEGORIES:Uptodate for 2019
END:VEVENT
END:VCALENDAR