BEGIN:VCALENDAR
VERSION:2.0
PRODID:-//Wycombe Friends of the Earth - ECPv6.15.17//NONSGML v1.0//EN
CALSCALE:GREGORIAN
METHOD:PUBLISH
X-ORIGINAL-URL:https://www.wycombefoe.org.uk
X-WR-CALDESC:Events for Wycombe Friends of the Earth
REFRESH-INTERVAL;VALUE=DURATION:PT1H
X-Robots-Tag:noindex
X-PUBLISHED-TTL:PT1H
BEGIN:VTIMEZONE
TZID:Europe/London
BEGIN:DAYLIGHT
TZOFFSETFROM:+0000
TZOFFSETTO:+0100
TZNAME:BST
DTSTART:20190331T010000
END:DAYLIGHT
BEGIN:STANDARD
TZOFFSETFROM:+0100
TZOFFSETTO:+0000
TZNAME:GMT
DTSTART:20191027T010000
END:STANDARD
BEGIN:DAYLIGHT
TZOFFSETFROM:+0000
TZOFFSETTO:+0100
TZNAME:BST
DTSTART:20200329T010000
END:DAYLIGHT
BEGIN:STANDARD
TZOFFSETFROM:+0100
TZOFFSETTO:+0000
TZNAME:GMT
DTSTART:20201025T010000
END:STANDARD
BEGIN:DAYLIGHT
TZOFFSETFROM:+0000
TZOFFSETTO:+0100
TZNAME:BST
DTSTART:20210328T010000
END:DAYLIGHT
BEGIN:STANDARD
TZOFFSETFROM:+0100
TZOFFSETTO:+0000
TZNAME:GMT
DTSTART:20211031T010000
END:STANDARD
END:VTIMEZONE
BEGIN:VEVENT
DTSTART;VALUE=DATE:20200401
DTEND;VALUE=DATE:20200402
DTSTAMP:20260423T170845
CREATED:20170301T100115Z
LAST-MODIFIED:20200302T102507Z
UID:4328-1585699200-1585785599@www.wycombefoe.org.uk
SUMMARY:OTHER ECO EVENTS & GROUPS
DESCRIPTION:Note for using this calendar: \nSome local environmental organisations list their own events. \nClick on the link to their websites below and search for ‘what’s on’ or ‘events’: \nChiltern Rangers \nChinnor and Thame Friends of the Earth \nExtinction Rebellion Chilterns \nHigh Wycombe Beekeepers \nHigh Wycombe & Marlow Vegans \nPopulation Matters High Wycombe \nRevive the Wye \nWycombe for Climate Action \nWycombe Environment Centre \nWycombe Wildlife Group \nSee also… \nFood shops and markets selling LOCAL produce \nFriends of the Earth (London) \nMarlow Repair Cafe (March\, June and Sept) \nPopulation Matters (London) \nTen Mile Menu (local vegbox delivery)
URL:https://www.wycombefoe.org.uk/event/note-other-local-event-listings-10-2-2-8-4-2-3-2-2-2-2-2-2-2-2-2-2-3-2-2-2-2-2-2-2-2/
END:VEVENT
BEGIN:VEVENT
DTSTART;TZID=Europe/London:20200401T193000
DTEND;TZID=Europe/London:20200401T213000
DTSTAMP:20260423T170845
CREATED:20170129T143413Z
LAST-MODIFIED:20200317T204840Z
UID:4330-1585769400-1585776600@www.wycombefoe.org.uk
SUMMARY:Wycombe FoE Monthly Meeting (CANCELLED)
DESCRIPTION:Meeting cancelled due to Corona virus. \nEmail us at  wycombefoe@yahoo.co.uk for more info. \n 
URL:https://www.wycombefoe.org.uk/event/wycombe-friends-of-the-earth-monthly-meeting-23-6-2-2-2-3-3-2-3-2-2-2-2-2-2-2-2/
LOCATION:Quaker Meeting House\, 25 London Road\, High Wycombe\, HP11 1BJ\, United Kingdom
END:VEVENT
BEGIN:VEVENT
DTSTART;TZID=Europe/London:20200402T100000
DTEND;TZID=Europe/London:20200402T130000
DTSTAMP:20260423T170845
CREATED:20160409T161011Z
LAST-MODIFIED:20200318T223901Z
UID:4332-1585821600-1585832400@www.wycombefoe.org.uk
SUMMARY:Conservation volunteering - CANCELLED for April
DESCRIPTION:Every Thursday the Chiltern Rangers run a volunteer conservation group which is open to all.\nCome along and meet the group at Wycombe Rye Lido Car Park and keep fit while helping to take care of your local environment at woodlands. \nTools\, gloves and hot drinks are provided. Please wear stout footwear and appropriate clothing suitable for outdoors activities and the weather. If you would like to get involved then please contact us – info@chilternrangers.co.uk \nMore events are on their website. \n 
URL:https://www.wycombefoe.org.uk/event/conservation-volunteering-every-thursday-of-the-month-25-4-4-4-3-3-2-2-2-2-2-2-2-2-2-2-3-2-2-2/
LOCATION:Wycombe Lido Swimming pool\, The Rye \, HighWycombe\, United Kingdom
ORGANIZER;CN="Chiltern rangers":MAILTO:info@chilternrangers.co.uk
END:VEVENT
BEGIN:VEVENT
DTSTART;VALUE=DATE:20200422
DTEND;VALUE=DATE:20200423
DTSTAMP:20260423T170845
CREATED:20161207T163635Z
LAST-MODIFIED:20200302T103558Z
UID:4336-1587513600-1587599999@www.wycombefoe.org.uk
SUMMARY:Earth Day (50th anniversary)
DESCRIPTION:Celebrate our planet. Find an event near you. \nOrganised by Earth Day Network. \nWorldwide. \nEvery 22nd April.
URL:https://www.wycombefoe.org.uk/event/earth-day-2-2-2-2/
CATEGORIES:Uptodate for 2019
END:VEVENT
BEGIN:VEVENT
DTSTART;TZID=Europe/London:20200429T193000
DTEND;TZID=Europe/London:20200429T203000
DTSTAMP:20260423T170845
CREATED:20170301T102403Z
LAST-MODIFIED:20200318T223610Z
UID:4334-1588188600-1588192200@www.wycombefoe.org.uk
SUMMARY:Low Carbon Chilterns AGM (to be held online)
DESCRIPTION:Annual General Meeting of the Low Carbon Chilterns Cooperative. \n 
URL:https://www.wycombefoe.org.uk/event/low-carbon-chilterns-agm-2-2-2-2/
LOCATION:Quaker Meeting House\, 25 London Road\, High Wycombe\, HP11 1BJ\, United Kingdom
ORGANIZER;CN="Low Carbon Chilterns Cooperative":MAILTO:hello@lowcarbonchilterns.org
END:VEVENT
END:VCALENDAR