BEGIN:VCALENDAR
VERSION:2.0
PRODID:-//Wycombe Friends of the Earth - ECPv6.15.17//NONSGML v1.0//EN
CALSCALE:GREGORIAN
METHOD:PUBLISH
X-WR-CALNAME:Wycombe Friends of the Earth
X-ORIGINAL-URL:https://www.wycombefoe.org.uk
X-WR-CALDESC:Events for Wycombe Friends of the Earth
REFRESH-INTERVAL;VALUE=DURATION:PT1H
X-Robots-Tag:noindex
X-PUBLISHED-TTL:PT1H
BEGIN:VTIMEZONE
TZID:Europe/London
BEGIN:DAYLIGHT
TZOFFSETFROM:+0000
TZOFFSETTO:+0100
TZNAME:BST
DTSTART:20190331T010000
END:DAYLIGHT
BEGIN:STANDARD
TZOFFSETFROM:+0100
TZOFFSETTO:+0000
TZNAME:GMT
DTSTART:20191027T010000
END:STANDARD
BEGIN:DAYLIGHT
TZOFFSETFROM:+0000
TZOFFSETTO:+0100
TZNAME:BST
DTSTART:20200329T010000
END:DAYLIGHT
BEGIN:STANDARD
TZOFFSETFROM:+0100
TZOFFSETTO:+0000
TZNAME:GMT
DTSTART:20201025T010000
END:STANDARD
BEGIN:DAYLIGHT
TZOFFSETFROM:+0000
TZOFFSETTO:+0100
TZNAME:BST
DTSTART:20210328T010000
END:DAYLIGHT
BEGIN:STANDARD
TZOFFSETFROM:+0100
TZOFFSETTO:+0000
TZNAME:GMT
DTSTART:20211031T010000
END:STANDARD
END:VTIMEZONE
BEGIN:VEVENT
DTSTART;VALUE=DATE:20200101
DTEND;VALUE=DATE:20200102
DTSTAMP:20260423T081209
CREATED:20170301T100115Z
LAST-MODIFIED:20191204T150952Z
UID:4202-1577836800-1577923199@www.wycombefoe.org.uk
SUMMARY:OTHER ECO EVENTS & GROUPS
DESCRIPTION:Note for using this calendar: \nSome local environmental organisations list their own events. \nClick on the link to their websites below and search for ‘what’s on’ or ‘events’: \nChiltern Rangers \nChinnor and Thame Friends of the Earth \nExtinction Rebellion Marlow \nHigh Wycombe Beekeepers \nHigh Wycombe & Marlow Vegans \nMarlow in Transition \nPopulation Matters High Wycombe \nRevive the Wye \nWycombe for Climate Action \nWycombe Environment Centre \nWycombe Wildlife Group \nSee also… \nFill Food (local eco deliveries) \nFood shops and markets selling LOCAL produce \nFriends of the Earth (London) \nHOPE  (online eco shop) \nMarlow Repair Cafe (March\, June and Sept) \nPopulation Matters (London) \nTen Mile Menu (local vegbox delivery)
URL:https://www.wycombefoe.org.uk/event/note-other-local-event-listings-10-2-2-8-4-2-3-2-2-2-2-2-2-2-2-2-2-3-2-2-2-2/
END:VEVENT
BEGIN:VEVENT
DTSTART;TZID=Europe/London:20200101T080000
DTEND;TZID=Europe/London:20200101T170000
DTSTAMP:20260423T081209
CREATED:20191027T175824Z
LAST-MODIFIED:20191112T132302Z
UID:4162-1577865600-1577898000@www.wycombefoe.org.uk
SUMMARY:No Wycombe FoE meeting (moved to Wedn 15th Jan)
DESCRIPTION:
URL:https://www.wycombefoe.org.uk/event/no-wycombe-foe-meeting-moved-to-wedn-8th-jan-but-tbc/
END:VEVENT
BEGIN:VEVENT
DTSTART;TZID=Europe/London:20200102T100000
DTEND;TZID=Europe/London:20200102T130000
DTSTAMP:20260423T081209
CREATED:20160409T161011Z
LAST-MODIFIED:20191028T151639Z
UID:4168-1577959200-1577970000@www.wycombefoe.org.uk
SUMMARY:Conservation volunteering - EVERY Thursday of the month
DESCRIPTION:Every Thursday the Chiltern Rangers run a volunteer conservation group which is open to all. Come along and meet the group at Wycombe Rye Lido Car Park and keep fit while helping to take care of your local environment at woodlands. \nTools\, gloves and hot drinks are provided. Please wear stout footwear and appropriate clothing suitable for outdoors activities and the weather. If you would like to get involved then please contact us – info@chilternrangers.co.uk \nMore events are on their website. \n 
URL:https://www.wycombefoe.org.uk/event/conservation-volunteering-every-thursday-of-the-month-25-4-4-4-3-3-2-2-2-2-2-2-2-2-2-2-3/
LOCATION:Wycombe Lido Swimming pool\, The Rye \, HighWycombe\, United Kingdom
ORGANIZER;CN="Chiltern rangers":MAILTO:info@chilternrangers.co.uk
END:VEVENT
BEGIN:VEVENT
DTSTART;TZID=Europe/London:20200109T193000
DTEND;TZID=Europe/London:20200109T223000
DTSTAMP:20260423T081209
CREATED:20191219T193332Z
LAST-MODIFIED:20191219T193744Z
UID:4235-1578598200-1578609000@www.wycombefoe.org.uk
SUMMARY:Wycombe FoE social (the big one)
DESCRIPTION:If you are concerned about climate change and would like to discuss in a friendly informal atmosphere\, then join us at the Falcon pub in High St.
URL:https://www.wycombefoe.org.uk/event/wycombe-foe-social-2019-all-welcome/
LOCATION:Falcon pub\, 9 Cornmarket\, High Wycombe\, HP11 2AX\, United Kingdom
ORGANIZER;CN="Wycombe Friends of the Earth":MAILTO:wycombefoe@yahoo.co.uk
END:VEVENT
BEGIN:VEVENT
DTSTART;TZID=Europe/London:20200115T193000
DTEND;TZID=Europe/London:20200115T213000
DTSTAMP:20260423T081209
CREATED:20170129T143413Z
LAST-MODIFIED:20191112T132201Z
UID:4160-1579116600-1579123800@www.wycombefoe.org.uk
SUMMARY:Wycombe FoE Monthly Meeting
DESCRIPTION:Meeting moved from Wedn 1st Jan to Wedn 15th Jan. \nEveryone is welcome to come along to chat about local environmental matters. We have ongoing campaigns such as tackling climate change\, reducing plastic waste and improving local air quality. \nBus stop is also right next to the church. \nEasy parking (free from 7pm) is available at the car park next to Trinity United Reformed Church (only 5min walk to the meeting venue). \nEmail us at  wycombefoe@yahoo.co.uk for more info. \n 
URL:https://www.wycombefoe.org.uk/event/wycombe-friends-of-the-earth-monthly-meeting-23-6-2-2-2-3-3-2-3-2-2-2-2-2/
LOCATION:Quaker Meeting House\, 25 London Road\, High Wycombe\, HP11 1BJ\, United Kingdom
END:VEVENT
END:VCALENDAR