BEGIN:VCALENDAR
VERSION:2.0
PRODID:-//Wycombe Friends of the Earth - ECPv6.15.17//NONSGML v1.0//EN
CALSCALE:GREGORIAN
METHOD:PUBLISH
X-ORIGINAL-URL:https://www.wycombefoe.org.uk
X-WR-CALDESC:Events for Wycombe Friends of the Earth
REFRESH-INTERVAL;VALUE=DURATION:PT1H
X-Robots-Tag:noindex
X-PUBLISHED-TTL:PT1H
BEGIN:VTIMEZONE
TZID:Europe/London
BEGIN:DAYLIGHT
TZOFFSETFROM:+0000
TZOFFSETTO:+0100
TZNAME:BST
DTSTART:20180325T010000
END:DAYLIGHT
BEGIN:STANDARD
TZOFFSETFROM:+0100
TZOFFSETTO:+0000
TZNAME:GMT
DTSTART:20181028T010000
END:STANDARD
BEGIN:DAYLIGHT
TZOFFSETFROM:+0000
TZOFFSETTO:+0100
TZNAME:BST
DTSTART:20190331T010000
END:DAYLIGHT
BEGIN:STANDARD
TZOFFSETFROM:+0100
TZOFFSETTO:+0000
TZNAME:GMT
DTSTART:20191027T010000
END:STANDARD
BEGIN:DAYLIGHT
TZOFFSETFROM:+0000
TZOFFSETTO:+0100
TZNAME:BST
DTSTART:20200329T010000
END:DAYLIGHT
BEGIN:STANDARD
TZOFFSETFROM:+0100
TZOFFSETTO:+0000
TZNAME:GMT
DTSTART:20201025T010000
END:STANDARD
END:VTIMEZONE
BEGIN:VEVENT
DTSTART;VALUE=DATE:20190501
DTEND;VALUE=DATE:20190502
DTSTAMP:20260422T150909
CREATED:20170301T100115Z
LAST-MODIFIED:20190331T164649Z
UID:3867-1556668800-1556755199@www.wycombefoe.org.uk
SUMMARY:OTHER LOCAL ECO EVENTS
DESCRIPTION:Note for using this calendar. \nSome local environmental organisations list their own events. \nClick on the link to their websites below and search for ‘what’s on’ or ‘events’: \nChiltern Rangers \nChinnor and Thame Friends of the Earth \nExtinction Rebellion Marlow \nHigh Wycombe Beekeepers \nMarlow in Transition \nPopulation Matters High Wycombe \nRevive the Wye \nWycombe Environment Centre \nWycombe Wildlife Group \nAnd see… \nMarlow Repair Cafe \nFood shops and markets selling LOCAL produce \nFriends of the Earth (London) \nPopulation Matters (London)
URL:https://www.wycombefoe.org.uk/event/note-other-local-event-listings-10-2-2-8-4-2-3-2-2-2-2-2-2-2-2/
END:VEVENT
BEGIN:VEVENT
DTSTART;TZID=Europe/London:20190501T193000
DTEND;TZID=Europe/London:20190501T213000
DTSTAMP:20260422T150909
CREATED:20170129T143413Z
LAST-MODIFIED:20190316T123829Z
UID:3719-1556739000-1556746200@www.wycombefoe.org.uk
SUMMARY:Wycombe Friends of the Earth - Monthly Meeting
DESCRIPTION:Everyone is welcome to come along to chat about local environmental matters. We have ongoing campaigns such as reducing plastic waste\, improving local air quality\, looking after our bees etc). \nEasy parking (free from 7pm) is available at the car park next to Trinity Reformed Church (only 5min walk to the meeting venue). \nBus stop is also right next to the church as well. \nEmail us at  wycombefoe@yahoo.co.uk for more info. \n 
URL:https://www.wycombefoe.org.uk/event/wycombe-friends-of-the-earth-monthly-meeting-23-6-2-2-2-3-3-2/
LOCATION:Quaker Meeting House\, 25 London Road\, High Wycombe\, HP11 1BJ\, United Kingdom
END:VEVENT
BEGIN:VEVENT
DTSTART;TZID=Europe/London:20190502T100000
DTEND;TZID=Europe/London:20190502T130000
DTSTAMP:20260422T150909
CREATED:20160409T161011Z
LAST-MODIFIED:20190331T201128Z
UID:3869-1556791200-1556802000@www.wycombefoe.org.uk
SUMMARY:Conservation volunteering - EVERY Thursday of the month
DESCRIPTION:Every Thursday the Chiltern Rangers run a volunteer conservation group which is open to all. Come along and meet the group at Wycombe Rye Lido Car Park and keep fit while helping to take care of your local environment at woodlands. \nTools\, gloves and hot drinks are provided. Please wear stout footwear and appropriate clothing suitable for outdoors activities and the weather. If you would like to get involved then please contact us. \ninfo@chilternrangers.co.uk \nMore events on their website. \n 
URL:https://www.wycombefoe.org.uk/event/conservation-volunteering-every-thursday-of-the-month-25-4-4-4-3-3-2-2-2-2/
LOCATION:Wycombe Lido Swimming pool\, The Rye \, HighWycombe\, United Kingdom
ORGANIZER;CN="Chiltern rangers":MAILTO:info@chilternrangers.co.uk
END:VEVENT
BEGIN:VEVENT
DTSTART;VALUE=DATE:20190505
DTEND;VALUE=DATE:20190512
DTSTAMP:20260422T150909
CREATED:20170129T145017Z
LAST-MODIFIED:20190402T153623Z
UID:3871-1557014400-1557619199@www.wycombefoe.org.uk
SUMMARY:Compost awareness week
DESCRIPTION:Find out about the importance of composting and learn how to do it. \nFurther info: www.homecomposting.org.uk and www.gardenorganic.org.uk. \nWorldwide. \nStarts every first Sunday of May\, till Saturday \n 
URL:https://www.wycombefoe.org.uk/event/compost-awareness-week-2-2-2/
END:VEVENT
BEGIN:VEVENT
DTSTART;VALUE=DATE:20190511
DTEND;VALUE=DATE:20190512
DTSTAMP:20260422T150909
CREATED:20170129T145809Z
LAST-MODIFIED:20190402T154058Z
UID:3874-1557532800-1557619199@www.wycombefoe.org.uk
SUMMARY:World Fairtrade Day
DESCRIPTION:Fair Trade is an agent for change. It is a tangible solution to poverty eradication\, a good tool for sustainable development\, and most of all Fair Trade promotes social justice. \nContact High Wycombe Fairtrade group to find out if any events/stalls are happening in your area – www.wycombefairtrade.org.uk/ \nWorldwide. Every 2nd Saturday of May. \n 
URL:https://www.wycombefoe.org.uk/event/world-fairtrade-day-2-2-2/
END:VEVENT
BEGIN:VEVENT
DTSTART;TZID=Europe/London:20190512T110000
DTEND;TZID=Europe/London:20190512T170000
DTSTAMP:20260422T150909
CREATED:20170129T151130Z
LAST-MODIFIED:20190402T154349Z
UID:3876-1557658800-1557680400@www.wycombefoe.org.uk
SUMMARY:Pann Mill Open day
DESCRIPTION:Enjoy a walk round the Rye and stop in on Pann Mill for cake/tea/coffee and view the variety of stands (books\, plants\, brick-a-brack\, charity groups etc). \nFlour made in Pann Mill is usually on sale (dependent on water levels). \nLikely environmental stalls: Wycombe Friends of the Earth and Revive the Wye. \nCoincides with the Sunday of National mills weekend.
URL:https://www.wycombefoe.org.uk/event/pann-mill-open-day-3-2-2/
LOCATION:Pann Mill\, The Rye (nr Busy Bees nursery)\, High Wycombe\, HP11 1BJ\, United Kingdom
END:VEVENT
BEGIN:VEVENT
DTSTART;VALUE=DATE:20190513
DTEND;VALUE=DATE:20190520
DTSTAMP:20260422T150909
CREATED:20160406T132935Z
LAST-MODIFIED:20190402T154938Z
UID:3878-1557705600-1558310399@www.wycombefoe.org.uk
SUMMARY:Vegetarian week
DESCRIPTION:What we eat has a huge impact on our environment and our health. See website for further details/events. \nUK \nEvery 2nd or 3rd Monday in May\, to Sunday. \n 
URL:https://www.wycombefoe.org.uk/event/vegetarian-week-2-2/
END:VEVENT
BEGIN:VEVENT
DTSTART;VALUE=DATE:20190517
DTEND;VALUE=DATE:20190518
DTSTAMP:20260422T150909
CREATED:20160217T170728Z
LAST-MODIFIED:20190402T155100Z
UID:3881-1558051200-1558137599@www.wycombefoe.org.uk
SUMMARY:Anniversary of Environment Centre (2001)
DESCRIPTION:The Wycombe Environment Centre (on Hollywell Mead near the Rye) was founded in 17 May 2001 by Frances Alexander. \nDue to financial constraints it has re-located a number of times e.g. to West Wycombe Rd and to Chilterns Shopping Centre (2014-2016). \nContact details and visiting times on website: www.ecobuzz.org.uk/contact. \nThey also have a lively Facebook page – www.facebook.com/WycombeEnvironmentCentre \n 
URL:https://www.wycombefoe.org.uk/event/anniversary-of-wycombe-environment-centre-2003-2-2/
LOCATION:Wycombe Environment Centre\, Chilterns Shopping Centre\,\, High Wycombe\, HP13 5ES
END:VEVENT
BEGIN:VEVENT
DTSTART;VALUE=DATE:20190520
DTEND;VALUE=DATE:20190525
DTSTAMP:20260422T150909
CREATED:20160406T114605Z
LAST-MODIFIED:20190402T155418Z
UID:3883-1558310400-1558742399@www.wycombefoe.org.uk
SUMMARY:Walk to school week
DESCRIPTION:Join over a million pupils and their families to celebrate walking to school. \nChallenge everyone in your school to walk every day during Walk to School Week and make a real difference to your children’s happiness and wellbeing. \nUK. \nEvery 3rd Monday of May\, till Friday.
URL:https://www.wycombefoe.org.uk/event/walk-to-school-week-2-2/
END:VEVENT
BEGIN:VEVENT
DTSTART;TZID=Europe/London:20190520T190000
DTEND;TZID=Europe/London:20190520T213000
DTSTAMP:20260422T150909
CREATED:20190428T171526Z
LAST-MODIFIED:20190428T171724Z
UID:3894-1558378800-1558387800@www.wycombefoe.org.uk
SUMMARY:Talk by 'Wycombe for Fairtrade'
DESCRIPTION:To mark World Fair Trade Day 2019\, Louise Whitaker\, the Group Sustainability Manager from Bewley’s\, a UK wholesaler\, will be giving a presentation about Fairtrade and its economic\, sustainability\, environmental\, and social effects on communities in the Global South. There will be time for questions and discussion after her talk. \n 
URL:https://www.wycombefoe.org.uk/event/talk-by-wycombe-for-fairtrade/
LOCATION:Wrights Meadow Centre\, Wrights Meadow Road\, High Wycombe\, Buckinghamshire\, HP11 1SQ\, United Kingdom
ORGANIZER;CN="Wycombe for Fairtrade":MAILTO:kingm5@sky.com
END:VEVENT
END:VCALENDAR