BEGIN:VCALENDAR
VERSION:2.0
PRODID:-//Wycombe Friends of the Earth - ECPv6.15.17//NONSGML v1.0//EN
CALSCALE:GREGORIAN
METHOD:PUBLISH
X-WR-CALNAME:Wycombe Friends of the Earth
X-ORIGINAL-URL:https://www.wycombefoe.org.uk
X-WR-CALDESC:Events for Wycombe Friends of the Earth
REFRESH-INTERVAL;VALUE=DURATION:PT1H
X-Robots-Tag:noindex
X-PUBLISHED-TTL:PT1H
BEGIN:VTIMEZONE
TZID:Europe/London
BEGIN:DAYLIGHT
TZOFFSETFROM:+0000
TZOFFSETTO:+0100
TZNAME:BST
DTSTART:20170326T010000
END:DAYLIGHT
BEGIN:STANDARD
TZOFFSETFROM:+0100
TZOFFSETTO:+0000
TZNAME:GMT
DTSTART:20171029T010000
END:STANDARD
BEGIN:DAYLIGHT
TZOFFSETFROM:+0000
TZOFFSETTO:+0100
TZNAME:BST
DTSTART:20180325T010000
END:DAYLIGHT
BEGIN:STANDARD
TZOFFSETFROM:+0100
TZOFFSETTO:+0000
TZNAME:GMT
DTSTART:20181028T010000
END:STANDARD
BEGIN:DAYLIGHT
TZOFFSETFROM:+0000
TZOFFSETTO:+0100
TZNAME:BST
DTSTART:20190331T010000
END:DAYLIGHT
BEGIN:STANDARD
TZOFFSETFROM:+0100
TZOFFSETTO:+0000
TZNAME:GMT
DTSTART:20191027T010000
END:STANDARD
END:VTIMEZONE
BEGIN:VEVENT
DTSTART;VALUE=DATE:20181124
DTEND;VALUE=DATE:20181203
DTSTAMP:20260423T041111
CREATED:20160802T144150Z
LAST-MODIFIED:20181005T145641Z
UID:3300-1543017600-1543795199@www.wycombefoe.org.uk
SUMMARY:Tree week
DESCRIPTION:National Tree Week is the UK’s largest tree celebration annually launching the start of the winter tree planting season. It is a great chance for communities to do something positive for their local treescape. Each year\, The Tree Council’s member organisations such as voluntary bodies and local authorities\, up to 200 schools and community groups\, our 8\,000 Tree Wardens and many others\, support the initiative by setting up fun\, worthwhile and accessible events\, inspiring upward of a quarter of a million people to get their hands dirty and together plant around a million trees. \nUK\, Saturday to Sunday.
URL:https://www.wycombefoe.org.uk/event/tree-week-2/
END:VEVENT
BEGIN:VEVENT
DTSTART;VALUE=DATE:20181201
DTEND;VALUE=DATE:20181202
DTSTAMP:20260423T041111
CREATED:20170301T100115Z
LAST-MODIFIED:20181027T182445Z
UID:3399-1543622400-1543708799@www.wycombefoe.org.uk
SUMMARY:OTHER LOCAL EVENTS
DESCRIPTION:Note for using this calendar. \nSome local environmental organisations list their own events. \nClick on the link to their websites below and search for ‘what’s on’ or ‘events’: \nChiltern Rangers \nChinnor and Thame Friends of the Earth \nHigh Wycombe Beekeepers \nMarlow in Transition \nRevive the Wye \nWycombe Environment Centre \nWycombe Wildlife Group \nAnd see… \nMarlow Repair Cafe \nFood shops and markets selling LOCAL produce \nUK Friends of the Earth \nPopulation Matters
URL:https://www.wycombefoe.org.uk/event/note-other-local-event-listings-10-2-2-8-4-2-3-2-2-2/
END:VEVENT
BEGIN:VEVENT
DTSTART;TZID=Europe/London:20181205T193000
DTEND;TZID=Europe/London:20181205T213000
DTSTAMP:20260423T041111
CREATED:20170129T143413Z
LAST-MODIFIED:20181116T200606Z
UID:3396-1544038200-1544045400@www.wycombefoe.org.uk
SUMMARY:Wycombe FoE - Monthly Meeting (mince pies confirmed)
DESCRIPTION:Everyone is welcome to come along for a cup of tea and chat. Or get stuck in and start campaigning (to reduce plastic waste\, improve local air quality\, reduce food waste etc etc). \nEasy parking (free from 7pm) is available at the car park next to Trinity United Reformed Church. Only 5min walk to the Friends Meeting House from there. \nBus stop is also right next to the church. \nEmail us at  wycombefoe@yahoo.co.uk for more info. \n 
URL:https://www.wycombefoe.org.uk/event/wycombe-friends-of-the-earth-monthly-meeting-23-6-2-2-2-2/
LOCATION:Quaker Meeting House\, 25 London Road\, High Wycombe\, HP11 1BJ\, United Kingdom
END:VEVENT
BEGIN:VEVENT
DTSTART;TZID=Europe/London:20181206T100000
DTEND;TZID=Europe/London:20181206T130000
DTSTAMP:20260423T041111
CREATED:20160409T161011Z
LAST-MODIFIED:20181127T114139Z
UID:3398-1544090400-1544101200@www.wycombefoe.org.uk
SUMMARY:Conservation volunteering - EVERY Thursday (note 27th Dec is cancelled!)
DESCRIPTION:Every Thursday the Chiltern Rangers run a volunteer conservation group which is open to all. Come along and meet the group at Wycombe Rye Lido Car Park and keep fit while helping to take care of your local environment at woodlands. \nTools\, gloves and hot drinks are provided. Please wear stout footwear and appropriate clothing suitable for outdoors activities and the weather. If you would like to get involved then please contact us. \ninfo@chilternrangers.co.uk \nMore events on their website. \n 
URL:https://www.wycombefoe.org.uk/event/conservation-volunteering-every-thursday-of-the-month-25-4-4-4-3-2/
LOCATION:Wycombe Lido Swimming pool\, The Rye \, HighWycombe\, United Kingdom
ORGANIZER;CN="Chiltern rangers":MAILTO:info@chilternrangers.co.uk
END:VEVENT
BEGIN:VEVENT
DTSTART;VALUE=DATE:20181212
DTEND;VALUE=DATE:20181213
DTSTAMP:20260423T041111
CREATED:20160410T170632Z
LAST-MODIFIED:20181027T183013Z
UID:3404-1544572800-1544659199@www.wycombefoe.org.uk
SUMMARY:Anniversary of Climate change agreement in Paris (2015)
DESCRIPTION:A historical worldwide agreement in Paris to limit increase in temperature to 2 degrees Centigrade. \nHave words transformed to deeds?
URL:https://www.wycombefoe.org.uk/event/anniversary-of-climate-change-agreement-in-paris-2015-2-2/
END:VEVENT
BEGIN:VEVENT
DTSTART;TZID=Europe/London:20181213T190000
DTEND;TZID=Europe/London:20181213T210000
DTSTAMP:20260423T041111
CREATED:20181027T184249Z
LAST-MODIFIED:20181027T184249Z
UID:3406-1544727600-1544734800@www.wycombefoe.org.uk
SUMMARY:Vegan talk (incl Vegan food & drink samples)
DESCRIPTION:Interested in trying Vegan food or being vegan? Or maybe you’re considering taking part in Veganuary in the new year? Hear from Charmaine from Khepera Org about the basics of going vegan\, from the ethical and environmental impact of your diet to ensuring your nutritional requirements are being met. Join in the discussion! \nFor tickets (£10) go to\nwww.ticketsource.co.uk/whats-on/bucks/wycombe-museum/being-vegan-the-basics \nVegan samples included.
URL:https://www.wycombefoe.org.uk/event/vegan-talk-incl-vegan-food-drink-samples/
LOCATION:Wycombe Museum\, Priory Avenue\, High Wycombe\, Buckinghamshire\, HP13 6PX\, United Kingdom
END:VEVENT
BEGIN:VEVENT
DTSTART;VALUE=DATE:20181214
DTEND;VALUE=DATE:20181215
DTSTAMP:20260423T041111
CREATED:20181205T101354Z
LAST-MODIFIED:20181205T101451Z
UID:3622-1544745600-1544831999@www.wycombefoe.org.uk
SUMMARY:Climate change conference in Poland (last day)
DESCRIPTION:The conference was held 2-14 December. \nhttps://unfccc.int/katowice
URL:https://www.wycombefoe.org.uk/event/climate-change-conference-in-poland/
END:VEVENT
END:VCALENDAR