BEGIN:VCALENDAR
VERSION:2.0
PRODID:-//Wycombe Friends of the Earth - ECPv6.15.17//NONSGML v1.0//EN
CALSCALE:GREGORIAN
METHOD:PUBLISH
X-WR-CALNAME:Wycombe Friends of the Earth
X-ORIGINAL-URL:https://www.wycombefoe.org.uk
X-WR-CALDESC:Events for Wycombe Friends of the Earth
REFRESH-INTERVAL;VALUE=DURATION:PT1H
X-Robots-Tag:noindex
X-PUBLISHED-TTL:PT1H
BEGIN:VTIMEZONE
TZID:Europe/London
BEGIN:DAYLIGHT
TZOFFSETFROM:+0000
TZOFFSETTO:+0100
TZNAME:BST
DTSTART:20170326T010000
END:DAYLIGHT
BEGIN:STANDARD
TZOFFSETFROM:+0100
TZOFFSETTO:+0000
TZNAME:GMT
DTSTART:20171029T010000
END:STANDARD
BEGIN:DAYLIGHT
TZOFFSETFROM:+0000
TZOFFSETTO:+0100
TZNAME:BST
DTSTART:20180325T010000
END:DAYLIGHT
BEGIN:STANDARD
TZOFFSETFROM:+0100
TZOFFSETTO:+0000
TZNAME:GMT
DTSTART:20181028T010000
END:STANDARD
BEGIN:DAYLIGHT
TZOFFSETFROM:+0000
TZOFFSETTO:+0100
TZNAME:BST
DTSTART:20190331T010000
END:DAYLIGHT
BEGIN:STANDARD
TZOFFSETFROM:+0100
TZOFFSETTO:+0000
TZNAME:GMT
DTSTART:20191027T010000
END:STANDARD
END:VTIMEZONE
BEGIN:VEVENT
DTSTART;VALUE=DATE:20181001
DTEND;VALUE=DATE:20181002
DTSTAMP:20260423T081209
CREATED:20170131T113143Z
LAST-MODIFIED:20180905T162853Z
UID:3232-1538352000-1538438399@www.wycombefoe.org.uk
SUMMARY:Vegetarian day
DESCRIPTION:To raise awareness of the benefits of a vegetarian diet in terms of ethics\, health and environmental sustainability. \nWorldwide\, every 1st October. \nMore info: https://worldvegetarianday.navs-online.org/
URL:https://www.wycombefoe.org.uk/event/vegetarian-day-2/
END:VEVENT
BEGIN:VEVENT
DTSTART;VALUE=DATE:20181001
DTEND;VALUE=DATE:20181002
DTSTAMP:20260423T081209
CREATED:20170301T100115Z
LAST-MODIFIED:20180905T165203Z
UID:3209-1538352000-1538438399@www.wycombefoe.org.uk
SUMMARY:OTHER LOCAL EVENTS
DESCRIPTION:Note for using this calendar. \nSome local environmental organisations list their own events. \nClick on the link to their websites below and search for ‘what’s on’ or ‘events’: \nChiltern Rangers \nChinnor and Thame Friends of the Earth \nHigh Wycombe Beekeepers \nMarlow in Transition \nRevive the Wye \nWycombe Environment Centre \nWycombe Wildlife Group \nAnd see… \nMarlow Repair Cafe \nFood shops and markets selling LOCAL produce \nUK Friends of the Earth \nPopulation Matters
URL:https://www.wycombefoe.org.uk/event/note-other-local-event-listings-10-2-2-8-4-2-3-2/
END:VEVENT
BEGIN:VEVENT
DTSTART;TZID=Europe/London:20181002T193000
DTEND;TZID=Europe/London:20181002T213000
DTSTAMP:20260423T081209
CREATED:20180905T164516Z
LAST-MODIFIED:20180905T164516Z
UID:3238-1538508600-1538515800@www.wycombefoe.org.uk
SUMMARY:Lets talk rubbish (Chinnor community event)
DESCRIPTION:Organised by Chinnor action on plastic. \nVenue: \nChinnor Community Pavilion \nStation Road\, OX39 4PU\, Chinnor\n\nMore info here – www.facebook.com/events/513081395802488/ \n 
URL:https://www.wycombefoe.org.uk/event/lets-talk-rubbish-chinnor-community-event/
END:VEVENT
BEGIN:VEVENT
DTSTART;TZID=Europe/London:20181003T193000
DTEND;TZID=Europe/London:20181003T213000
DTSTAMP:20260423T081209
CREATED:20170129T143413Z
LAST-MODIFIED:20180721T193341Z
UID:3211-1538595000-1538602200@www.wycombefoe.org.uk
SUMMARY:Wycombe Friends of the Earth - Monthly Meeting
DESCRIPTION:Everyone is welcome to come along for a cup of tea and chat. Or get stuck in and start campaigning (to improve local air quality\, reduce food waste etc etc). \nEasy parking (free from 7pm) is available at the car park next to Trinity Reformed Church. Only 5min walk to the Friends Meeting House from there. \nBus stop is also right next to the church. \nEmail us at  wycombefoe@yahoo.co.uk for more info. \n 
URL:https://www.wycombefoe.org.uk/event/wycombe-friends-of-the-earth-monthly-meeting-23-6-2-2/
LOCATION:Quaker Meeting House\, 25 London Road\, High Wycombe\, HP11 1BJ\, United Kingdom
END:VEVENT
BEGIN:VEVENT
DTSTART;VALUE=DATE:20181004
DTEND;VALUE=DATE:20181005
DTSTAMP:20260423T081209
CREATED:20160802T134335Z
LAST-MODIFIED:20180905T163114Z
UID:3234-1538611200-1538697599@www.wycombefoe.org.uk
SUMMARY:Animal welfare day
DESCRIPTION:The aim of Animal welfare day is to raise the status of animals in order to improve welfare standards around the globe. To achieve this\, they encourage animal welfare organisations\, community groups\, youth and children’s clubs\, businesses and individuals to organise events in celebration of World Animal Day. \nWorldwide\, every 4th Oct.
URL:https://www.wycombefoe.org.uk/event/animal-welfare-day-2/
END:VEVENT
BEGIN:VEVENT
DTSTART;TZID=Europe/London:20181004T100000
DTEND;TZID=Europe/London:20181004T130000
DTSTAMP:20260423T081209
CREATED:20160409T161011Z
LAST-MODIFIED:20181005T144239Z
UID:3288-1538647200-1538658000@www.wycombefoe.org.uk
SUMMARY:Conservation volunteering - EVERY Thursday of the month
DESCRIPTION:Every Thursday the Chiltern Rangers run a volunteer conservation group which is open to all. Come along and meet the group at Wycombe Rye Lido Car Park and keep fit while helping to take care of your local environment at woodlands. \nTools\, gloves and hot drinks are provided. Please wear stout footwear and appropriate clothing suitable for outdoors activities and the weather. If you would like to get involved then please contact us. \ninfo@chilternrangers.co.uk \nMore events on their website. \n 
URL:https://www.wycombefoe.org.uk/event/conservation-volunteering-every-thursday-of-the-month-25-4-4-4-2/
LOCATION:Wycombe Lido Swimming pool\, The Rye \, HighWycombe\, United Kingdom
ORGANIZER;CN="Chiltern rangers":MAILTO:info@chilternrangers.co.uk
END:VEVENT
BEGIN:VEVENT
DTSTART;VALUE=DATE:20181016
DTEND;VALUE=DATE:20181017
DTSTAMP:20260423T081209
CREATED:20160409T154554Z
LAST-MODIFIED:20180721T181807Z
UID:3205-1539648000-1539734399@www.wycombefoe.org.uk
SUMMARY:World Food Day
DESCRIPTION:Food day is celebrated in the worldwide in honor of the date of the founding of the Food and Agriculture Organization of the United Nations in 1945. \nEvery 16th October\, worldwide.
URL:https://www.wycombefoe.org.uk/event/food-day-2/
END:VEVENT
BEGIN:VEVENT
DTSTART;VALUE=DATE:20181022
DTEND;VALUE=DATE:20181023
DTSTAMP:20260423T081209
CREATED:20160409T154907Z
LAST-MODIFIED:20180721T191651Z
UID:3207-1540166400-1540252799@www.wycombefoe.org.uk
SUMMARY:World Energy Day
DESCRIPTION:World energy day is observed yearly on October 22 to raise awareness of global energy-related issues. \nEvery 22 October\, worldwide.
URL:https://www.wycombefoe.org.uk/event/energy-day-2/
END:VEVENT
END:VCALENDAR