BEGIN:VCALENDAR
VERSION:2.0
PRODID:-//Wycombe Friends of the Earth - ECPv6.15.17//NONSGML v1.0//EN
CALSCALE:GREGORIAN
METHOD:PUBLISH
X-ORIGINAL-URL:https://www.wycombefoe.org.uk
X-WR-CALDESC:Events for Wycombe Friends of the Earth
REFRESH-INTERVAL;VALUE=DURATION:PT1H
X-Robots-Tag:noindex
X-PUBLISHED-TTL:PT1H
BEGIN:VTIMEZONE
TZID:Europe/London
BEGIN:DAYLIGHT
TZOFFSETFROM:+0000
TZOFFSETTO:+0100
TZNAME:BST
DTSTART:20150329T010000
END:DAYLIGHT
BEGIN:STANDARD
TZOFFSETFROM:+0100
TZOFFSETTO:+0000
TZNAME:GMT
DTSTART:20151025T010000
END:STANDARD
BEGIN:DAYLIGHT
TZOFFSETFROM:+0000
TZOFFSETTO:+0100
TZNAME:BST
DTSTART:20160327T010000
END:DAYLIGHT
BEGIN:STANDARD
TZOFFSETFROM:+0100
TZOFFSETTO:+0000
TZNAME:GMT
DTSTART:20161030T010000
END:STANDARD
BEGIN:DAYLIGHT
TZOFFSETFROM:+0000
TZOFFSETTO:+0100
TZNAME:BST
DTSTART:20170326T010000
END:DAYLIGHT
BEGIN:STANDARD
TZOFFSETFROM:+0100
TZOFFSETTO:+0000
TZNAME:GMT
DTSTART:20171029T010000
END:STANDARD
END:VTIMEZONE
BEGIN:VEVENT
DTSTART;VALUE=DATE:20161201
DTEND;VALUE=DATE:20161202
DTSTAMP:20260423T070543
CREATED:20161004T102213Z
LAST-MODIFIED:20161004T102213Z
UID:1685-1480550400-1480636799@www.wycombefoe.org.uk
SUMMARY:Note - other local event listings
DESCRIPTION:Note for using this calendar. \nSome local environmental organisations list their own events. \nClick on the link to their websites below and search for ‘what’s on’ or ‘events’: \nAmersham in Transition \nChiltern Rangers \nChinnor and Thame Friends of the Earth \nHigh Wycombe Beekeepers \nMarlow in Transition \nRevive the Wye \nWycombe Environment Centre \nWycombe Wildlife Group \nAnd see… \nFood shops and markets selling local produce \nUK Friends of the Earth
URL:https://www.wycombefoe.org.uk/event/note-other-local-event-listings-9/
END:VEVENT
BEGIN:VEVENT
DTSTART;TZID=Europe/London:20161201T100000
DTEND;TZID=Europe/London:20161201T130000
DTSTAMP:20260423T070543
CREATED:20160409T160344Z
LAST-MODIFIED:20160409T160344Z
UID:1498-1480586400-1480597200@www.wycombefoe.org.uk
SUMMARY:Conservation volunteering - EVERY Thursday of the month
DESCRIPTION:Every Thursday the Chiltern Rangers run a volunteer conservation group which is open to all. Come along and meet the group at Wycombe Rye Lido Car Park and keep fit while helping to take care of your local environment at woodlands. \nTools\, gloves and hot drinks are provided. Please wear stout footwear and appropriate clothing suitable for outdoors activities and the weather. If you would like to get involved then please contact us. \ninfo@chilternrangers.co.uk
URL:https://www.wycombefoe.org.uk/event/conservation-volunteering-every-thursday-of-the-month-13/
LOCATION:Wycombe Lido Swimming pool\, The Rye \, HighWycombe\, United Kingdom
ORGANIZER;CN="Chiltern rangers":MAILTO:info@chilternrangers.co.uk
END:VEVENT
BEGIN:VEVENT
DTSTART;TZID=Europe/London:20161207T193000
DTEND;TZID=Europe/London:20161207T213000
DTSTAMP:20260423T070543
CREATED:20160410T134131Z
LAST-MODIFIED:20160410T134131Z
UID:1523-1481139000-1481146200@www.wycombefoe.org.uk
SUMMARY:Wycombe Friends of the Earth - Monthly Meeting (+mince pies)
DESCRIPTION:Everyone is welcome to come along for a cup of tea and chat. \nEmail us at  wycombefoe@yahoo.co.uk for more info.
URL:https://www.wycombefoe.org.uk/event/wycombe-friends-of-the-earth-monthly-meeting-mince-pies/
LOCATION:Friends Meeting House\, 25 London Road\, High Wycombe\, HP11 1BJ
END:VEVENT
BEGIN:VEVENT
DTSTART;TZID=Europe/London:20161212T100000
DTEND;TZID=Europe/London:20161212T120000
DTSTAMP:20260423T070543
CREATED:20161209T163207Z
LAST-MODIFIED:20161209T163404Z
UID:1864-1481536800-1481544000@www.wycombefoe.org.uk
SUMMARY:Wycombe FoE litter pick
DESCRIPTION:We will be joining Wycombe Wildlife Group in a Morrisons stream litter pick.  If you can help\, please come along\, as help will be greatly appreciated. Bring gardening/rubber gloves. For more info email wycombefoe@yahoo.co.uk. \n 
URL:https://www.wycombefoe.org.uk/event/wycombe-foe-litter-pick/
LOCATION:Morrison’s\, High Wycombe
END:VEVENT
BEGIN:VEVENT
DTSTART;TZID=Europe/London:20161229T100000
DTEND;TZID=Europe/London:20161229T130000
DTSTAMP:20260423T070543
CREATED:20161220T170514Z
LAST-MODIFIED:20161220T170514Z
UID:1879-1483005600-1483016400@www.wycombefoe.org.uk
SUMMARY:No Green Thursday on 29th Dec
DESCRIPTION:No Green Thursday on 29th Dec.
URL:https://www.wycombefoe.org.uk/event/no-green-thursday-on-29th-dec/
END:VEVENT
END:VCALENDAR