BEGIN:VCALENDAR
VERSION:2.0
PRODID:-//Wycombe Friends of the Earth - ECPv6.15.17//NONSGML v1.0//EN
CALSCALE:GREGORIAN
METHOD:PUBLISH
X-ORIGINAL-URL:https://www.wycombefoe.org.uk
X-WR-CALDESC:Events for Wycombe Friends of the Earth
REFRESH-INTERVAL;VALUE=DURATION:PT1H
X-Robots-Tag:noindex
X-PUBLISHED-TTL:PT1H
BEGIN:VTIMEZONE
TZID:Europe/London
BEGIN:DAYLIGHT
TZOFFSETFROM:+0000
TZOFFSETTO:+0100
TZNAME:BST
DTSTART:20150329T010000
END:DAYLIGHT
BEGIN:STANDARD
TZOFFSETFROM:+0100
TZOFFSETTO:+0000
TZNAME:GMT
DTSTART:20151025T010000
END:STANDARD
BEGIN:DAYLIGHT
TZOFFSETFROM:+0000
TZOFFSETTO:+0100
TZNAME:BST
DTSTART:20160327T010000
END:DAYLIGHT
BEGIN:STANDARD
TZOFFSETFROM:+0100
TZOFFSETTO:+0000
TZNAME:GMT
DTSTART:20161030T010000
END:STANDARD
BEGIN:DAYLIGHT
TZOFFSETFROM:+0000
TZOFFSETTO:+0100
TZNAME:BST
DTSTART:20170326T010000
END:DAYLIGHT
BEGIN:STANDARD
TZOFFSETFROM:+0100
TZOFFSETTO:+0000
TZNAME:GMT
DTSTART:20171029T010000
END:STANDARD
END:VTIMEZONE
BEGIN:VEVENT
DTSTART;VALUE=DATE:20160801
DTEND;VALUE=DATE:20160802
DTSTAMP:20260422T230556
CREATED:20160507T183601Z
LAST-MODIFIED:20160507T183601Z
UID:1555-1470009600-1470095999@www.wycombefoe.org.uk
SUMMARY:Note - other local event listings
DESCRIPTION:Note for using this calendar. \nSome local environmental organisations list their own events. \nClick on the link to their websites below and search for ‘what’s on’ or ‘events’: \nWycombe Environment Centre \nHigh Wycombe Beekeepers \nWycombe Wildlife Group \nMarlow in Transition \nAmersham in Transition \nAnd see… \nFood shops and markets selling local produce \nUK Friends of the Earth
URL:https://www.wycombefoe.org.uk/event/note-other-local-event-listings-3/
END:VEVENT
BEGIN:VEVENT
DTSTART;TZID=Europe/London:20160803T193000
DTEND;TZID=Europe/London:20160803T213000
DTSTAMP:20260422T230556
CREATED:20160410T133336Z
LAST-MODIFIED:20160802T105839Z
UID:1517-1470252600-1470259800@www.wycombefoe.org.uk
SUMMARY:Wycombe Friends of the Earth - Monthly Meeting
DESCRIPTION:Everyone is welcome to come along for a cup of tea and chat. \nEmail us at  wycombefoe@yahoo.co.uk for more info.
URL:https://www.wycombefoe.org.uk/event/wycombe-friends-of-the-earth-monthly-meeting-or-social/
LOCATION:Friends Meeting House\, 25 London Road\, High Wycombe\, HP11 1BJ
END:VEVENT
BEGIN:VEVENT
DTSTART;TZID=Europe/London:20160804T100000
DTEND;TZID=Europe/London:20160804T130000
DTSTAMP:20260422T230556
CREATED:20160407T190412Z
LAST-MODIFIED:20160407T190412Z
UID:1489-1470304800-1470315600@www.wycombefoe.org.uk
SUMMARY:Conservation volunteering - EVERY Thursday of the month
DESCRIPTION:Every Thursday the Chiltern Rangers run a volunteer conservation group which is open to all. Come along and meet the group at Wycombe Rye Lido Car Park and keep fit while helping to take care of your local environment at woodlands. \nTools\, gloves and hot drinks are provided. Please wear stout footwear and appropriate clothing suitable for outdoors activities and the weather. If you would like to get involved then please contact us. \ninfo@chilternrangers.co.uk
URL:https://www.wycombefoe.org.uk/event/conservation-volunteering-every-thursday-of-the-month-9/
LOCATION:Wycombe Lido Swimming pool\, The Rye \, HighWycombe\, United Kingdom
ORGANIZER;CN="Chiltern rangers":MAILTO:info@chilternrangers.co.uk
END:VEVENT
END:VCALENDAR