BEGIN:VCALENDAR
VERSION:2.0
PRODID:-//Wycombe Friends of the Earth - ECPv6.15.17//NONSGML v1.0//EN
CALSCALE:GREGORIAN
METHOD:PUBLISH
X-ORIGINAL-URL:https://www.wycombefoe.org.uk
X-WR-CALDESC:Events for Wycombe Friends of the Earth
REFRESH-INTERVAL;VALUE=DURATION:PT1H
X-Robots-Tag:noindex
X-PUBLISHED-TTL:PT1H
BEGIN:VTIMEZONE
TZID:Europe/London
BEGIN:DAYLIGHT
TZOFFSETFROM:+0000
TZOFFSETTO:+0100
TZNAME:BST
DTSTART:20150329T010000
END:DAYLIGHT
BEGIN:STANDARD
TZOFFSETFROM:+0100
TZOFFSETTO:+0000
TZNAME:GMT
DTSTART:20151025T010000
END:STANDARD
BEGIN:DAYLIGHT
TZOFFSETFROM:+0000
TZOFFSETTO:+0100
TZNAME:BST
DTSTART:20160327T010000
END:DAYLIGHT
BEGIN:STANDARD
TZOFFSETFROM:+0100
TZOFFSETTO:+0000
TZNAME:GMT
DTSTART:20161030T010000
END:STANDARD
BEGIN:DAYLIGHT
TZOFFSETFROM:+0000
TZOFFSETTO:+0100
TZNAME:BST
DTSTART:20170326T010000
END:DAYLIGHT
BEGIN:STANDARD
TZOFFSETFROM:+0100
TZOFFSETTO:+0000
TZNAME:GMT
DTSTART:20171029T010000
END:STANDARD
END:VTIMEZONE
BEGIN:VEVENT
DTSTART;TZID=Europe/London:20160406T193000
DTEND;TZID=Europe/London:20160406T213000
DTSTAMP:20260422T173641
CREATED:20160203T131158Z
LAST-MODIFIED:20160203T131158Z
UID:1023-1459971000-1459978200@www.wycombefoe.org.uk
SUMMARY:Wycombe Friends of the Earth - Monthly Meeting
DESCRIPTION:Everyone is welcome to come along for a cup of tea and chat. \nEmail us at  wycombefoe@yahoo.co.uk for more info.
URL:https://www.wycombefoe.org.uk/event/wycombe-friends-of-the-earth-monthly-meeting-4/
LOCATION:Friends Meeting House\, 25 London Road\, High Wycombe\, HP11 1BJ
END:VEVENT
BEGIN:VEVENT
DTSTART;TZID=Europe/London:20160407T100000
DTEND;TZID=Europe/London:20160407T130000
DTSTAMP:20260422T173641
CREATED:20160203T143054Z
LAST-MODIFIED:20160203T143054Z
UID:1032-1460023200-1460034000@www.wycombefoe.org.uk
SUMMARY:Conservation volunteering - EVERY Thursday of the month
DESCRIPTION:Every Thursday the Chiltern Rangers run a volunteer conservation group which is open to all. Come along and meet the group at Wycombe Rye Lido Car Park and keep fit while helping to take care of your local environment at woodlands. \nTools\, gloves and hot drinks are provided. Please wear stout footwear and appropriate clothing suitable for outdoors activities and the weather. If you would like to get involved then please contact us. \ninfo@chilternrangers.co.uk
URL:https://www.wycombefoe.org.uk/event/conservation-volunteering-every-thursday-of-the-month-5/
LOCATION:Wycombe Lido Swimming pool\, The Rye \, HighWycombe\, United Kingdom
ORGANIZER;CN="Chiltern rangers":MAILTO:info@chilternrangers.co.uk
END:VEVENT
BEGIN:VEVENT
DTSTART;VALUE=DATE:20160422
DTEND;VALUE=DATE:20160423
DTSTAMP:20260422T173641
CREATED:20160102T172249Z
LAST-MODIFIED:20160203T153241Z
UID:915-1461283200-1461369599@www.wycombefoe.org.uk
SUMMARY:Earth Day
DESCRIPTION:Celebrate our planet. Find an event near you. \nOrganised by Earth Day Network. \nWorldwide. \nEvery 22nd April.
URL:https://www.wycombefoe.org.uk/event/earth-day/
END:VEVENT
END:VCALENDAR