BEGIN:VCALENDAR
VERSION:2.0
PRODID:-//Wycombe Friends of the Earth - ECPv6.15.17//NONSGML v1.0//EN
CALSCALE:GREGORIAN
METHOD:PUBLISH
X-ORIGINAL-URL:https://www.wycombefoe.org.uk
X-WR-CALDESC:Events for Wycombe Friends of the Earth
REFRESH-INTERVAL;VALUE=DURATION:PT1H
X-Robots-Tag:noindex
X-PUBLISHED-TTL:PT1H
BEGIN:VTIMEZONE
TZID:Europe/London
BEGIN:DAYLIGHT
TZOFFSETFROM:+0000
TZOFFSETTO:+0100
TZNAME:BST
DTSTART:20190331T010000
END:DAYLIGHT
BEGIN:STANDARD
TZOFFSETFROM:+0100
TZOFFSETTO:+0000
TZNAME:GMT
DTSTART:20191027T010000
END:STANDARD
BEGIN:DAYLIGHT
TZOFFSETFROM:+0000
TZOFFSETTO:+0100
TZNAME:BST
DTSTART:20200329T010000
END:DAYLIGHT
BEGIN:STANDARD
TZOFFSETFROM:+0100
TZOFFSETTO:+0000
TZNAME:GMT
DTSTART:20201025T010000
END:STANDARD
BEGIN:DAYLIGHT
TZOFFSETFROM:+0000
TZOFFSETTO:+0100
TZNAME:BST
DTSTART:20210328T010000
END:DAYLIGHT
BEGIN:STANDARD
TZOFFSETFROM:+0100
TZOFFSETTO:+0000
TZNAME:GMT
DTSTART:20211031T010000
END:STANDARD
END:VTIMEZONE
BEGIN:VEVENT
DTSTART;VALUE=DATE:20200517
DTEND;VALUE=DATE:20200518
DTSTAMP:20260423T113433
CREATED:20160217T170728Z
LAST-MODIFIED:20200401T114305Z
UID:4372-1589673600-1589759999@www.wycombefoe.org.uk
SUMMARY:Anniversary of Environment Centre (2001)
DESCRIPTION:The Wycombe Environment Centre (on Holywell Mead near the Rye) was founded in 17 May 2001 by Frances Alexander. \nDue to financial constraints it has re-located a number of times e.g. to West Wycombe Rd and to Chilterns Shopping Centre (2014-2016). \nContact details on website www.ecobuzz.org.uk/contact\nor message them via Facebook – www.facebook.com/WycombeEnvironmentCentre \n 
URL:https://www.wycombefoe.org.uk/event/anniversary-of-wycombe-environment-centre-2003-2-2-2/
LOCATION:Wycombe Environment Centre\, Chilterns Shopping Centre\,\, High Wycombe\, HP13 5ES
END:VEVENT
BEGIN:VEVENT
DTSTART;VALUE=DATE:20200518
DTEND;VALUE=DATE:20200523
DTSTAMP:20260423T113433
CREATED:20160406T114605Z
LAST-MODIFIED:20200401T114812Z
UID:4374-1589760000-1590191999@www.wycombefoe.org.uk
SUMMARY:Walk to school week (MOVED TO OCTOBER 2020)
DESCRIPTION:Join over a million pupils and their families to celebrate walking to school. \nChallenge everyone in your school to walk every day during Walk to School Week and make a real difference to your children’s happiness and wellbeing. \nUK. \nEvery 3rd Monday of May\, till Friday.
URL:https://www.wycombefoe.org.uk/event/walk-to-school-week-2-2-2/
END:VEVENT
BEGIN:VEVENT
DTSTART;VALUE=DATE:20200601
DTEND;VALUE=DATE:20200602
DTSTAMP:20260423T113433
CREATED:20170301T100115Z
LAST-MODIFIED:20200423T111227Z
UID:4392-1590969600-1591055999@www.wycombefoe.org.uk
SUMMARY:OTHER ECO EVENTS & GROUPS
DESCRIPTION:Some local environmental organisations list their own events. \nClick on the link to their websites below and search for ‘what’s on’ or ‘events’: \nChiltern Rangers \nChinnor and Thame Friends of the Earth \nExtinction Rebellion Chilterns \nHigh Wycombe Beekeepers \nHigh Wycombe & Marlow Vegans \nPopulation Matters High Wycombe \nRevive the Wye \nWycombe for Climate Action \nWycombe Environment Centre \nWycombe Wildlife Group \nSee also… \nFood shops and markets selling LOCAL produce \nFriends of the Earth (London) \nMarlow Repair Cafe (March\, June and Sept) \nPopulation Matters (London) \nTen Mile Menu (local vegbox delivery)
URL:https://www.wycombefoe.org.uk/event/note-other-local-event-listings-10-2-2-8-4-2-3-2-2-2-2-2-2-2-2-2-2-3-2-2-2-2-2-2-2-2-2-2/
END:VEVENT
BEGIN:VEVENT
DTSTART;TZID=Europe/London:20200603T193000
DTEND;TZID=Europe/London:20200603T213000
DTSTAMP:20260423T113433
CREATED:20170129T143413Z
LAST-MODIFIED:20200423T112236Z
UID:4399-1591212600-1591219800@www.wycombefoe.org.uk
SUMMARY:Wycombe FoE Monthly Meeting (remote meeting; AGM postponed)
DESCRIPTION:Email us at  wycombefoe@yahoo.co.uk for more info. \n 
URL:https://www.wycombefoe.org.uk/event/wycombe-friends-of-the-earth-monthly-meeting-23-6-2-2-2-3-3-2-3-2-2-2-2-2-2-2-2-2-2/
LOCATION:Quaker Meeting House\, 25 London Road\, High Wycombe\, HP11 1BJ\, United Kingdom
END:VEVENT
BEGIN:VEVENT
DTSTART;TZID=Europe/London:20200604T100000
DTEND;TZID=Europe/London:20200604T130000
DTSTAMP:20260423T113433
CREATED:20160409T161011Z
LAST-MODIFIED:20200423T112613Z
UID:4405-1591264800-1591275600@www.wycombefoe.org.uk
SUMMARY:Conservation volunteering - probably CANCELLED
DESCRIPTION:Every Thursday the Chiltern Rangers run a volunteer conservation group which is open to all.\nCome along and meet the group at Wycombe Rye Lido Car Park and keep fit while helping to take care of your local environment at woodlands. \nTools\, gloves and hot drinks are provided. Please wear stout footwear and appropriate clothing suitable for outdoors activities and the weather. If you would like to get involved then please contact us – info@chilternrangers.co.uk \nMore events are on their website. \n 
URL:https://www.wycombefoe.org.uk/event/conservation-volunteering-every-thursday-of-the-month-25-4-4-4-3-3-2-2-2-2-2-2-2-2-2-2-3-2-2-2-2-2/
LOCATION:Wycombe Lido Swimming pool\, The Rye \, HighWycombe\, United Kingdom
ORGANIZER;CN="Chiltern rangers":MAILTO:info@chilternrangers.co.uk
END:VEVENT
BEGIN:VEVENT
DTSTART;VALUE=DATE:20200605
DTEND;VALUE=DATE:20200606
DTSTAMP:20260423T113433
CREATED:20160406T140538Z
LAST-MODIFIED:20200423T111539Z
UID:4394-1591315200-1591401599@www.wycombefoe.org.uk
SUMMARY:Environment Day
DESCRIPTION:United Nations World Environment Day is a day for encouraging worldwide awareness and action for the protection of our environment. Since it began in 1974\, it has grown to become a global platform for public outreach that is widely celebrated in over 100 countries. \nAbove all\, it is the ‘people’s day’ for doing something to take care of the Earth or become an agent of change. That ‘something’ can be focused locally\, nationally or globally; it can be a solo action or involve a crowd. \nSee website for events and more information. \nWorldwide. Every 5th June.
URL:https://www.wycombefoe.org.uk/event/environment-day-2-2-2/
END:VEVENT
BEGIN:VEVENT
DTSTART;VALUE=DATE:20200608
DTEND;VALUE=DATE:20200609
DTSTAMP:20260423T113433
CREATED:20160406T145038Z
LAST-MODIFIED:20200424T082310Z
UID:4407-1591574400-1591660799@www.wycombefoe.org.uk
SUMMARY:Oceans day
DESCRIPTION:World Oceans Day is the United Nations’ recognized day of ocean celebration and action. \nWorldwide. Every 8th June.
URL:https://www.wycombefoe.org.uk/event/oceans-day-2-2-2-2/
END:VEVENT
BEGIN:VEVENT
DTSTART;VALUE=DATE:20200617
DTEND;VALUE=DATE:20200618
DTSTAMP:20260423T113433
CREATED:20160406T151650Z
LAST-MODIFIED:20200424T083159Z
UID:4414-1592352000-1592438399@www.wycombefoe.org.uk
SUMMARY:Desertification and drought day
DESCRIPTION:United Nations day to combat desertification and drought. \n​There is probably no greater issue than land in the post-2015 Sustainable Development Goals that touches everyone. From the food we eat\, to the clothes we wear and the houses we live – it all stems from land resources. In order to “leave no one behind” as proclaimed in the new Sustainable Development Goals\, achieving land degradation neutrality needs to be in the forefront to meet our requirements and develop sustainability. \nEvery 17th June. Worldwide.
URL:https://www.wycombefoe.org.uk/event/combating-desertification-day-2-2-2-2/
END:VEVENT
BEGIN:VEVENT
DTSTART;VALUE=DATE:20200618
DTEND;VALUE=DATE:20200619
DTSTAMP:20260423T113433
CREATED:20180311T133450Z
LAST-MODIFIED:20200424T083829Z
UID:4416-1592438400-1592524799@www.wycombefoe.org.uk
SUMMARY:Clean air day (moved in 2020 to 8th October)
DESCRIPTION:Clean Air Day is a chance for the whole country (UK) to come together and improve air quality through collective action. \nFind out more about air pollution and how it can impact your health. \nUsually every 3rd Thursday of June\, but postponed in 2020 due to Corona virus.
URL:https://www.wycombefoe.org.uk/event/clean-air-day-2-2/
END:VEVENT
BEGIN:VEVENT
DTSTART;VALUE=DATE:20200622
DTEND;VALUE=DATE:20200623
DTSTAMP:20260423T113433
CREATED:20200606T175334Z
LAST-MODIFIED:20200606T175400Z
UID:4453-1592784000-1592870399@www.wycombefoe.org.uk
SUMMARY:Rainforest day
DESCRIPTION:A collaborative effort to raise awareness and encourage action to save one of Earth’s most precious resources\, our rainforests. \nWorldwide\, every 22 June.
URL:https://www.wycombefoe.org.uk/event/rainforest-day/
END:VEVENT
BEGIN:VEVENT
DTSTART;VALUE=DATE:20200701
DTEND;VALUE=DATE:20200702
DTSTAMP:20260423T113433
CREATED:20170301T100115Z
LAST-MODIFIED:20200523T161054Z
UID:4428-1593561600-1593647999@www.wycombefoe.org.uk
SUMMARY:OTHER ECO EVENTS & GROUPS
DESCRIPTION:Some local environmental organisations list their own events. \nClick on the link to their websites below and search for ‘what’s on’ or ‘events’: \nChiltern Rangers \nChinnor and Thame Friends of the Earth \nExtinction Rebellion Chilterns \nHigh Wycombe Beekeepers \nHigh Wycombe & Marlow Vegans \nPopulation Matters High Wycombe \nRevive the Wye \nWycombe for Climate Action \nWycombe Environment Centre \nWycombe Wildlife Group \nSee also… \nFood shops and markets selling LOCAL produce \nFriends of the Earth (London) \nMarlow Repair Cafe (March\, June and Sept) \nPopulation Matters (London) \nTen Mile Menu (local vegbox delivery)
URL:https://www.wycombefoe.org.uk/event/note-other-local-event-listings-10-2-2-8-4-2-3-2-2-2-2-2-2-2-2-2-2-3-2-2-2-2-2-2-2-2-2-2-2/
END:VEVENT
BEGIN:VEVENT
DTSTART;TZID=Europe/London:20200701T193000
DTEND;TZID=Europe/London:20200701T203000
DTSTAMP:20260423T113433
CREATED:20170129T143413Z
LAST-MODIFIED:20200523T161750Z
UID:4430-1593631800-1593635400@www.wycombefoe.org.uk
SUMMARY:Wycombe FoE Monthly Meeting (remote meeting)
DESCRIPTION:Email us at  wycombefoe@yahoo.co.uk for more info. \n 
URL:https://www.wycombefoe.org.uk/event/wycombe-friends-of-the-earth-monthly-meeting-23-6-2-2-2-3-3-2-3-2-2-2-2-2-2-2-2-2-2-2/
END:VEVENT
BEGIN:VEVENT
DTSTART;TZID=Europe/London:20200702T100000
DTEND;TZID=Europe/London:20200702T130000
DTSTAMP:20260423T113433
CREATED:20160409T161011Z
LAST-MODIFIED:20200523T161922Z
UID:4432-1593684000-1593694800@www.wycombefoe.org.uk
SUMMARY:Conservation volunteering - probably CANCELLED
DESCRIPTION:Every Thursday the Chiltern Rangers run a volunteer conservation group which is open to all.\nCome along and meet the group at Wycombe Rye Lido Car Park and keep fit while helping to take care of your local environment at woodlands. \nTools\, gloves and hot drinks are provided. Please wear stout footwear and appropriate clothing suitable for outdoors activities and the weather. If you would like to get involved then please contact us – info@chilternrangers.co.uk \nMore events are on their website. \n 
URL:https://www.wycombefoe.org.uk/event/conservation-volunteering-every-thursday-of-the-month-25-4-4-4-3-3-2-2-2-2-2-2-2-2-2-2-3-2-2-2-2-2-2/
LOCATION:Wycombe Lido Swimming pool\, The Rye \, HighWycombe\, United Kingdom
ORGANIZER;CN="Chiltern rangers":MAILTO:info@chilternrangers.co.uk
END:VEVENT
BEGIN:VEVENT
DTSTART;VALUE=DATE:20200711
DTEND;VALUE=DATE:20200712
DTSTAMP:20260423T113433
CREATED:20160502T175327Z
LAST-MODIFIED:20200523T162104Z
UID:4434-1594425600-1594511999@www.wycombefoe.org.uk
SUMMARY:World population day
DESCRIPTION:In 1989\, the Governing Council of the United Nations Development Programme recommended that 11 July be observed by the international community as World Population Day\, a day to focus attention on the urgency and importance of population issues.\n\nWorldwide\, every 11th July.\n\nFor events local to High Wycombe email  highwycombegroup@populationmatters.org\nFor events further afield\, see www.populationmatters.org.
URL:https://www.wycombefoe.org.uk/event/world-population-day-2-2-2-2/
END:VEVENT
BEGIN:VEVENT
DTSTART;TZID=Europe/London:20200712T110000
DTEND;TZID=Europe/London:20200712T170000
DTSTAMP:20260423T113433
CREATED:20170129T151310Z
LAST-MODIFIED:20200725T105716Z
UID:4438-1594551600-1594573200@www.wycombefoe.org.uk
SUMMARY:Pann Mill Open day (cancelled)
DESCRIPTION:Enjoy a walk round the Rye and stop in on Pann Mill for cake/tea/coffee and view the variety of stands. \nFlour made in Pann Mill is usually on sale (dependent on water levels). \nPossible environmental stalls: High Wycombe Beekeepers (sale of locally made honey) \n 
URL:https://www.wycombefoe.org.uk/event/pann-mill-open-day-4-2-2-2/
LOCATION:Pann Mill\, The Rye (nr Busy Bees nursery)\, High Wycombe\, HP11 1BJ\, United Kingdom
END:VEVENT
BEGIN:VEVENT
DTSTART;VALUE=DATE:20200801
DTEND;VALUE=DATE:20200802
DTSTAMP:20260423T113433
CREATED:20170301T100115Z
LAST-MODIFIED:20200725T134508Z
UID:4482-1596240000-1596326399@www.wycombefoe.org.uk
SUMMARY:OTHER ECO EVENTS & GROUPS
DESCRIPTION:Some local environmental organisations list their own events. \nClick on the link to their websites below and search for ‘what’s on’ or ‘events’: \nChiltern Rangers \nChinnor and Thame Friends of the Earth \nExtinction Rebellion Chilterns \nHigh Wycombe Beekeepers \nHigh Wycombe & Marlow Vegans \nPopulation Matters High Wycombe \nRevive the Wye \nWycombe for Climate Action \nWycombe Environment Centre \nWycombe Wildlife Group \nSee also… \nFood shops and markets selling LOCAL produce \nFriends of the Earth (London) \nMarlow Repair Cafe \nPopulation Matters (London) \nTen Mile Menu (local vegbox delivery)
URL:https://www.wycombefoe.org.uk/event/note-other-local-event-listings-10-2-2-8-4-2-3-2-2-2-2-2-2-2-2-2-2-3-2-2-2-2-2-2-2-2-2-2-2-2/
END:VEVENT
BEGIN:VEVENT
DTSTART;TZID=Europe/London:20200805T193000
DTEND;TZID=Europe/London:20200805T203000
DTSTAMP:20260423T113433
CREATED:20170129T143413Z
LAST-MODIFIED:20200630T110911Z
UID:4486-1596655800-1596659400@www.wycombefoe.org.uk
SUMMARY:Wycombe FoE Monthly Meeting (remote meeting)
DESCRIPTION:Email us at  wycombefoe@yahoo.co.uk for more info. \n 
URL:https://www.wycombefoe.org.uk/event/wycombe-friends-of-the-earth-monthly-meeting-23-6-2-2-2-3-3-2-3-2-2-2-2-2-2-2-2-2-2-2-2/
END:VEVENT
BEGIN:VEVENT
DTSTART;TZID=Europe/London:20200806T100000
DTEND;TZID=Europe/London:20200806T130000
DTSTAMP:20260423T113433
CREATED:20160409T161011Z
LAST-MODIFIED:20200630T110733Z
UID:4484-1596708000-1596718800@www.wycombefoe.org.uk
SUMMARY:Conservation volunteering - CANCELLED?
DESCRIPTION:Every Thursday the Chiltern Rangers run a volunteer conservation group which is open to all.\nCome along and meet the group at Wycombe Rye Lido Car Park and keep fit while helping to take care of your local environment at woodlands. \nTools\, gloves and hot drinks are provided. Please wear stout footwear and appropriate clothing suitable for outdoors activities and the weather. If you would like to get involved then please contact us – info@chilternrangers.co.uk \nMore events are on their website. \n 
URL:https://www.wycombefoe.org.uk/event/conservation-volunteering-every-thursday-of-the-month-25-4-4-4-3-3-2-2-2-2-2-2-2-2-2-2-3-2-2-2-2-2-2-2/
LOCATION:Wycombe Lido Swimming pool\, The Rye \, HighWycombe\, United Kingdom
ORGANIZER;CN="Chiltern rangers":MAILTO:info@chilternrangers.co.uk
END:VEVENT
BEGIN:VEVENT
DTSTART;VALUE=DATE:20200822
DTEND;VALUE=DATE:20200823
DTSTAMP:20260423T113433
CREATED:20180724T120746Z
LAST-MODIFIED:20200725T083411Z
UID:4443-1598054400-1598140799@www.wycombefoe.org.uk
SUMMARY:Earth Overshoot Day
DESCRIPTION:Earth Overshoot Day marks the date when humanity’s demand for ecological resources and services in a given year exceeds what Earth can regenerate in that year. We maintain this deficit by liquidating stocks of ecological resources and accumulating waste\, primarily carbon dioxide in the atmosphere. \nEarth Overshoot Day is hosted and calculated by Global Footprint Network\, an international think tank that coordinates research\, develops methodological standards and provides decision-makers with a menu of tools to help the human economy operate within Earth’s ecological limits. \nEvery year has different date depending on how sustainable we are; worldwide.
URL:https://www.wycombefoe.org.uk/event/earth-overshoot-day-2/
END:VEVENT
BEGIN:VEVENT
DTSTART;VALUE=DATE:20200901
DTEND;VALUE=DATE:20200902
DTSTAMP:20260423T113433
CREATED:20170301T100115Z
LAST-MODIFIED:20200725T135011Z
UID:4499-1598918400-1599004799@www.wycombefoe.org.uk
SUMMARY:OTHER ECO EVENTS & GROUPS
DESCRIPTION:Some local environmental organisations list their own events. \nClick on the link to their websites below and search for ‘what’s on’ or ‘events’: \nChiltern Rangers \nChinnor and Thame Friends of the Earth \nExtinction Rebellion Chilterns \nHigh Wycombe Beekeepers \nHigh Wycombe & Marlow Vegans \nPopulation Matters High Wycombe \nRevive the Wye \nWycombe for Climate Action \nWycombe Environment Centre \nWycombe Wildlife Group \nSee also… \nFood shops and markets selling LOCAL produce \nFriends of the Earth (London) \nMarlow Repair Cafe \nPopulation Matters (London) \nTen Mile Menu (local vegbox delivery)
URL:https://www.wycombefoe.org.uk/event/note-other-local-event-listings-10-2-2-8-4-2-3-2-2-2-2-2-2-2-2-2-2-3-2-2-2-2-2-2-2-2-2-2-2-2-2/
END:VEVENT
BEGIN:VEVENT
DTSTART;TZID=Europe/London:20200902T193000
DTEND;TZID=Europe/London:20200902T203000
DTSTAMP:20260423T113433
CREATED:20170129T143413Z
LAST-MODIFIED:20200725T134934Z
UID:4500-1599075000-1599078600@www.wycombefoe.org.uk
SUMMARY:Wycombe FoE Monthly Meeting (remote meeting)
DESCRIPTION:Email us at  wycombefoe@yahoo.co.uk for more info. \n 
URL:https://www.wycombefoe.org.uk/event/wycombe-friends-of-the-earth-monthly-meeting-23-6-2-2-2-3-3-2-3-2-2-2-2-2-2-2-2-2-2-2-2-2/
END:VEVENT
BEGIN:VEVENT
DTSTART;TZID=Europe/London:20200903T100000
DTEND;TZID=Europe/London:20200903T130000
DTSTAMP:20260423T113433
CREATED:20160409T161011Z
LAST-MODIFIED:20200913T104923Z
UID:4501-1599127200-1599138000@www.wycombefoe.org.uk
SUMMARY:Conservation volunteering
DESCRIPTION:Every Thursday the Chiltern Rangers run a volunteer conservation group which is open to all.\nCome along and meet the group at Wycombe Rye Lido Car Park and keep fit while helping to take care of your local environment at woodlands. \nTools\, gloves and hot drinks are provided. Please wear stout footwear and appropriate clothing suitable for outdoors activities and the weather. If you would like to get involved then please contact us – info@chilternrangers.co.uk \nMore events are on their website. \n 
URL:https://www.wycombefoe.org.uk/event/conservation-volunteering-every-thursday-of-the-month-25-4-4-4-3-3-2-2-2-2-2-2-2-2-2-2-3-2-2-2-2-2-2-2-2/
LOCATION:Wycombe Lido Swimming pool\, The Rye \, HighWycombe\, United Kingdom
ORGANIZER;CN="Chiltern rangers":MAILTO:info@chilternrangers.co.uk
END:VEVENT
BEGIN:VEVENT
DTSTART;TZID=Europe/London:20200913T110000
DTEND;TZID=Europe/London:20200913T170000
DTSTAMP:20260423T113433
CREATED:20170129T151405Z
LAST-MODIFIED:20200913T104749Z
UID:4505-1599994800-1600016400@www.wycombefoe.org.uk
SUMMARY:Pann Mill Open day (cancelled due to Covid19)
DESCRIPTION:Enjoy a walk round the Rye and stop in on Pann Mill for cake/tea/coffee and view the variety of stands. \nFlour made in Pann Mill is usually on sale (dependent on water levels). \nLikely eco stalls: Wycombe Friends of the Earth and High Wycombe Beekeepers. \nCoincides with Heritage Open Days.
URL:https://www.wycombefoe.org.uk/event/pann-mill-open-day-5-2-2-2/
LOCATION:Pann Mill\, The Rye (nr Busy Bees nursery)\, High Wycombe\, HP11 1BJ\, United Kingdom
CATEGORIES:Uptodate for 2018
END:VEVENT
BEGIN:VEVENT
DTSTART;VALUE=DATE:20200916
DTEND;VALUE=DATE:20200917
DTSTAMP:20260423T113433
CREATED:20160601T151917Z
LAST-MODIFIED:20210220T175737Z
UID:4507-1600214400-1600300799@www.wycombefoe.org.uk
SUMMARY:Ozone layer day
DESCRIPTION:UN international Day for the Preservation of the Ozone Layer. \nWorldwide\, every 16th September.
URL:https://www.wycombefoe.org.uk/event/ozone-layer-day-2-2-2-2/
CATEGORIES:Uptodate for 2017,Uptodate for 2018
END:VEVENT
BEGIN:VEVENT
DTSTART;VALUE=DATE:20200921
DTEND;VALUE=DATE:20200922
DTSTAMP:20260423T113433
CREATED:20200606T180738Z
LAST-MODIFIED:20200606T180738Z
UID:4457-1600646400-1600732799@www.wycombefoe.org.uk
SUMMARY:Zero emissions day
DESCRIPTION:The Global 24 hour Moratorium on the use of Fossil Fuels. \nWorldwide\, every 21 September
URL:https://www.wycombefoe.org.uk/event/zero-emissions-day/
END:VEVENT
BEGIN:VEVENT
DTSTART;VALUE=DATE:20200921
DTEND;VALUE=DATE:20200928
DTSTAMP:20260423T113433
CREATED:20160601T151032Z
LAST-MODIFIED:20200725T140009Z
UID:4509-1600646400-1601251199@www.wycombefoe.org.uk
SUMMARY:Recycle week
DESCRIPTION:The aim of the week is to encourage people to think about all those items that often get forgotten about when recycling at home. And to encourage people to recycle more\, waste less and take up the challenge for sustainable living. \nFrom third or fourth Monday in September\, to Sunday. \n 
URL:https://www.wycombefoe.org.uk/event/recycle-week-2-2-2-2/
CATEGORIES:Uptodate for 2018
END:VEVENT
BEGIN:VEVENT
DTSTART;VALUE=DATE:20200926
DTEND;VALUE=DATE:20200927
DTSTAMP:20260423T113433
CREATED:20190601T170342Z
LAST-MODIFIED:20200725T140149Z
UID:4511-1601078400-1601164799@www.wycombefoe.org.uk
SUMMARY:World Contraception Day
DESCRIPTION:The annual worldwide campaign centers around a vision where every pregnancy is wanted. Launched in 2007\, WCD’s mission is to improve awareness of contraception and to enable young people to make informed choices on their sexual and reproductive health. \nFrom a sustainability and climate change viewpoint this is also important because having one fewer child has a bigger impact than going vegan\, flying less or not using fossil fuels\, combined! \nWorldwide\, every 26th September.
URL:https://www.wycombefoe.org.uk/event/world-contraception-day-2/
END:VEVENT
BEGIN:VEVENT
DTSTART;VALUE=DATE:20201001
DTEND;VALUE=DATE:20201002
DTSTAMP:20260423T113433
CREATED:20170301T100115Z
LAST-MODIFIED:20200913T111900Z
UID:4542-1601510400-1601596799@www.wycombefoe.org.uk
SUMMARY:OTHER ECO EVENTS & GROUPS
DESCRIPTION:Some local environmental organisations list their own events. \nClick on the link to their websites below and search for ‘what’s on’ or ‘events’: \nChiltern Rangers \nChinnor and Thame Friends of the Earth \nExtinction Rebellion Chilterns \nHigh Wycombe Beekeepers \nHigh Wycombe & Marlow Vegans \nPopulation Matters High Wycombe \nRevive the Wye \nWycombe for Climate Action \nWycombe Environment Centre \nWycombe Wildlife Group \nSee also… \nFood shops and markets selling LOCAL produce \nFriends of the Earth (London) \nMarlow Repair Cafe \nPopulation Matters (London) \nTen Mile Menu (local vegbox delivery)
URL:https://www.wycombefoe.org.uk/event/note-other-local-event-listings-10-2-2-8-4-2-3-2-2-2-2-2-2-2-2-2-2-3-2-2-2-2-2-2-2-2-2-2-2-2-2-2/
END:VEVENT
BEGIN:VEVENT
DTSTART;VALUE=DATE:20201004
DTEND;VALUE=DATE:20201005
DTSTAMP:20260423T113433
CREATED:20160802T134335Z
LAST-MODIFIED:20200913T112414Z
UID:4547-1601769600-1601855999@www.wycombefoe.org.uk
SUMMARY:Animal welfare day
DESCRIPTION:The aim of Animal welfare day is to raise the status of animals in order to improve welfare standards around the globe. To achieve this\, they encourage animal welfare organisations\, community groups\, youth and children’s clubs\, businesses and individuals to organise events in celebration of World Animal Day. \nWorldwide\, every 4th Oct.
URL:https://www.wycombefoe.org.uk/event/animal-welfare-day-2-2-2/
END:VEVENT
BEGIN:VEVENT
DTSTART;VALUE=DATE:20201004
DTEND;VALUE=DATE:20201005
DTSTAMP:20260423T113433
CREATED:20190814T092204Z
LAST-MODIFIED:20200913T112224Z
UID:4545-1601769600-1601855999@www.wycombefoe.org.uk
SUMMARY:'No disposable cup' day
DESCRIPTION:Founded by Ed Gemmell in 2019 (4 October is the feast day of St Francis of Assisi who it the patron saint of the environment) \nThe aim is to…\n1. get everyone not to use a disposable cup for one day while raising awareness of the massive waste problem caused by disposable cups \n2. get disposable cups withdrawn or banned completely \n3. help in the battle against global heating and climate change. \nEvery 4th Oct\, worldwide.
URL:https://www.wycombefoe.org.uk/event/no-disposable-cup-day-2/
END:VEVENT
END:VCALENDAR