BEGIN:VCALENDAR
VERSION:2.0
PRODID:-//Wycombe Friends of the Earth - ECPv6.15.17//NONSGML v1.0//EN
CALSCALE:GREGORIAN
METHOD:PUBLISH
X-WR-CALNAME:Wycombe Friends of the Earth
X-ORIGINAL-URL:https://www.wycombefoe.org.uk
X-WR-CALDESC:Events for Wycombe Friends of the Earth
REFRESH-INTERVAL;VALUE=DURATION:PT1H
X-Robots-Tag:noindex
X-PUBLISHED-TTL:PT1H
BEGIN:VTIMEZONE
TZID:Europe/London
BEGIN:DAYLIGHT
TZOFFSETFROM:+0000
TZOFFSETTO:+0100
TZNAME:BST
DTSTART:20170326T010000
END:DAYLIGHT
BEGIN:STANDARD
TZOFFSETFROM:+0100
TZOFFSETTO:+0000
TZNAME:GMT
DTSTART:20171029T010000
END:STANDARD
BEGIN:DAYLIGHT
TZOFFSETFROM:+0000
TZOFFSETTO:+0100
TZNAME:BST
DTSTART:20180325T010000
END:DAYLIGHT
BEGIN:STANDARD
TZOFFSETFROM:+0100
TZOFFSETTO:+0000
TZNAME:GMT
DTSTART:20181028T010000
END:STANDARD
BEGIN:DAYLIGHT
TZOFFSETFROM:+0000
TZOFFSETTO:+0100
TZNAME:BST
DTSTART:20190331T010000
END:DAYLIGHT
BEGIN:STANDARD
TZOFFSETFROM:+0100
TZOFFSETTO:+0000
TZNAME:GMT
DTSTART:20191027T010000
END:STANDARD
END:VTIMEZONE
BEGIN:VEVENT
DTSTART;VALUE=DATE:20180512
DTEND;VALUE=DATE:20180513
DTSTAMP:20260423T121404
CREATED:20170129T145809Z
LAST-MODIFIED:20180421T092058Z
UID:3007-1526083200-1526169599@www.wycombefoe.org.uk
SUMMARY:World Fairtrade Day
DESCRIPTION:Fair Trade is an agent for change. It is a tangible solution to poverty eradication\, a good tool for sustainable development\, and most of all Fair Trade promotes social justice. \nContact High Wycombe Fairtrade group to find out if any events/stalls are happening in your area – www.wycombefairtrade.org.uk/ \nWorldwide. Every 2nd Saturday of May. \n 
URL:https://www.wycombefoe.org.uk/event/world-fairtrade-day-2-2/
END:VEVENT
BEGIN:VEVENT
DTSTART;VALUE=DATE:20180506
DTEND;VALUE=DATE:20180513
DTSTAMP:20260423T121404
CREATED:20170129T145017Z
LAST-MODIFIED:20180128T121933Z
UID:2907-1525564800-1526169599@www.wycombefoe.org.uk
SUMMARY:Compost awareness week
DESCRIPTION:Find out about the importance of composting and how to do it. \nMore info: www.homecomposting.org.uk and www.gardenorganic.org.uk. \nWorldwide. \nStarts every first Sunday of May\, till Saturday \n 
URL:https://www.wycombefoe.org.uk/event/compost-awareness-week-2-2/
END:VEVENT
BEGIN:VEVENT
DTSTART;TZID=Europe/London:20180503T100000
DTEND;TZID=Europe/London:20180503T130000
DTSTAMP:20260423T121404
CREATED:20160409T161011Z
LAST-MODIFIED:20180128T115311Z
UID:2903-1525341600-1525352400@www.wycombefoe.org.uk
SUMMARY:Conservation volunteering - EVERY Thursday of the month
DESCRIPTION:Every Thursday the Chiltern Rangers run a volunteer conservation group which is open to all. Come along and meet the group at Wycombe Rye Lido Car Park and keep fit while helping to take care of your local environment at woodlands. \nTools\, gloves and hot drinks are provided. Please wear stout footwear and appropriate clothing suitable for outdoors activities and the weather. If you would like to get involved then please contact us. \ninfo@chilternrangers.co.uk \n 
URL:https://www.wycombefoe.org.uk/event/conservation-volunteering-every-thursday-of-the-month-25-4-3/
LOCATION:Wycombe Lido Swimming pool\, The Rye \, HighWycombe\, United Kingdom
ORGANIZER;CN="Chiltern rangers":MAILTO:info@chilternrangers.co.uk
END:VEVENT
BEGIN:VEVENT
DTSTART;TZID=Europe/London:20180502T193000
DTEND;TZID=Europe/London:20180502T213000
DTSTAMP:20260423T121404
CREATED:20170129T143413Z
LAST-MODIFIED:20171104T125457Z
UID:2704-1525289400-1525296600@www.wycombefoe.org.uk
SUMMARY:Wycombe Friends of the Earth - Monthly Meeting
DESCRIPTION:Everyone is welcome to come along for a cup of tea and chat. Or get stuck in and start campaigning (to improve local air quality\, reduce food waste etc etc). \nEasy parking (free from 7pm) is available at the car park next to Trinity Reformed Church. Only 5min walk to the Friends Meeting House from there. \nBus stop is also right next to the church. \nEmail us at  wycombefoe@yahoo.co.uk for more info. \n 
URL:https://www.wycombefoe.org.uk/event/wycombe-friends-of-the-earth-monthly-meeting-23-6/
LOCATION:Friends Meeting House\, 25 London Road\, High Wycombe\, HP11 1BJ
END:VEVENT
BEGIN:VEVENT
DTSTART;VALUE=DATE:20180501
DTEND;VALUE=DATE:20180502
DTSTAMP:20260423T121404
CREATED:20170301T100115Z
LAST-MODIFIED:20180128T114458Z
UID:2896-1525132800-1525219199@www.wycombefoe.org.uk
SUMMARY:OTHER LOCAL EVENTS
DESCRIPTION:Note for using this calendar. \nSome local environmental organisations list their own events. \nClick on the link to their websites below and search for ‘what’s on’ or ‘events’: \nChiltern Rangers \nChinnor and Thame Friends of the Earth \nHigh Wycombe Beekeepers \nMarlow in Transition \nRevive the Wye \nWycombe Environment Centre \nWycombe Wildlife Group \nAnd see… \nFood shops and markets selling LOCAL produce \nUK Friends of the Earth \nPopulation Matters
URL:https://www.wycombefoe.org.uk/event/note-other-local-event-listings-10-2-2-8-3/
END:VEVENT
BEGIN:VEVENT
DTSTART;TZID=Europe/London:20180425T190000
DTEND;TZID=Europe/London:20180425T203000
DTSTAMP:20260423T121404
CREATED:20170301T102403Z
LAST-MODIFIED:20180222T205913Z
UID:2462-1524682800-1524688200@www.wycombefoe.org.uk
SUMMARY:Low Carbon Chilterns AGM
DESCRIPTION:Annual General Meeting of the Low Carbon Chilterns Cooperative. \nAll welcome. Refreshments included.
URL:https://www.wycombefoe.org.uk/event/low-carbon-chilterns-agm-2-2/
LOCATION:Quaker Meeting House\, 25 London Road\, High Wycombe\, HP11 1BJ\, United Kingdom
ORGANIZER;CN="Low Carbon Chilterns Cooperative":MAILTO:hello@lowcarbonchilterns.org
END:VEVENT
BEGIN:VEVENT
DTSTART;VALUE=DATE:20180422
DTEND;VALUE=DATE:20180423
DTSTAMP:20260423T121404
CREATED:20161207T163635Z
LAST-MODIFIED:20180221T122453Z
UID:2945-1524355200-1524441599@www.wycombefoe.org.uk
SUMMARY:Earth Day
DESCRIPTION:Celebrate our planet. Find an event near you. \nOrganised by Earth Day Network. \nWorldwide. \nEvery 22nd April.
URL:https://www.wycombefoe.org.uk/event/earth-day-2-2/
END:VEVENT
BEGIN:VEVENT
DTSTART;TZID=Europe/London:20180405T100000
DTEND;TZID=Europe/London:20180405T130000
DTSTAMP:20260423T121404
CREATED:20160409T161011Z
LAST-MODIFIED:20180128T115210Z
UID:2901-1522922400-1522933200@www.wycombefoe.org.uk
SUMMARY:Conservation volunteering - EVERY Thursday of the month
DESCRIPTION:Every Thursday the Chiltern Rangers run a volunteer conservation group which is open to all. Come along and meet the group at Wycombe Rye Lido Car Park and keep fit while helping to take care of your local environment at woodlands. \nTools\, gloves and hot drinks are provided. Please wear stout footwear and appropriate clothing suitable for outdoors activities and the weather. If you would like to get involved then please contact us. \ninfo@chilternrangers.co.uk \n 
URL:https://www.wycombefoe.org.uk/event/conservation-volunteering-every-thursday-of-the-month-25-4-2/
LOCATION:Wycombe Lido Swimming pool\, The Rye \, HighWycombe\, United Kingdom
ORGANIZER;CN="Chiltern rangers":MAILTO:info@chilternrangers.co.uk
END:VEVENT
BEGIN:VEVENT
DTSTART;TZID=Europe/London:20180404T193000
DTEND;TZID=Europe/London:20180404T213000
DTSTAMP:20260423T121404
CREATED:20170129T143413Z
LAST-MODIFIED:20180222T104412Z
UID:2703-1522870200-1522877400@www.wycombefoe.org.uk
SUMMARY:GREENPEACE talk at Wycombe FoE Monthly Meeting
DESCRIPTION:At our April meeting\, Wycombe Friends of the Earth will host a talk by Julia Spragg of Greenpeace on “Rainbow Warriors and Creative Confrontation”. The talk will cover Greenpeace’s approach to campaigning\, past and current campaigns – in particular for the defence of the Antarctic ocean and its wildlife. \nRefreshments included. \nDonations optional. \nAmple free parking from 7pm in car park next to Trinity United Reformed Church (same postcode). \nEmail us at  wycombefoe@yahoo.co.uk for more info. \n \n 
URL:https://www.wycombefoe.org.uk/event/wycombe-friends-of-the-earth-monthly-meeting-23-5/
LOCATION:Friends Meeting House\, 25 London Road\, High Wycombe\, HP11 1BJ
END:VEVENT
BEGIN:VEVENT
DTSTART;VALUE=DATE:20180401
DTEND;VALUE=DATE:20180402
DTSTAMP:20260423T121404
CREATED:20170301T100115Z
LAST-MODIFIED:20180128T114420Z
UID:2897-1522540800-1522627199@www.wycombefoe.org.uk
SUMMARY:OTHER LOCAL EVENTS
DESCRIPTION:Note for using this calendar. \nSome local environmental organisations list their own events. \nClick on the link to their websites below and search for ‘what’s on’ or ‘events’: \nChiltern Rangers \nChinnor and Thame Friends of the Earth \nHigh Wycombe Beekeepers \nMarlow in Transition \nRevive the Wye \nWycombe Environment Centre \nWycombe Wildlife Group \nAnd see… \nFood shops and markets selling LOCAL produce \nUK Friends of the Earth \nPopulation Matters
URL:https://www.wycombefoe.org.uk/event/note-other-local-event-listings-10-2-2-8-2/
END:VEVENT
BEGIN:VEVENT
DTSTART;TZID=Europe/London:20180324T203000
DTEND;TZID=Europe/London:20180324T213000
DTSTAMP:20260423T121404
CREATED:20161207T162630Z
LAST-MODIFIED:20171213T095440Z
UID:2854-1521923400-1521927000@www.wycombefoe.org.uk
SUMMARY:Earth Hour
DESCRIPTION:Earth Hour is an annual event where hundreds of millions of people switch off their lights for one hour to show they care about our planet. \nWorldwide. \nUsually last Saturday of March.
URL:https://www.wycombefoe.org.uk/event/earth-hour-3-2/
END:VEVENT
BEGIN:VEVENT
DTSTART;VALUE=DATE:20180322
DTEND;VALUE=DATE:20180323
DTSTAMP:20260423T121404
CREATED:20161207T163501Z
LAST-MODIFIED:20171213T095859Z
UID:2853-1521676800-1521763199@www.wycombefoe.org.uk
SUMMARY:Water Day
DESCRIPTION:Organised by United Nations. \nWorldwide. \nEvery 22 March.
URL:https://www.wycombefoe.org.uk/event/water-day-2-2/
END:VEVENT
BEGIN:VEVENT
DTSTART;VALUE=DATE:20180321
DTEND;VALUE=DATE:20180322
DTSTAMP:20260423T121404
CREATED:20161207T163025Z
LAST-MODIFIED:20171213T095140Z
UID:2852-1521590400-1521676799@www.wycombefoe.org.uk
SUMMARY:Forestry Day
DESCRIPTION:International day of forests. Organised by United Nations. \nWorldwide. \nEvery 21st March.
URL:https://www.wycombefoe.org.uk/event/forestry-day-2-2/
END:VEVENT
BEGIN:VEVENT
DTSTART;TZID=Europe/London:20180307T193000
DTEND;TZID=Europe/London:20180307T213000
DTSTAMP:20260423T121404
CREATED:20170129T143413Z
LAST-MODIFIED:20171104T125346Z
UID:2702-1520451000-1520458200@www.wycombefoe.org.uk
SUMMARY:Wycombe Friends of the Earth - Monthly Meeting
DESCRIPTION:Everyone is welcome to come along for a cup of tea and chat. Or get stuck in and start campaigning (to improve local air quality\, reduce food waste etc etc). \nEasy parking (free from 7pm) is available at the car park next to Trinity Reformed Church. Only 5min walk to the Friends Meeting House from there. \nBus stop is also right next to the church. \nEmail us at  wycombefoe@yahoo.co.uk for more info. \n 
URL:https://www.wycombefoe.org.uk/event/wycombe-friends-of-the-earth-monthly-meeting-23-4/
LOCATION:Friends Meeting House\, 25 London Road\, High Wycombe\, HP11 1BJ
END:VEVENT
BEGIN:VEVENT
DTSTART;TZID=Europe/London:20180306T130000
DTEND;TZID=Europe/London:20180306T140000
DTSTAMP:20260423T121404
CREATED:20170727T192418Z
LAST-MODIFIED:20171101T151230Z
UID:2678-1520341200-1520344800@www.wycombefoe.org.uk
SUMMARY:Population Matters High Wycombe - meet on occasional Tuesdays
DESCRIPTION:Non-profit group Population Matters High Wycombe meet on occasional Tuesdays at the Lido Cafe on the Rye. \nContact us on highwycombegroup@populationmatters.org if you want to attend. You can buy your lunch in the Cafe or bring your own. \nThe group aims to further gender equality and women’s empowerment because when women have equal say in determining family size\, they generally opt for smaller families and smaller families are more sustainable. We also try to improve access to family planning services\,   because 200 million women worldwide currently don’t have adequate access. This is especially important in developing countries such as Africa where birth rates and malnutrition are high. \nSee top solutions to climate change according to recent research: \nwww.theguardian.com/environment/2017/jul/12/want-to-fight-climate-change-have-fewer-children \nand www.drawdown.org/solutions-summary-by-rank
URL:https://www.wycombefoe.org.uk/event/population-matters-high-wycombe-meeting-on-tuesdays-4-2-4/
LOCATION:Lido Cafe on the Rye\, The Rye (off Bassetsbury Lane)\, High Wycombe\, HP11 1QX
END:VEVENT
BEGIN:VEVENT
DTSTART;TZID=Europe/London:20180303T140000
DTEND;TZID=Europe/London:20180303T163000
DTSTAMP:20260423T121404
CREATED:20160802T141837Z
LAST-MODIFIED:20180122T164103Z
UID:2217-1520085600-1520094600@www.wycombefoe.org.uk
SUMMARY:Population Matters Conference
DESCRIPTION:Population Matters is the leading population charity in the UK. It aims to raise awareness of population size and its impact on consumption\, climate change and resource deficiency. It campaigns for gender equality and women’s rights to family planning services. Empowered (educated) women generally have smaller\, more sustainable families. \nAttendance to Conference is free. \nFor more information go www.populationmatters.org/news/events/conference-2018 \nOr contact your local group on highwycombegroup@populationmatters.org \n 
URL:https://www.wycombefoe.org.uk/event/population-matters-agm-and-conference-2/
LOCATION:Conway Hall\, 25 Red Lion Square\, London\, WC1R 4RL\, United Kingdom
ORGANIZER;CN="Population Matters":MAILTO:enquiries@populationmatters.org
END:VEVENT
BEGIN:VEVENT
DTSTART;VALUE=DATE:20180303
DTEND;VALUE=DATE:20180304
DTSTAMP:20260423T121404
CREATED:20161212T195416Z
LAST-MODIFIED:20171101T165110Z
UID:2693-1520035200-1520121599@www.wycombefoe.org.uk
SUMMARY:Wildlife day
DESCRIPTION:World wildlife day. \nOn 20 December 2013\, at its 68th session\, the United Nations General Assembly (UNGA) decided to proclaim 3 March\, the day of signature of the Convention on International Trade in Endangered Species of Wild Fauna and Flora (CITES)\, as UN World Wildlife Day to celebrate and raise awareness of the world’s wild animals and plants. The UNGA resolution also designated the CITES Secretariat as the facilitator for the global observance of this special day for wildlife on the UN calendar. \nEvery 3 March.
URL:https://www.wycombefoe.org.uk/event/wildlife-day-2/
END:VEVENT
BEGIN:VEVENT
DTSTART;TZID=Europe/London:20180302T160000
DTEND;TZID=Europe/London:20180302T173000
DTSTAMP:20260423T121404
CREATED:20170203T202430Z
LAST-MODIFIED:20171101T151619Z
UID:2453-1520006400-1520011800@www.wycombefoe.org.uk
SUMMARY:Eco drinks in the Falcon - Occasional Fridays
DESCRIPTION:We are an environmentally aware group of individuals who occasionally meet up in the Falcon pub (off Church Street\, in High Wycombe town centre). \nIf you are interested in coming along\, please email Roland at rxb@supanet.com a few days in advance\, so we can confirm the Friday and look out for you at the venue. \nThe Falcon’s sustainable fish and chips is also recommended. \n  \n 
URL:https://www.wycombefoe.org.uk/event/eco-drinks-in-the-falcon-most-fridays-7-4/
LOCATION:Falcon pub\, 9 Cornmarket\, High Wycombe\, HP11 2AX\, United Kingdom
END:VEVENT
BEGIN:VEVENT
DTSTART;TZID=Europe/London:20180301T100000
DTEND;TZID=Europe/London:20180301T130000
DTSTAMP:20260423T121404
CREATED:20160409T161011Z
LAST-MODIFIED:20170821T143627Z
UID:2445-1519898400-1519909200@www.wycombefoe.org.uk
SUMMARY:Conservation volunteering - EVERY Thursday of the month
DESCRIPTION:Every Thursday the Chiltern Rangers run a volunteer conservation group which is open to all. Come along and meet the group at Wycombe Rye Lido Car Park and keep fit while helping to take care of your local environment at woodlands. \nTools\, gloves and hot drinks are provided. Please wear stout footwear and appropriate clothing suitable for outdoors activities and the weather. If you would like to get involved then please contact us. \ninfo@chilternrangers.co.uk \n 
URL:https://www.wycombefoe.org.uk/event/conservation-volunteering-every-thursday-of-the-month-25-4/
LOCATION:Wycombe Lido Swimming pool\, The Rye \, HighWycombe\, United Kingdom
ORGANIZER;CN="Chiltern rangers":MAILTO:info@chilternrangers.co.uk
END:VEVENT
BEGIN:VEVENT
DTSTART;VALUE=DATE:20180301
DTEND;VALUE=DATE:20180302
DTSTAMP:20260423T121404
CREATED:20170301T100115Z
LAST-MODIFIED:20180128T114241Z
UID:2431-1519862400-1519948799@www.wycombefoe.org.uk
SUMMARY:OTHER LOCAL EVENTS
DESCRIPTION:Note for using this calendar. \nSome local environmental organisations list their own events. \nClick on the link to their websites below and search for ‘what’s on’ or ‘events’: \nChiltern Rangers \nChinnor and Thame Friends of the Earth \nHigh Wycombe Beekeepers \nMarlow in Transition \nRevive the Wye \nWycombe Environment Centre \nWycombe Wildlife Group \nAnd see… \nFood shops and markets selling LOCAL produce \nUK Friends of the Earth \nPopulation Matters
URL:https://www.wycombefoe.org.uk/event/note-other-local-event-listings-10-2-2-8/
END:VEVENT
BEGIN:VEVENT
DTSTART;VALUE=DATE:20180226
DTEND;VALUE=DATE:20180312
DTSTAMP:20260423T121404
CREATED:20161102T154715Z
LAST-MODIFIED:20180128T111924Z
UID:2690-1519603200-1520812799@www.wycombefoe.org.uk
SUMMARY:Fairtrade fortnight
DESCRIPTION:The people who grow the food we take for granted can’t always feed their own families. Fairtrade can support farmers and workers to put food on the table for their families by harnessing the power of a Fairtrade breakfast. During Fairtrade Fortnight\, we will be encouraging campaigners to inspire Big Fairtrade Breakfasts in their community – and wake others up to the challenges facing farmers and workers. \n  \n 
URL:https://www.wycombefoe.org.uk/event/fairtrade-fortnight-2-2/
END:VEVENT
BEGIN:VEVENT
DTSTART;TZID=Europe/London:20180207T193000
DTEND;TZID=Europe/London:20180207T213000
DTSTAMP:20260423T121404
CREATED:20170129T143413Z
LAST-MODIFIED:20171104T125305Z
UID:2701-1518031800-1518039000@www.wycombefoe.org.uk
SUMMARY:Wycombe Friends of the Earth - Monthly Meeting
DESCRIPTION:Everyone is welcome to come along for a cup of tea and chat. Or get stuck in and start campaigning (to improve local air quality\, reduce food waste etc etc). \nEasy parking (free from 7pm) is available at the car park next to Trinity Reformed Church. Only 5min walk to the Friends Meeting House from there. \nBus stop is also right next to the church. \nEmail us at  wycombefoe@yahoo.co.uk for more info. \n 
URL:https://www.wycombefoe.org.uk/event/wycombe-friends-of-the-earth-monthly-meeting-23-3/
LOCATION:Friends Meeting House\, 25 London Road\, High Wycombe\, HP11 1BJ
END:VEVENT
BEGIN:VEVENT
DTSTART;TZID=Europe/London:20180206T130000
DTEND;TZID=Europe/London:20180206T140000
DTSTAMP:20260423T121404
CREATED:20170727T192418Z
LAST-MODIFIED:20171101T150727Z
UID:2679-1517922000-1517925600@www.wycombefoe.org.uk
SUMMARY:Population Matters High Wycombe - meet on occasional Tuesdays
DESCRIPTION:Non-profit group Population Matters High Wycombe meet on occasional Tuesdays at the Lido Cafe on the Rye. \nContact us on highwycombegroup@populationmatters.org if you want to attend. You can buy your lunch in the Cafe or bring your own. \nThe group aims to further gender equality and women’s empowerment because when women have equal say in determining family size\, they generally opt for smaller families and smaller families are more sustainable. We also try to improve access to family planning services\,   because 200 million women worldwide currently don’t have adequate access. This is especially important in developing countries such as Africa where birth rates and malnutrition are high. \nSee top solutions to climate change according to recent research: \nwww.theguardian.com/environment/2017/jul/12/want-to-fight-climate-change-have-fewer-children \nand www.drawdown.org/solutions-summary-by-rank
URL:https://www.wycombefoe.org.uk/event/population-matters-high-wycombe-meeting-on-tuesdays-4-2-3/
LOCATION:Lido Cafe on the Rye\, The Rye (off Bassetsbury Lane)\, High Wycombe\, HP11 1QX
END:VEVENT
BEGIN:VEVENT
DTSTART;TZID=Europe/London:20180202T160000
DTEND;TZID=Europe/London:20180202T173000
DTSTAMP:20260423T121404
CREATED:20170203T202430Z
LAST-MODIFIED:20171101T151514Z
UID:2454-1517587200-1517592600@www.wycombefoe.org.uk
SUMMARY:Eco drinks in the Falcon - Occasional Fridays
DESCRIPTION:We are an environmentally aware group of individuals who occasionally meet up in the Falcon pub (off Church Street\, in High Wycombe town centre). \nIf you are interested in coming along\, please email Roland at rxb@supanet.com a few days in advance\, so we can confirm the Friday and look out for you at the venue. \nThe Falcon’s sustainable fish and chips is also recommended. \n  \n 
URL:https://www.wycombefoe.org.uk/event/eco-drinks-in-the-falcon-most-fridays-7-3/
LOCATION:Falcon pub\, 9 Cornmarket\, High Wycombe\, HP11 2AX\, United Kingdom
END:VEVENT
BEGIN:VEVENT
DTSTART;VALUE=DATE:20180202
DTEND;VALUE=DATE:20180203
DTSTAMP:20260423T121404
CREATED:20151202T114713Z
LAST-MODIFIED:20171101T161641Z
UID:849-1517529600-1517615999@www.wycombefoe.org.uk
SUMMARY:World Wetlands Day
DESCRIPTION:World Wetlands Day is celebrated every year on 2 February. This day marks the date of the adoption of the Convention on Wetlands on 2 February 1971\, in the Iranian city of Ramsar on the shores of the Caspian Sea. \n2nd of February every year; worldwide.
URL:https://www.wycombefoe.org.uk/event/world-wetlands-day-2/
END:VEVENT
BEGIN:VEVENT
DTSTART;TZID=Europe/London:20180201T100000
DTEND;TZID=Europe/London:20180201T130000
DTSTAMP:20260423T121404
CREATED:20160409T161011Z
LAST-MODIFIED:20170821T143548Z
UID:2447-1517479200-1517490000@www.wycombefoe.org.uk
SUMMARY:Conservation volunteering - EVERY Thursday of the month
DESCRIPTION:Every Thursday the Chiltern Rangers run a volunteer conservation group which is open to all. Come along and meet the group at Wycombe Rye Lido Car Park and keep fit while helping to take care of your local environment at woodlands. \nTools\, gloves and hot drinks are provided. Please wear stout footwear and appropriate clothing suitable for outdoors activities and the weather. If you would like to get involved then please contact us. \ninfo@chilternrangers.co.uk \n 
URL:https://www.wycombefoe.org.uk/event/conservation-volunteering-every-thursday-of-the-month-25-3/
LOCATION:Wycombe Lido Swimming pool\, The Rye \, HighWycombe\, United Kingdom
ORGANIZER;CN="Chiltern rangers":MAILTO:info@chilternrangers.co.uk
END:VEVENT
BEGIN:VEVENT
DTSTART;VALUE=DATE:20180201
DTEND;VALUE=DATE:20180202
DTSTAMP:20260423T121404
CREATED:20170301T100115Z
LAST-MODIFIED:20170821T143137Z
UID:2432-1517443200-1517529599@www.wycombefoe.org.uk
SUMMARY:OTHER LOCAL EVENTS
DESCRIPTION:Note for using this calendar. \nSome local environmental organisations list their own events. \nClick on the link to their websites below and search for ‘what’s on’ or ‘events’: \nChiltern Rangers \nChinnor and Thame Friends of the Earth \nHigh Wycombe Beekeepers \nMarlow in Transition \nRevive the Wye \nWycombe Environment Centre \nWycombe Wildlife Group \nAnd see… \nFood shops and markets selling LOCAL produce \nUK Friends of the Earth \nUK Population Matters
URL:https://www.wycombefoe.org.uk/event/note-other-local-event-listings-10-2-2-7/
END:VEVENT
BEGIN:VEVENT
DTSTART;TZID=Europe/London:20180113T105000
DTEND;TZID=Europe/London:20180113T130000
DTSTAMP:20260423T121404
CREATED:20161102T140028Z
LAST-MODIFIED:20171224T143144Z
UID:2874-1515840600-1515848400@www.wycombefoe.org.uk
SUMMARY:Wycombe Environment Centre AGM
DESCRIPTION:Please sign in at the main reception desk at 10.50 am. You will then be taken to Room G505 \nWycombe Env Centre moved from their premises in Chilterns Shopping Centre in 2016\, but have been discussing new premises/projects with Bucks County council. \nMore information will be given at the AGM. \nAll welcome. \n  \n 
URL:https://www.wycombefoe.org.uk/event/wycombe-environment-centre-agm-2/
LOCATION:Bucks New University\, High Wycombe Campus\, Queen Alexandra Road\, High Wycombe\, HP11 2JZ\, United Kingdom
END:VEVENT
BEGIN:VEVENT
DTSTART;TZID=Europe/London:20180105T160000
DTEND;TZID=Europe/London:20180105T173000
DTSTAMP:20260423T121404
CREATED:20170203T202430Z
LAST-MODIFIED:20171101T151415Z
UID:2455-1515168000-1515173400@www.wycombefoe.org.uk
SUMMARY:Eco drinks in the Falcon - Occasional Fridays
DESCRIPTION:We are an environmentally aware group of individuals who occasionally meet up in the Falcon pub (off Church Street\, in High Wycombe town centre). \nIf you are interested in coming along\, please email Roland at rxb@supanet.com a few days in advance\, so we can confirm the Friday and look out for you at the venue. \nThe Falcon’s sustainable fish and chips is also recommended. \n  \n 
URL:https://www.wycombefoe.org.uk/event/eco-drinks-in-the-falcon-most-fridays-7-2/
LOCATION:Falcon pub\, 9 Cornmarket\, High Wycombe\, HP11 2AX\, United Kingdom
END:VEVENT
BEGIN:VEVENT
DTSTART;TZID=Europe/London:20180104T100000
DTEND;TZID=Europe/London:20180104T130000
DTSTAMP:20260423T121404
CREATED:20160409T161011Z
LAST-MODIFIED:20170821T143510Z
UID:2449-1515060000-1515070800@www.wycombefoe.org.uk
SUMMARY:Conservation volunteering - EVERY Thursday of the month
DESCRIPTION:Every Thursday the Chiltern Rangers run a volunteer conservation group which is open to all. Come along and meet the group at Wycombe Rye Lido Car Park and keep fit while helping to take care of your local environment at woodlands. \nTools\, gloves and hot drinks are provided. Please wear stout footwear and appropriate clothing suitable for outdoors activities and the weather. If you would like to get involved then please contact us. \ninfo@chilternrangers.co.uk \n 
URL:https://www.wycombefoe.org.uk/event/conservation-volunteering-every-thursday-of-the-month-25-2/
LOCATION:Wycombe Lido Swimming pool\, The Rye \, HighWycombe\, United Kingdom
ORGANIZER;CN="Chiltern rangers":MAILTO:info@chilternrangers.co.uk
END:VEVENT
END:VCALENDAR