BEGIN:VCALENDAR
VERSION:2.0
PRODID:-//Wycombe Friends of the Earth - ECPv6.15.17//NONSGML v1.0//EN
CALSCALE:GREGORIAN
METHOD:PUBLISH
X-WR-CALNAME:Wycombe Friends of the Earth
X-ORIGINAL-URL:https://www.wycombefoe.org.uk
X-WR-CALDESC:Events for Wycombe Friends of the Earth
REFRESH-INTERVAL;VALUE=DURATION:PT1H
X-Robots-Tag:noindex
X-PUBLISHED-TTL:PT1H
BEGIN:VTIMEZONE
TZID:Europe/London
BEGIN:DAYLIGHT
TZOFFSETFROM:+0000
TZOFFSETTO:+0100
TZNAME:BST
DTSTART:20230326T010000
END:DAYLIGHT
BEGIN:STANDARD
TZOFFSETFROM:+0100
TZOFFSETTO:+0000
TZNAME:GMT
DTSTART:20231029T010000
END:STANDARD
BEGIN:DAYLIGHT
TZOFFSETFROM:+0000
TZOFFSETTO:+0100
TZNAME:BST
DTSTART:20240331T010000
END:DAYLIGHT
BEGIN:STANDARD
TZOFFSETFROM:+0100
TZOFFSETTO:+0000
TZNAME:GMT
DTSTART:20241027T010000
END:STANDARD
BEGIN:DAYLIGHT
TZOFFSETFROM:+0000
TZOFFSETTO:+0100
TZNAME:BST
DTSTART:20250330T010000
END:DAYLIGHT
BEGIN:STANDARD
TZOFFSETFROM:+0100
TZOFFSETTO:+0000
TZNAME:GMT
DTSTART:20251026T010000
END:STANDARD
END:VTIMEZONE
BEGIN:VEVENT
DTSTART;VALUE=DATE:20240401
DTEND;VALUE=DATE:20240402
DTSTAMP:20260423T113945
CREATED:20170301T100115Z
LAST-MODIFIED:20240201T200227Z
UID:6468-1711929600-1712015999@www.wycombefoe.org.uk
SUMMARY:OTHER ECO GROUPS & EVENTS
DESCRIPTION:Click links below… \nList of environmental events in the Wycombe area\nThis is a more detailed listing of individual events. It is a pinned post on the Facebook page of Wycombe Env Centre. \nList of environmental organisations in the Wycombe area\nAnother way to find out re events. Click on the link to the organisation’s website and search for ‘what’s on’\, events or similar.\n \n  \n 
URL:https://www.wycombefoe.org.uk/event/note-other-local-event-listings-10-2-2-8-4-2-3-2-2-2-2-2-2-2-2-2-2-3-2-2-2-2-2-2-2-2-2-2-2-2-2-2-2-2-2-2-2-2-2-2-2-2-2-2-2-2-2-2-2-2-2-2-2-2-2-2-2-2-2-2-2-2-2-2-2-2-2-2-2-2-2-2/
END:VEVENT
BEGIN:VEVENT
DTSTART;TZID=Europe/London:20240328T183000
DTEND;TZID=Europe/London:20240328T210000
DTSTAMP:20260423T113945
CREATED:20230803T211446Z
LAST-MODIFIED:20240313T104852Z
UID:6355-1711650600-1711659600@www.wycombefoe.org.uk
SUMMARY:Community and Climate cafe (CANCELLED)
DESCRIPTION:Social get-together\, including events/speakers\nMainly in the Front Room Cafe (Castle St\, Wycombe)\, but sometimes in The Patch.\nTo confirm venue etc\, check their WhatsApp group\nhttps://chat.whatsapp.com/CoDzWbJwbtOIP6PHGWSGTm\n(call Toby on 07827 797340 if you have problem joining). \nIf you want to present anything\, or talk about a specific topic\, you are very welcome. \nLast Thursday of the month.
URL:https://www.wycombefoe.org.uk/event/climate-cafe-2-2-2/
END:VEVENT
BEGIN:VEVENT
DTSTART;TZID=Europe/London:20240323T203000
DTEND;TZID=Europe/London:20240323T213000
DTSTAMP:20260423T113945
CREATED:20161207T162630Z
LAST-MODIFIED:20240319T150516Z
UID:6429-1711225800-1711229400@www.wycombefoe.org.uk
SUMMARY:Earth Hour
DESCRIPTION:Earth Hour is an annual event where hundreds of millions of people switch off their lights for one hour (8.30-9.30pm) to show they care about our planet. Discover a new world without electricity… \nLast (or 4th) Saturday of March. Worldwide.
URL:https://www.wycombefoe.org.uk/event/earth-hour-3-2-2-2-2-2-2-2/
END:VEVENT
BEGIN:VEVENT
DTSTART;VALUE=DATE:20240322
DTEND;VALUE=DATE:20240323
DTSTAMP:20260423T113945
CREATED:20190108T155359Z
LAST-MODIFIED:20240104T143545Z
UID:6427-1711065600-1711151999@www.wycombefoe.org.uk
SUMMARY:Water Day
DESCRIPTION:Organised by United Nations. \nWorldwide. \nEvery 22 March.
URL:https://www.wycombefoe.org.uk/event/water-day-3-2-2-2-2-2/
END:VEVENT
BEGIN:VEVENT
DTSTART;VALUE=DATE:20240321
DTEND;VALUE=DATE:20240322
DTSTAMP:20260423T113945
CREATED:20161207T163025Z
LAST-MODIFIED:20240104T143457Z
UID:6425-1710979200-1711065599@www.wycombefoe.org.uk
SUMMARY:Forestry Day
DESCRIPTION:International day of forests. Organised by United Nations. \nWorldwide. \nEvery 21st March.
URL:https://www.wycombefoe.org.uk/event/forestry-day-2-2-2-2-2-2-2-2/
END:VEVENT
BEGIN:VEVENT
DTSTART;TZID=Europe/London:20240319T110000
DTEND;TZID=Europe/London:20240319T130000
DTSTAMP:20260423T113945
CREATED:20240216T201754Z
LAST-MODIFIED:20240216T202414Z
UID:6505-1710846000-1710853200@www.wycombefoe.org.uk
SUMMARY:Foraging walk
DESCRIPTION:Charmaine and Tyler from Khepera CIC join Harry from Wycombe Wanderers Foundation and the group and lead the foraging part of the walk. Last month Charmaine talked about rosehips and this month was about pine\, spruce and cedar. \nMeet at Wycombe Lido car park. Just turn up! \nUpdates on Foraging walk: https://www.facebook.com/HighWycombeCommunityBoard \nUsually 3rd Tuesday of the month.
URL:https://www.wycombefoe.org.uk/event/foraging-walk/
END:VEVENT
BEGIN:VEVENT
DTSTART;TZID=Europe/London:20240309T100000
DTEND;TZID=Europe/London:20240309T130000
DTSTAMP:20260423T113945
CREATED:20211004T140652Z
LAST-MODIFIED:20240104T143354Z
UID:6423-1709978400-1709989200@www.wycombefoe.org.uk
SUMMARY:Wycombe Repair Café
DESCRIPTION:The Wycombe Repair Café project is run by the Wycombe Environment Centre. It is located in All Saints Parish Church in the centre of High Wycombe. Bring your broken household items (mechanical\, textile or small electrical) and we may be able to repair it. Either way\, there will be no charge (except if a new part is required)\, although any donations will be very welcome. \nEvery 2nd Saturday of the month\, in High Wycombe.\n(note also that there are other Repair Cafes nearby\, eg in Marlow and Hazlemere)
URL:https://www.wycombefoe.org.uk/event/repair-cafe-2-2-2-2-2-2-2-2-2-2-2-2-2-2-2-2-2-2-2-2-2-3-2-3-2-2-2-2-2/
LOCATION:Church Street\, Church Street\, High Wycombe\, HP11 2DE\, United Kingdom
END:VEVENT
BEGIN:VEVENT
DTSTART;TZID=Europe/London:20240307T100000
DTEND;TZID=Europe/London:20240307T130000
DTSTAMP:20260423T113945
CREATED:20160409T161011Z
LAST-MODIFIED:20240102T151005Z
UID:6411-1709805600-1709816400@www.wycombefoe.org.uk
SUMMARY:Chiltern Rangers Conservation MOST THURSDAYS
DESCRIPTION:Most Thursdays the Chiltern Rangers run a volunteer conservation group which is open to all.\nCome along and meet the group at Wycombe Rye Lido Car Park and keep fit while helping to take care of your local environment at woodlands. \nTools\, gloves and hot drinks are provided. Please wear stout footwear and appropriate clothing suitable for outdoors activities and the weather. If you would like to get involved then please contact them –  info@chilternrangers.co.uk \nCheck their website for details and more events. \n 
URL:https://www.wycombefoe.org.uk/event/conservation-volunteering-every-thursday-of-the-month-25-4-4-4-3-3-2-2-2-2-2-2-2-2-2-2-3-2-2-2-2-2-2-2-2-2-2-2-2-2-2-2-2-2-3-2-2-2-2-2-2-2-2-2-2-5-2-2-2-2-2-2-2-2-2-2/
LOCATION:Wycombe Lido Swimming pool\, The Rye \, HighWycombe\, United Kingdom
ORGANIZER;CN="Chiltern rangers":MAILTO:info@chilternrangers.co.uk
END:VEVENT
BEGIN:VEVENT
DTSTART;TZID=Europe/London:20240306T193000
DTEND;TZID=Europe/London:20240306T210000
DTSTAMP:20260423T113945
CREATED:20170129T143413Z
LAST-MODIFIED:20240215T230843Z
UID:6407-1709753400-1709758800@www.wycombefoe.org.uk
SUMMARY:Wycombe FoE Monthly Meeting (in person this time!)
DESCRIPTION:Agenda will be published a few days beforehand on our Home page – www.wycombefoe.org.uk. \nNon-members please email us at wycombefoe@yahoo.co.uk for a Zoom invitation.\nWe welcome new input and faces\, so let’s hear from you. \n 
URL:https://www.wycombefoe.org.uk/event/wycombe-friends-of-the-earth-monthly-meeting-23-6-2-2-2-3-3-2-3-2-2-2-2-2-2-2-2-2-2-2-2-2-3-3-2-2-2-2-2-3-2-2-2-2-2-2-2-2-2-2-2-2-2-2-4-2-2-2-2-2-2-2-2-2-3-2-2/
END:VEVENT
BEGIN:VEVENT
DTSTART;TZID=Europe/London:20240306T133000
DTEND;TZID=Europe/London:20240306T163000
DTSTAMP:20260423T113945
CREATED:20220608T084910Z
LAST-MODIFIED:20240102T151935Z
UID:6417-1709731800-1709742600@www.wycombefoe.org.uk
SUMMARY:Scrapstore 'Refresh' EVERY WEDNESDAY
DESCRIPTION:Refresh Wycombe is a wonderful scrap store based in the Chiltern Shopping Centre\, right here in the heart of High Wycombe. Our aim is to encourage you to Reduce\, Reuse\, Recycle and Create. We have a huge selection of surplus and unwanted stock all donated by local businesses and individuals. You may be a crafter\, a teacher\, an artist or a maker. We have fantastic fabrics\, textiles\, haberdashery items\, cards\, papers\, foils\, and shelves full of materials just waiting for you to give it a second life and use it on your next project. We are open to everyone\, so come and visit us every Saturday between 10am and 4pm and Wednesday between 1:30pm and 4:30pm. We’re just next door to Primark inside the Chiltern Shopping Centre.\n\nPlease follow us on Social Media to get all the latest news.\nFacebook – Refreshwycombe\nInstagram – @refreshwycombe\nWebsite – www.refreshwycombe.org
URL:https://www.wycombefoe.org.uk/event/scrapstore-refresh-every-saturday-2-2-2-2-3-2-2-2-2-2-2-2-2-5-2-2-2-2-2-3-2/
LOCATION:Chilterns Shopping Centre\, Unit 8\, Chilterns Shopping Centre\, Frogmoor\, High Wycombe\, HP13 5ES\, United Kingdom
END:VEVENT
BEGIN:VEVENT
DTSTART;TZID=Europe/London:20240304T183000
DTEND;TZID=Europe/London:20240304T190000
DTSTAMP:20260423T113945
CREATED:20220608T085815Z
LAST-MODIFIED:20240104T143056Z
UID:6419-1709577000-1709578800@www.wycombefoe.org.uk
SUMMARY:'Wycombe Environment' meeting MOST MONDAYS
DESCRIPTION:Wycombe Environment (WE) is part of the Environment and Climate Change sub-group of the High Wycombe Community Board – itself part of Buckinghamshire County Council. WE is not a forum for discussion\, but for action\, to cut carbon and boost biodiversity. \nOn most Mondays\, the group meets weekly for half an hour by Zoom on Mondays at 6.30 pm. If you would like to join\, please email hwcb@buckinghamshire.gov.uk\, with ‘WE’ in the subject line. \nIt was setup 10th Feb 2021. \n 
URL:https://www.wycombefoe.org.uk/event/wycombe-environment-group-meeting-most-mondays-2-2-2-2-2-4-2-4-2-2-2-2-3-2-2/
END:VEVENT
BEGIN:VEVENT
DTSTART;VALUE=DATE:20240304
DTEND;VALUE=DATE:20240311
DTSTAMP:20260423T113945
CREATED:20230303T171057Z
LAST-MODIFIED:20240127T131826Z
UID:6421-1709510400-1710115199@www.wycombefoe.org.uk
SUMMARY:Food Waste Action Week
DESCRIPTION:The campaign aims to increase citizens’ confidence in ‘using up leftovers’ by promoting a range of skills that can be easily adopted but potentially have the greatest impact on reducing food waste in the home. \nIn first half of March\, UK
URL:https://www.wycombefoe.org.uk/event/food-waste-action-week-2/
ORGANIZER;CN="WRAP":MAILTO:http://www.wrap.org.uk/help/contact
END:VEVENT
BEGIN:VEVENT
DTSTART;VALUE=DATE:20240303
DTEND;VALUE=DATE:20240304
DTSTAMP:20260423T113945
CREATED:20161212T195416Z
LAST-MODIFIED:20240303T105609Z
UID:6413-1709424000-1709510399@www.wycombefoe.org.uk
SUMMARY:Wildlife day
DESCRIPTION:World wildlife day. \nIn 2013\, at its 68th session\, the United Nations General Assembly (UNGA) decided to proclaim 3 March\, the day of signature of the Convention on International Trade in Endangered Species of Wild Fauna and Flora (CITES)\, as UN World Wildlife Day to celebrate and raise awareness of the world’s wild animals and plants. The UNGA resolution also designated the CITES Secretariat as the facilitator for the global observance of this special day for wildlife on the UN calendar. \nEvery 3 March. Worldwide.
URL:https://www.wycombefoe.org.uk/event/wildlife-day-2-2-2-2-2-2-2/
END:VEVENT
BEGIN:VEVENT
DTSTART;TZID=Europe/London:20240302T100000
DTEND;TZID=Europe/London:20240302T160000
DTSTAMP:20260423T113945
CREATED:20220608T084910Z
LAST-MODIFIED:20240102T151856Z
UID:6415-1709373600-1709395200@www.wycombefoe.org.uk
SUMMARY:Scrapstore 'Refresh' EVERY SATURDAY
DESCRIPTION:Refresh Wycombe is a wonderful scrap store based in the Chiltern Shopping Centre\, right here in the heart of High Wycombe. Our aim is to encourage you to Reduce\, Reuse\, Recycle and Create. We have a huge selection of surplus and unwanted stock all donated by local businesses and individuals. You may be a crafter\, a teacher\, an artist or a maker. We have fantastic fabrics\, textiles\, haberdashery items\, cards\, papers\, foils\, and shelves full of materials just waiting for you to give it a second life and use it on your next project. We are open to everyone\, so come and visit us every Saturday between 10am and 4pm and Wednesday between 1:30pm and 4:30pm. We’re just next door to Primark inside the Chiltern Shopping Centre.\n\nPlease follow us on Social Media to get all the latest news.\nFacebook – Refreshwycombe\nInstagram – @refreshwycombe\nWebsite – www.refreshwycombe.org
URL:https://www.wycombefoe.org.uk/event/scrapstore-refresh-every-saturday-2-2-2-2-3-2-2-2-2-2-5-2-2-2-2-2-2-2-2-2/
END:VEVENT
BEGIN:VEVENT
DTSTART;VALUE=DATE:20240301
DTEND;VALUE=DATE:20240302
DTSTAMP:20260423T113945
CREATED:20170301T100115Z
LAST-MODIFIED:20240102T150857Z
UID:6409-1709251200-1709337599@www.wycombefoe.org.uk
SUMMARY:OTHER ECO GROUPS & EVENTS
DESCRIPTION:Click links below… \nList of environmental events in the Wycombe area\nThis is a more detailed listing of individual events. It is a pinned post on the Facebook page of Wycombe Env Centre. \nList of environmental organisations in the Wycombe area\nAnother way to find out re events. Click on the link to the organisation’s website and search for ‘what’s on’\, events or similar.\n \n  \n 
URL:https://www.wycombefoe.org.uk/event/note-other-local-event-listings-10-2-2-8-4-2-3-2-2-2-2-2-2-2-2-2-2-3-2-2-2-2-2-2-2-2-2-2-2-2-2-2-2-2-2-2-2-2-2-2-2-2-2-2-2-2-2-2-2-2-2-2-2-2-2-2-2-2-2-2-2-2-2-2-2-2-2-2-2-2-2/
END:VEVENT
BEGIN:VEVENT
DTSTART;TZID=Europe/London:20240210T100000
DTEND;TZID=Europe/London:20240210T130000
DTSTAMP:20260423T113945
CREATED:20211004T140652Z
LAST-MODIFIED:20231219T211707Z
UID:6381-1707559200-1707570000@www.wycombefoe.org.uk
SUMMARY:Wycombe Repair Café
DESCRIPTION:The Wycombe Repair Café project is run by the Wycombe Environment Centre. It is located in All Saints Parish Church in the centre of High Wycombe. Bring your broken household items (mechanical\, textile or small electrical) and we may be able to repair it. Either way\, there will be no charge (except if a new part is required)\, although any donations will be very welcome. \nEvery 2nd Saturday of the month\, in High Wycombe.\n(note also that there are other Repair Cafes nearby\, eg in Marlow and Hazlemere)
URL:https://www.wycombefoe.org.uk/event/repair-cafe-2-2-2-2-2-2-2-2-2-2-2-2-2-2-2-2-2-2-2-2-2-3-2-3-2-2-2-2/
LOCATION:Church Street\, Church Street\, High Wycombe\, HP11 2DE\, United Kingdom
END:VEVENT
BEGIN:VEVENT
DTSTART;TZID=Europe/London:20240207T193000
DTEND;TZID=Europe/London:20240207T210000
DTSTAMP:20260423T113945
CREATED:20170129T143413Z
LAST-MODIFIED:20231219T171614Z
UID:6376-1707334200-1707339600@www.wycombefoe.org.uk
SUMMARY:Wycombe FoE Monthly Meeting
DESCRIPTION:Format of meeting (Zoom and/or Physical location).\nAgenda will be published a few days beforehand on our Home page – www.wycombefoe.org.uk. \nNon-members please email us at wycombefoe@yahoo.co.uk for a Zoom invitation.\nWe welcome new input and faces\, so let’s hear from you. \n 
URL:https://www.wycombefoe.org.uk/event/wycombe-friends-of-the-earth-monthly-meeting-23-6-2-2-2-3-3-2-3-2-2-2-2-2-2-2-2-2-2-2-2-2-3-3-2-2-2-2-2-3-2-2-2-2-2-2-2-2-2-2-2-2-2-2-4-2-2-2-2-2-2-2-2-2-3-2/
END:VEVENT
BEGIN:VEVENT
DTSTART;TZID=Europe/London:20240207T133000
DTEND;TZID=Europe/London:20240207T163000
DTSTAMP:20260423T113945
CREATED:20220608T084910Z
LAST-MODIFIED:20231222T145308Z
UID:6392-1707312600-1707323400@www.wycombefoe.org.uk
SUMMARY:Scrapstore 'Refresh' EVERY WEDNESDAY
DESCRIPTION:Refresh Wycombe is a wonderful scrap store based in the Chiltern Shopping Centre\, right here in the heart of High Wycombe. Our aim is to encourage you to Reduce\, Reuse\, Recycle and Create. We have a huge selection of surplus and unwanted stock all donated by local businesses and individuals. You may be a crafter\, a teacher\, an artist or a maker. We have fantastic fabrics\, textiles\, haberdashery items\, cards\, papers\, foils\, and shelves full of materials just waiting for you to give it a second life and use it on your next project. We are open to everyone\, so come and visit us every Saturday between 10am and 4pm and Wednesday between 1:30pm and 4:30pm. We’re just next door to Primark inside the Chiltern Shopping Centre.\n\nPlease follow us on Social Media to get all the latest news.\nFacebook – Refreshwycombe\nInstagram – @refreshwycombe\nWebsite – www.refreshwycombe.org
URL:https://www.wycombefoe.org.uk/event/scrapstore-refresh-every-saturday-2-2-2-2-3-2-2-2-2-2-2-2-2-5-2-2-2-2-2-3/
LOCATION:Chilterns Shopping Centre\, Unit 8\, Chilterns Shopping Centre\, Frogmoor\, High Wycombe\, HP13 5ES\, United Kingdom
END:VEVENT
BEGIN:VEVENT
DTSTART;TZID=Europe/London:20240205T183000
DTEND;TZID=Europe/London:20240205T190000
DTSTAMP:20260423T113945
CREATED:20220608T085815Z
LAST-MODIFIED:20231222T145616Z
UID:6394-1707157800-1707159600@www.wycombefoe.org.uk
SUMMARY:'Wycombe Environment' meeting MOST MONDAYS
DESCRIPTION:Wycombe Environment (WE) is part of the Environment and Climate Change sub-group of the High Wycombe Community Board – itself part of Buckinghamshire County Council. WE is not a forum for discussion\, but for action\, to cut carbon and boost biodiversity. \nOn most Mondays\, the group meets weekly for half an hour by Zoom on Mondays at 6.30 pm. If you would like to join\, please email hwcb@buckinghamshire.gov.uk\, with ‘WE’ in the subject line. \nIt was setup 10th Feb 2021. \n 
URL:https://www.wycombefoe.org.uk/event/wycombe-environment-group-meeting-most-mondays-2-2-2-2-2-4-2-4-2-2-2-2-3-2/
END:VEVENT
BEGIN:VEVENT
DTSTART;TZID=Europe/London:20240203T100000
DTEND;TZID=Europe/London:20240203T160000
DTSTAMP:20260423T113945
CREATED:20220608T084910Z
LAST-MODIFIED:20231222T145130Z
UID:6390-1706954400-1706976000@www.wycombefoe.org.uk
SUMMARY:Scrapstore 'Refresh' EVERY SATURDAY
DESCRIPTION:Refresh Wycombe is a wonderful scrap store based in the Chiltern Shopping Centre\, right here in the heart of High Wycombe. Our aim is to encourage you to Reduce\, Reuse\, Recycle and Create. We have a huge selection of surplus and unwanted stock all donated by local businesses and individuals. You may be a crafter\, a teacher\, an artist or a maker. We have fantastic fabrics\, textiles\, haberdashery items\, cards\, papers\, foils\, and shelves full of materials just waiting for you to give it a second life and use it on your next project. We are open to everyone\, so come and visit us every Saturday between 10am and 4pm and Wednesday between 1:30pm and 4:30pm. We’re just next door to Primark inside the Chiltern Shopping Centre.\n\nPlease follow us on Social Media to get all the latest news.\nFacebook – Refreshwycombe\nInstagram – @refreshwycombe\nWebsite – www.refreshwycombe.org
URL:https://www.wycombefoe.org.uk/event/scrapstore-refresh-every-saturday-2-2-2-2-3-2-2-2-2-2-5-2-2-2-2-2-2-2-2/
END:VEVENT
BEGIN:VEVENT
DTSTART;TZID=Europe/London:20240201T100000
DTEND;TZID=Europe/London:20240201T130000
DTSTAMP:20260423T113945
CREATED:20160409T161011Z
LAST-MODIFIED:20231219T204059Z
UID:6379-1706781600-1706792400@www.wycombefoe.org.uk
SUMMARY:Chiltern Rangers Conservation MOST THURSDAYS
DESCRIPTION:Most Thursdays the Chiltern Rangers run a volunteer conservation group which is open to all.\nCome along and meet the group at Wycombe Rye Lido Car Park and keep fit while helping to take care of your local environment at woodlands. \nTools\, gloves and hot drinks are provided. Please wear stout footwear and appropriate clothing suitable for outdoors activities and the weather. If you would like to get involved then please contact them –  info@chilternrangers.co.uk \nCheck their website for details and more events. \n 
URL:https://www.wycombefoe.org.uk/event/conservation-volunteering-every-thursday-of-the-month-25-4-4-4-3-3-2-2-2-2-2-2-2-2-2-2-3-2-2-2-2-2-2-2-2-2-2-2-2-2-2-2-2-2-3-2-2-2-2-2-2-2-2-2-2-5-2-2-2-2-2-2-2-2-2/
LOCATION:Wycombe Lido Swimming pool\, The Rye \, HighWycombe\, United Kingdom
ORGANIZER;CN="Chiltern rangers":MAILTO:info@chilternrangers.co.uk
END:VEVENT
BEGIN:VEVENT
DTSTART;VALUE=DATE:20240201
DTEND;VALUE=DATE:20240202
DTSTAMP:20260423T113945
CREATED:20170301T100115Z
LAST-MODIFIED:20231219T171330Z
UID:6374-1706745600-1706831999@www.wycombefoe.org.uk
SUMMARY:OTHER ECO GROUPS & EVENTS
DESCRIPTION:Click links below… \nList of environmental events in the Wycombe area\nThis is a more detailed listing of individual events. It is a pinned post on the Facebook page of Wycombe Env Centre. \nList of environmental organisations in the Wycombe area\nAnother way to find out re events. Click on the link to the organisation’s website and search for ‘what’s on’\, events or similar.\n \n  \n 
URL:https://www.wycombefoe.org.uk/event/note-other-local-event-listings-10-2-2-8-4-2-3-2-2-2-2-2-2-2-2-2-2-3-2-2-2-2-2-2-2-2-2-2-2-2-2-2-2-2-2-2-2-2-2-2-2-2-2-2-2-2-2-2-2-2-2-2-2-2-2-2-2-2-2-2-2-2-2-2-2-2-2-2-2-2/
END:VEVENT
BEGIN:VEVENT
DTSTART;TZID=Europe/London:20240113T100000
DTEND;TZID=Europe/London:20240113T130000
DTSTAMP:20260423T113945
CREATED:20211004T140652Z
LAST-MODIFIED:20231113T162239Z
UID:6353-1705140000-1705150800@www.wycombefoe.org.uk
SUMMARY:Wycombe Repair Café
DESCRIPTION:Wycombe Repair Café is run by volunteers and organised by Wycombe Environment community group. The Repair Café is located in All Saints Parish Church in the centre of High Wycombe. Bring your broken household items (mechanical\, textile or small electrical) and we may be able to repair it. Either way\, there will be no charge (except if a new part is required)\, although any donations will be very welcome. \nEvery 2nd Saturday of the month\, in High Wycombe.\n(note also that there are other Repair Cafes nearby\, eg in Marlow and Hazlemere)
URL:https://www.wycombefoe.org.uk/event/repair-cafe-2-2-2-2-2-2-2-2-2-2-2-2-2-2-2-2-2-2-2-2-2-3-2-3-2-2-2/
LOCATION:Church Street\, Church Street\, High Wycombe\, HP11 2DE\, United Kingdom
END:VEVENT
BEGIN:VEVENT
DTSTART;TZID=Europe/London:20240110T193000
DTEND;TZID=Europe/London:20240110T210000
DTSTAMP:20260423T113945
CREATED:20170129T143413Z
LAST-MODIFIED:20231221T222715Z
UID:6387-1704915000-1704920400@www.wycombefoe.org.uk
SUMMARY:Wycombe FoE Monthly Meeting
DESCRIPTION:Format of meeting (Zoom and/or Physical location).\nAgenda will be published a few days beforehand on our Home page – www.wycombefoe.org.uk. \nNon-members please email us at wycombefoe@yahoo.co.uk for a Zoom invitation.\nWe welcome new input and faces\, so let’s hear from you. \n 
URL:https://www.wycombefoe.org.uk/event/wycombe-friends-of-the-earth-monthly-meeting-23-6-2-2-2-3-3-2-3-2-2-2-2-2-2-2-2-2-2-2-2-2-3-3-2-2-2-2-2-3-2-2-2-2-2-2-2-2-2-2-2-2-2-2-4-2-2-2-2-2-2-2-2-2-3-3/
END:VEVENT
BEGIN:VEVENT
DTSTART;TZID=Europe/London:20240110T133000
DTEND;TZID=Europe/London:20240110T163000
DTSTAMP:20260423T113945
CREATED:20220608T084910Z
LAST-MODIFIED:20231116T111609Z
UID:6349-1704893400-1704904200@www.wycombefoe.org.uk
SUMMARY:Scrapstore 'Refresh' continues EVERY WEDNESDAY
DESCRIPTION:Refresh Wycombe is a wonderful scrap store based in the Chiltern Shopping Centre\, right here in the heart of High Wycombe. Our aim is to encourage you to Reduce\, Reuse\, Recycle and Create. We have a huge selection of surplus and unwanted stock all donated by local businesses and individuals. You may be a crafter\, a teacher\, an artist or a maker. We have fantastic fabrics\, textiles\, haberdashery items\, cards\, papers\, foils\, and shelves full of materials just waiting for you to give it a second life and use it on your next project. We are open to everyone\, so come and visit us every Saturday between 10am and 4pm and Wednesday between 1:30pm and 4:30pm. We’re just next door to Primark inside the Chiltern Shopping Centre.\n\nPlease follow us on Social Media to get all the latest news.\nFacebook – Refreshwycombe\nInstagram – @refreshwycombe\nWebsite – www.refreshwycombe.org
URL:https://www.wycombefoe.org.uk/event/scrapstore-refresh-every-saturday-2-2-2-2-3-2-2-2-2-2-2-2-2-5-2-2-2-2-2-2/
LOCATION:Chilterns Shopping Centre\, Unit 8\, Chilterns Shopping Centre\, Frogmoor\, High Wycombe\, HP13 5ES\, United Kingdom
END:VEVENT
BEGIN:VEVENT
DTSTART;TZID=Europe/London:20240108T183000
DTEND;TZID=Europe/London:20240108T190000
DTSTAMP:20260423T113945
CREATED:20220608T085815Z
LAST-MODIFIED:20231211T225142Z
UID:6371-1704738600-1704740400@www.wycombefoe.org.uk
SUMMARY:'Wycombe Environment' meeting MOST MONDAYS
DESCRIPTION:Wycombe Environment (WE) is part of the Environment and Climate Change sub-group of the High Wycombe Community Board – itself part of Buckinghamshire County Council. WE is not a forum for discussion\, but for action\, to cut carbon and boost biodiversity. \nOn most Mondays\, the group meets weekly for half an hour by Zoom on Mondays at 6.30 pm. If you would like to join\, please email hwcb@buckinghamshire.gov.uk\, with ‘WE’ in the subject line. \nIt was setup 10th Feb 2021. \n 
URL:https://www.wycombefoe.org.uk/event/wycombe-environment-group-meeting-most-mondays-2-2-2-2-2-4-2-4-2-2-2-2-3/
END:VEVENT
BEGIN:VEVENT
DTSTART;TZID=Europe/London:20240106T100000
DTEND;TZID=Europe/London:20240106T160000
DTSTAMP:20260423T113945
CREATED:20220608T084910Z
LAST-MODIFIED:20231113T162116Z
UID:6350-1704535200-1704556800@www.wycombefoe.org.uk
SUMMARY:Scrapstore 'Refresh' EVERY SATURDAY
DESCRIPTION:Refresh Wycombe is a wonderful scrap store based in the Chiltern Shopping Centre\, right here in the heart of High Wycombe. Our aim is to encourage you to Reduce\, Reuse\, Recycle and Create. We have a huge selection of surplus and unwanted stock all donated by local businesses and individuals. You may be a crafter\, a teacher\, an artist or a maker. We have fantastic fabrics\, textiles\, haberdashery items\, cards\, papers\, foils\, and shelves full of materials just waiting for you to give it a second life and use it on your next project. We are open to everyone\, so come and visit us every Saturday between 10am and 4pm and Wednesday between 1:30pm and 4:30pm. We’re just next door to Primark inside the Chiltern Shopping Centre.\n\nPlease follow us on Social Media to get all the latest news.\nFacebook – Refreshwycombe\nInstagram – @refreshwycombe\nWebsite – www.refreshwycombe.org
URL:https://www.wycombefoe.org.uk/event/scrapstore-refresh-every-saturday-2-2-2-2-3-2-2-2-2-2-5-2-2-2-2-2-2-2/
END:VEVENT
BEGIN:VEVENT
DTSTART;TZID=Europe/London:20240106T100000
DTEND;TZID=Europe/London:20240106T120000
DTSTAMP:20260423T113945
CREATED:20240104T211557Z
LAST-MODIFIED:20240104T211557Z
UID:6431-1704535200-1704542400@www.wycombefoe.org.uk
SUMMARY:Flackwell Heath Repair Cafe
DESCRIPTION:Flackwell Heath Repair Cafe is held at the Flackwell Heath Community Centre.\n\n\nEmail Pauline at info@fhrepaircafe.co.uk to book your place.\n\n\nFirst Saturday of every month.
URL:https://www.wycombefoe.org.uk/event/flackwell-heath-repair-cafe/
END:VEVENT
BEGIN:VEVENT
DTSTART;TZID=Europe/London:20240104T100000
DTEND;TZID=Europe/London:20240104T130000
DTSTAMP:20260423T113945
CREATED:20160409T161011Z
LAST-MODIFIED:20231113T161738Z
UID:6347-1704362400-1704373200@www.wycombefoe.org.uk
SUMMARY:Chiltern Rangers Conservation MOST THURSDAYS
DESCRIPTION:Most Thursdays the Chiltern Rangers run a volunteer conservation group which is open to all.\nCome along and meet the group at Wycombe Rye Lido Car Park and keep fit while helping to take care of your local environment at woodlands. \nTools\, gloves and hot drinks are provided. Please wear stout footwear and appropriate clothing suitable for outdoors activities and the weather. If you would like to get involved then please contact them –  info@chilternrangers.co.uk \nCheck their website for details and more events. \n 
URL:https://www.wycombefoe.org.uk/event/conservation-volunteering-every-thursday-of-the-month-25-4-4-4-3-3-2-2-2-2-2-2-2-2-2-2-3-2-2-2-2-2-2-2-2-2-2-2-2-2-2-2-2-2-3-2-2-2-2-2-2-2-2-2-2-5-2-2-2-2-2-2-2-2/
LOCATION:Wycombe Lido Swimming pool\, The Rye \, HighWycombe\, United Kingdom
ORGANIZER;CN="Chiltern rangers":MAILTO:info@chilternrangers.co.uk
END:VEVENT
BEGIN:VEVENT
DTSTART;TZID=Europe/London:20240103T193000
DTEND;TZID=Europe/London:20240103T210000
DTSTAMP:20260423T113945
CREATED:20170129T143413Z
LAST-MODIFIED:20231221T222808Z
UID:6345-1704310200-1704315600@www.wycombefoe.org.uk
SUMMARY:Wycombe FoE Monthly (POSTPONED till 10th!)
DESCRIPTION:Format of meeting (Zoom and/or Physical location).\nAgenda will be published a few days beforehand on our Home page – www.wycombefoe.org.uk. \nNon-members please email us at wycombefoe@yahoo.co.uk for a Zoom invitation.\nWe welcome new input and faces\, so let’s hear from you. \n 
URL:https://www.wycombefoe.org.uk/event/wycombe-friends-of-the-earth-monthly-meeting-23-6-2-2-2-3-3-2-3-2-2-2-2-2-2-2-2-2-2-2-2-2-3-3-2-2-2-2-2-3-2-2-2-2-2-2-2-2-2-2-2-2-2-2-4-2-2-2-2-2-2-2-2-2-3/
END:VEVENT
END:VCALENDAR