BEGIN:VCALENDAR
VERSION:2.0
PRODID:-//Wycombe Friends of the Earth - ECPv6.15.17//NONSGML v1.0//EN
CALSCALE:GREGORIAN
METHOD:PUBLISH
X-ORIGINAL-URL:https://www.wycombefoe.org.uk
X-WR-CALDESC:Events for Wycombe Friends of the Earth
REFRESH-INTERVAL;VALUE=DURATION:PT1H
X-Robots-Tag:noindex
X-PUBLISHED-TTL:PT1H
BEGIN:VTIMEZONE
TZID:Europe/London
BEGIN:DAYLIGHT
TZOFFSETFROM:+0000
TZOFFSETTO:+0100
TZNAME:BST
DTSTART:20180325T010000
END:DAYLIGHT
BEGIN:STANDARD
TZOFFSETFROM:+0100
TZOFFSETTO:+0000
TZNAME:GMT
DTSTART:20181028T010000
END:STANDARD
BEGIN:DAYLIGHT
TZOFFSETFROM:+0000
TZOFFSETTO:+0100
TZNAME:BST
DTSTART:20190331T010000
END:DAYLIGHT
BEGIN:STANDARD
TZOFFSETFROM:+0100
TZOFFSETTO:+0000
TZNAME:GMT
DTSTART:20191027T010000
END:STANDARD
BEGIN:DAYLIGHT
TZOFFSETFROM:+0000
TZOFFSETTO:+0100
TZNAME:BST
DTSTART:20200329T010000
END:DAYLIGHT
BEGIN:STANDARD
TZOFFSETFROM:+0100
TZOFFSETTO:+0000
TZNAME:GMT
DTSTART:20201025T010000
END:STANDARD
BEGIN:DAYLIGHT
TZOFFSETFROM:+0000
TZOFFSETTO:+0100
TZNAME:BST
DTSTART:20210328T010000
END:DAYLIGHT
BEGIN:STANDARD
TZOFFSETFROM:+0100
TZOFFSETTO:+0000
TZNAME:GMT
DTSTART:20211031T010000
END:STANDARD
END:VTIMEZONE
BEGIN:VEVENT
DTSTART;VALUE=DATE:20191004
DTEND;VALUE=DATE:20191005
DTSTAMP:20260422T230115
CREATED:20190814T092204Z
LAST-MODIFIED:20190814T102251Z
UID:4051-1570147200-1570233599@www.wycombefoe.org.uk
SUMMARY:'No disposable cup' day
DESCRIPTION:Founded by Ed Gemmell in 2019 (4 October is the feast day of St Francis of Assisi who it the patron saint of the environment) \nThe aim is to…\n1. get everyone not to use a disposable cup for one day while raising awareness of the massive waste problem caused by disposable cups \n2. get disposable cups withdrawn or banned completely \n3. help in the battle against global heating and climate change. \nEvery 4th Oct\, worldwide.
URL:https://www.wycombefoe.org.uk/event/no-disposable-cup-day/
END:VEVENT
BEGIN:VEVENT
DTSTART;TZID=Europe/London:20191012T190000
DTEND;TZID=Europe/London:20191012T220000
DTSTAMP:20260422T230115
CREATED:20190320T220531Z
LAST-MODIFIED:20191001T161206Z
UID:3817-1570906800-1570917600@www.wycombefoe.org.uk
SUMMARY:Standup to Climate Chaos
DESCRIPTION:A unique blend of standup comedy and climate infographics.\nPlus: eco stalls\, talks\, Vegan food and eco-friendly drink. \nWycombe FoE will be there as well\, of course. \nFor advance tickets (£6) email highwycombegroup@populationmatters.org.\nOne free drink included. \nSee poster for details: \n 
URL:https://www.wycombefoe.org.uk/event/standup-to-climate-change-2019/
LOCATION:Trinity United Reformed Church\, London Road\, High Wycombe\, Buckinghamshire\, HP11 1BJ\, United Kingdom
ORGANIZER;CN="Population Matters High Wycombe":MAILTO:highwycombegroup[at]populationmatters.org
END:VEVENT
BEGIN:VEVENT
DTSTART;VALUE=DATE:20191016
DTEND;VALUE=DATE:20191017
DTSTAMP:20260422T230115
CREATED:20160409T154554Z
LAST-MODIFIED:20190929T154404Z
UID:4111-1571184000-1571270399@www.wycombefoe.org.uk
SUMMARY:World Food Day
DESCRIPTION:Food day is celebrated in the worldwide in honor of the date of the founding of the Food and Agriculture Organization of the United Nations in 1945. \nEvery 16th October\, worldwide.
URL:https://www.wycombefoe.org.uk/event/food-day-2-2/
END:VEVENT
BEGIN:VEVENT
DTSTART;VALUE=DATE:20191101
DTEND;VALUE=DATE:20191102
DTSTAMP:20260422T230115
CREATED:20161102T141749Z
LAST-MODIFIED:20190930T183531Z
UID:4115-1572566400-1572652799@www.wycombefoe.org.uk
SUMMARY:Vegan day
DESCRIPTION:World vegan day. \nTo share the benefits – to humans\, other animals and the planet – of plant-based lifestyles. \nEvery 1st of November.
URL:https://www.wycombefoe.org.uk/event/vegan-day-2-2-2/
END:VEVENT
BEGIN:VEVENT
DTSTART;VALUE=DATE:20191101
DTEND;VALUE=DATE:20191102
DTSTAMP:20260422T230115
CREATED:20170301T100115Z
LAST-MODIFIED:20190929T173729Z
UID:4113-1572566400-1572652799@www.wycombefoe.org.uk
SUMMARY:OTHER ECO EVENTS & GROUPS
DESCRIPTION:Note for using this calendar: \nSome local environmental organisations list their own events. \nClick on the link to their websites below and search for ‘what’s on’ or ‘events’: \nChiltern Rangers \nChinnor and Thame Friends of the Earth \nExtinction Rebellion Marlow \nHigh Wycombe Beekeepers \nHigh Wycombe & Marlow Vegans \nMarlow in Transition \nPopulation Matters High Wycombe \nRevive the Wye \nWycombe Environment Centre \nWycombe Wildlife Group \nSee also… \nFill Food (local eco deliveries) \nFood shops and markets selling LOCAL produce \nFriends of the Earth (London) \nHOPE  (online eco shop) \nMarlow Repair Cafe (March\, June and Sept) \nPopulation Matters (London) \nTen Mile Menu (local vegbox delivery)
URL:https://www.wycombefoe.org.uk/event/note-other-local-event-listings-10-2-2-8-4-2-3-2-2-2-2-2-2-2-2-2-2-3-2-2/
END:VEVENT
BEGIN:VEVENT
DTSTART;VALUE=DATE:20191106
DTEND;VALUE=DATE:20191107
DTSTAMP:20260422T230115
CREATED:20160409T183503Z
LAST-MODIFIED:20190930T190402Z
UID:4119-1572998400-1573084799@www.wycombefoe.org.uk
SUMMARY:Prevention of environmental exploitation in armed conflict
DESCRIPTION:Worldwide\, every 6th of November.
URL:https://www.wycombefoe.org.uk/event/prevention-of-environmental-exploitation-in-armed-conflict-4-2-2/
END:VEVENT
BEGIN:VEVENT
DTSTART;TZID=Europe/London:20191106T193000
DTEND;TZID=Europe/London:20191106T213000
DTSTAMP:20260422T230115
CREATED:20170129T143413Z
LAST-MODIFIED:20190930T190542Z
UID:4121-1573068600-1573075800@www.wycombefoe.org.uk
SUMMARY:Wycombe Friends of the Earth - Monthly Meeting
DESCRIPTION:Everyone is welcome to come along to chat about local environmental matters. We have ongoing campaigns such as tackling climate change\, reducing plastic waste and improving local air quality. \nBus stop is also right next to the church. \nEasy parking (free from 7pm) is available at the car park next to Trinity United Reformed Church (only 5min walk to the meeting venue). \nEmail us at  wycombefoe@yahoo.co.uk for more info. \n 
URL:https://www.wycombefoe.org.uk/event/wycombe-friends-of-the-earth-monthly-meeting-23-6-2-2-2-3-3-2-3-2-2-2-2/
LOCATION:Quaker Meeting House\, 25 London Road\, High Wycombe\, HP11 1BJ\, United Kingdom
END:VEVENT
BEGIN:VEVENT
DTSTART;VALUE=DATE:20191107
DTEND;VALUE=DATE:20191108
DTSTAMP:20260422T230115
CREATED:20190422T150313Z
LAST-MODIFIED:20190422T150313Z
UID:3890-1573084800-1573171199@www.wycombefoe.org.uk
SUMMARY:Anniversary of Low Carbon Chilterns (7 Nov 2011)
DESCRIPTION:LCCC is a ‘bone fide cooperative’\, registered by the FSA as IPS No. 31454R on\n7 November 2011. We are a member owned and run\, not-for-profit\, community organisation helping the community to save energy and generate its own clean power.
URL:https://www.wycombefoe.org.uk/event/anniversary-of-low-carbon-chilterns-7-nov-2011/
ORGANIZER;CN="Low Carbon Chilterns Cooperative":MAILTO:hello@lowcarbonchilterns.org
END:VEVENT
BEGIN:VEVENT
DTSTART;TZID=Europe/London:20191107T100000
DTEND;TZID=Europe/London:20191107T130000
DTSTAMP:20260422T230115
CREATED:20160409T161011Z
LAST-MODIFIED:20190930T183711Z
UID:4117-1573120800-1573131600@www.wycombefoe.org.uk
SUMMARY:Conservation volunteering - EVERY Thursday of the month
DESCRIPTION:Every Thursday the Chiltern Rangers run a volunteer conservation group which is open to all. Come along and meet the group at Wycombe Rye Lido Car Park and keep fit while helping to take care of your local environment at woodlands. \nTools\, gloves and hot drinks are provided. Please wear stout footwear and appropriate clothing suitable for outdoors activities and the weather. If you would like to get involved then please contact us – info@chilternrangers.co.uk \nMore events are on their website. \n 
URL:https://www.wycombefoe.org.uk/event/conservation-volunteering-every-thursday-of-the-month-25-4-4-4-3-3-2-2-2-2-2-2-2-2-2-2/
LOCATION:Wycombe Lido Swimming pool\, The Rye \, HighWycombe\, United Kingdom
ORGANIZER;CN="Chiltern rangers":MAILTO:info@chilternrangers.co.uk
END:VEVENT
BEGIN:VEVENT
DTSTART;TZID=Europe/London:20191118T200000
DTEND;TZID=Europe/London:20191118T213000
DTSTAMP:20260422T230115
CREATED:20191031T202959Z
LAST-MODIFIED:20191031T202959Z
UID:4180-1574107200-1574112600@www.wycombefoe.org.uk
SUMMARY:AGM of Population Matters High Wycombe
DESCRIPTION:Meeting to be held in High Wycombe.\nTime for informal discussion/drinks afterwards.\nPlease email highwycombegroup@populationmatters.org to get details of venue.\nNewcomers welcome!
URL:https://www.wycombefoe.org.uk/event/agm-of-population-matters-high-wycombe/
ORGANIZER;CN="Population Matters High Wycombe":MAILTO:highwycombegroup[at]populationmatters.org
END:VEVENT
BEGIN:VEVENT
DTSTART;VALUE=DATE:20191121
DTEND;VALUE=DATE:20191122
DTSTAMP:20260422T230115
CREATED:20160409T182508Z
LAST-MODIFIED:20190930T190718Z
UID:4123-1574294400-1574380799@www.wycombefoe.org.uk
SUMMARY:Fisheries Day
DESCRIPTION:Worldwide Event (every 21 November) \nWorld Fisheries day is celebrated every year throughout the world by the fisherfolk communities. Fishing communities worldwide celebrate this day through rallies\, workshops\, public meetings\, cultural programs\, dramas\, exhibition\, music show\, and demonstrations to highlight the importance of maintaining the world’s fisheries.. \nwww.gdrc.org/doyourbit/21_11-fisheries-day.html
URL:https://www.wycombefoe.org.uk/event/fisheries-day-3-2-2/
END:VEVENT
BEGIN:VEVENT
DTSTART;VALUE=DATE:20191122
DTEND;VALUE=DATE:20191123
DTSTAMP:20260422T230115
CREATED:20160409T183128Z
LAST-MODIFIED:20190930T190903Z
UID:4125-1574380800-1574467199@www.wycombefoe.org.uk
SUMMARY:Buy Nothing Day
DESCRIPTION:It’s a day where you challenge yourself\, your family and friends to switch off from shopping and tune into life. The rules are simple\, for 24 hours you will detox from shopping and anyone can take part provided they spend a day without spending! \nEvery fourth Friday in November\, worldwide. \nwww.buynothingday.co.uk
URL:https://www.wycombefoe.org.uk/event/buy-nothing-day-3-2-2/
LOCATION:A WorldWide Event
END:VEVENT
BEGIN:VEVENT
DTSTART;VALUE=DATE:20191123
DTEND;VALUE=DATE:20191202
DTSTAMP:20260422T230115
CREATED:20160802T144150Z
LAST-MODIFIED:20190930T191036Z
UID:4127-1574467200-1575244799@www.wycombefoe.org.uk
SUMMARY:Tree week
DESCRIPTION:National Tree Week is the UK’s largest tree celebration annually launching the start of the winter tree planting season. It is a great chance for communities to do something positive for their local treescape. Each year\, The Tree Council’s member organisations such as voluntary bodies and local authorities\, up to 200 schools and community groups\, our 8\,000 Tree Wardens and many others\, support the initiative by setting up fun\, worthwhile and accessible events\, inspiring upward of a quarter of a million people to get their hands dirty and together plant around a million trees. \nUK\, Saturday to Sunday.
URL:https://www.wycombefoe.org.uk/event/tree-week-2-2/
END:VEVENT
BEGIN:VEVENT
DTSTART;VALUE=DATE:20191201
DTEND;VALUE=DATE:20191202
DTSTAMP:20260422T230115
CREATED:20170301T100115Z
LAST-MODIFIED:20191024T195405Z
UID:4153-1575158400-1575244799@www.wycombefoe.org.uk
SUMMARY:OTHER ECO EVENTS & GROUPS
DESCRIPTION:Note for using this calendar: \nSome local environmental organisations list their own events. \nClick on the link to their websites below and search for ‘what’s on’ or ‘events’: \nChiltern Rangers \nChinnor and Thame Friends of the Earth \nExtinction Rebellion Marlow \nHigh Wycombe Beekeepers \nHigh Wycombe & Marlow Vegans \nMarlow in Transition \nPopulation Matters High Wycombe \nRevive the Wye \nWycombe for Climate Action \nWycombe Environment Centre \nWycombe Wildlife Group \nSee also… \nFill Food (local eco deliveries) \nFood shops and markets selling LOCAL produce \nFriends of the Earth (London) \nHOPE  (online eco shop) \nMarlow Repair Cafe (March\, June and Sept) \nPopulation Matters (London) \nTen Mile Menu (local vegbox delivery)
URL:https://www.wycombefoe.org.uk/event/note-other-local-event-listings-10-2-2-8-4-2-3-2-2-2-2-2-2-2-2-2-2-3-2-2-2/
END:VEVENT
BEGIN:VEVENT
DTSTART;TZID=Europe/London:20191204T193000
DTEND;TZID=Europe/London:20191204T213000
DTSTAMP:20260422T230115
CREATED:20170129T143413Z
LAST-MODIFIED:20231023T155405Z
UID:6305-1575487800-1575495000@www.wycombefoe.org.uk
SUMMARY:Wycombe Friends of the Earth - Xmas Gathering!
DESCRIPTION:This is a social gathering\, not Zoom. Non virtual mince pies on offer… New faces welcome… \nEveryone is welcome to come along to chat about local environmental matters. We have ongoing campaigns such as tackling climate change\, reducing plastic waste and improving local air quality. \nBus stop is also right next to the church. \nEasy parking (free from 7pm) is available at the car park next to Trinity United Reformed Church (only 5min walk to the meeting venue). \nEmail us at  wycombefoe@yahoo.co.uk for more info. \n 
URL:https://www.wycombefoe.org.uk/event/wycombe-friends-of-the-earth-monthly-meeting-23-6-2-2-2-3-3-2-3-2-2-2-2-4/
LOCATION:Quaker Meeting House\, 25 London Road\, High Wycombe\, HP11 1BJ\, United Kingdom
END:VEVENT
BEGIN:VEVENT
DTSTART;TZID=Europe/London:20191204T193000
DTEND;TZID=Europe/London:20191204T213000
DTSTAMP:20260422T230115
CREATED:20170129T143413Z
LAST-MODIFIED:20191112T130812Z
UID:4166-1575487800-1575495000@www.wycombefoe.org.uk
SUMMARY:Wycombe FoE - Monthly Meeting (featuring mince pies)
DESCRIPTION:Everyone is welcome to come along to chat about local environmental matters. We have ongoing campaigns such as tackling climate change\, reducing plastic waste and improving local air quality. \nBus stop is also right next to the church. \nEasy parking (free from 7pm) is available at the car park next to Trinity United Reformed Church (only 5min walk to the meeting venue). \nEmail us at  wycombefoe@yahoo.co.uk for more info. \n 
URL:https://www.wycombefoe.org.uk/event/wycombe-friends-of-the-earth-monthly-meeting-23-6-2-2-2-3-3-2-3-2-2-2-2-3/
LOCATION:Quaker Meeting House\, 25 London Road\, High Wycombe\, HP11 1BJ\, United Kingdom
END:VEVENT
BEGIN:VEVENT
DTSTART;TZID=Europe/London:20191205T100000
DTEND;TZID=Europe/London:20191205T130000
DTSTAMP:20260422T230115
CREATED:20160409T161011Z
LAST-MODIFIED:20191024T192751Z
UID:4151-1575540000-1575550800@www.wycombefoe.org.uk
SUMMARY:Conservation volunteering - EVERY Thursday (except 26th Dec)
DESCRIPTION:Every Thursday the Chiltern Rangers run a volunteer conservation group which is open to all. Come along and meet the group at Wycombe Rye Lido Car Park and keep fit while helping to take care of your local environment at woodlands. \nTools\, gloves and hot drinks are provided. Please wear stout footwear and appropriate clothing suitable for outdoors activities and the weather. If you would like to get involved then please contact us – info@chilternrangers.co.uk \nMore events are on their website. \n 
URL:https://www.wycombefoe.org.uk/event/conservation-volunteering-every-thursday-of-the-month-25-4-4-4-3-3-2-2-2-2-2-2-2-2-2-2-2/
LOCATION:Wycombe Lido Swimming pool\, The Rye \, HighWycombe\, United Kingdom
ORGANIZER;CN="Chiltern rangers":MAILTO:info@chilternrangers.co.uk
END:VEVENT
BEGIN:VEVENT
DTSTART;TZID=Europe/London:20191213T194500
DTEND;TZID=Europe/London:20191213T214500
DTSTAMP:20260422T230115
CREATED:20191026T142940Z
LAST-MODIFIED:20191106T101250Z
UID:4156-1576266300-1576273500@www.wycombefoe.org.uk
SUMMARY:Impact of extreme weather on wildlife (talk)
DESCRIPTION:The Impact of Extreme Weather on Wildlife. \nWycombe Wildlife Group are organising a talk by Dr Pete Inness\, a lecturer in the Meteorology Department of Reading University who was previously a Research Fellow in the Climate Division of the National Centre for Atmospheric Science. He will also include some information on the changing pattern in the British Weather. \nLocation: St Thomas’ Church Hall\, Mayflower Way\, Holtspur\, HP9 1UF.\n(between Loudwater and Beaconsfield) \nAdmission £3 (including refreshments). No charge for children 11-18 accompanying a WWG member. \nContact Inge on 01628 482270 for more information
URL:https://www.wycombefoe.org.uk/event/impact-of-extreme-weather-on-wildlife-talk/
END:VEVENT
BEGIN:VEVENT
DTSTART;VALUE=DATE:20200101
DTEND;VALUE=DATE:20200102
DTSTAMP:20260422T230115
CREATED:20170301T100115Z
LAST-MODIFIED:20191204T150952Z
UID:4202-1577836800-1577923199@www.wycombefoe.org.uk
SUMMARY:OTHER ECO EVENTS & GROUPS
DESCRIPTION:Note for using this calendar: \nSome local environmental organisations list their own events. \nClick on the link to their websites below and search for ‘what’s on’ or ‘events’: \nChiltern Rangers \nChinnor and Thame Friends of the Earth \nExtinction Rebellion Marlow \nHigh Wycombe Beekeepers \nHigh Wycombe & Marlow Vegans \nMarlow in Transition \nPopulation Matters High Wycombe \nRevive the Wye \nWycombe for Climate Action \nWycombe Environment Centre \nWycombe Wildlife Group \nSee also… \nFill Food (local eco deliveries) \nFood shops and markets selling LOCAL produce \nFriends of the Earth (London) \nHOPE  (online eco shop) \nMarlow Repair Cafe (March\, June and Sept) \nPopulation Matters (London) \nTen Mile Menu (local vegbox delivery)
URL:https://www.wycombefoe.org.uk/event/note-other-local-event-listings-10-2-2-8-4-2-3-2-2-2-2-2-2-2-2-2-2-3-2-2-2-2/
END:VEVENT
BEGIN:VEVENT
DTSTART;TZID=Europe/London:20200101T080000
DTEND;TZID=Europe/London:20200101T170000
DTSTAMP:20260422T230115
CREATED:20191027T175824Z
LAST-MODIFIED:20191112T132302Z
UID:4162-1577865600-1577898000@www.wycombefoe.org.uk
SUMMARY:No Wycombe FoE meeting (moved to Wedn 15th Jan)
DESCRIPTION:
URL:https://www.wycombefoe.org.uk/event/no-wycombe-foe-meeting-moved-to-wedn-8th-jan-but-tbc/
END:VEVENT
BEGIN:VEVENT
DTSTART;TZID=Europe/London:20200102T100000
DTEND;TZID=Europe/London:20200102T130000
DTSTAMP:20260422T230115
CREATED:20160409T161011Z
LAST-MODIFIED:20191028T151639Z
UID:4168-1577959200-1577970000@www.wycombefoe.org.uk
SUMMARY:Conservation volunteering - EVERY Thursday of the month
DESCRIPTION:Every Thursday the Chiltern Rangers run a volunteer conservation group which is open to all. Come along and meet the group at Wycombe Rye Lido Car Park and keep fit while helping to take care of your local environment at woodlands. \nTools\, gloves and hot drinks are provided. Please wear stout footwear and appropriate clothing suitable for outdoors activities and the weather. If you would like to get involved then please contact us – info@chilternrangers.co.uk \nMore events are on their website. \n 
URL:https://www.wycombefoe.org.uk/event/conservation-volunteering-every-thursday-of-the-month-25-4-4-4-3-3-2-2-2-2-2-2-2-2-2-2-3/
LOCATION:Wycombe Lido Swimming pool\, The Rye \, HighWycombe\, United Kingdom
ORGANIZER;CN="Chiltern rangers":MAILTO:info@chilternrangers.co.uk
END:VEVENT
BEGIN:VEVENT
DTSTART;TZID=Europe/London:20200109T193000
DTEND;TZID=Europe/London:20200109T223000
DTSTAMP:20260422T230115
CREATED:20191219T193332Z
LAST-MODIFIED:20191219T193744Z
UID:4235-1578598200-1578609000@www.wycombefoe.org.uk
SUMMARY:Wycombe FoE social (the big one)
DESCRIPTION:If you are concerned about climate change and would like to discuss in a friendly informal atmosphere\, then join us at the Falcon pub in High St.
URL:https://www.wycombefoe.org.uk/event/wycombe-foe-social-2019-all-welcome/
LOCATION:Falcon pub\, 9 Cornmarket\, High Wycombe\, HP11 2AX\, United Kingdom
ORGANIZER;CN="Wycombe Friends of the Earth":MAILTO:wycombefoe@yahoo.co.uk
END:VEVENT
BEGIN:VEVENT
DTSTART;TZID=Europe/London:20200115T193000
DTEND;TZID=Europe/London:20200115T213000
DTSTAMP:20260422T230115
CREATED:20170129T143413Z
LAST-MODIFIED:20191112T132201Z
UID:4160-1579116600-1579123800@www.wycombefoe.org.uk
SUMMARY:Wycombe FoE Monthly Meeting
DESCRIPTION:Meeting moved from Wedn 1st Jan to Wedn 15th Jan. \nEveryone is welcome to come along to chat about local environmental matters. We have ongoing campaigns such as tackling climate change\, reducing plastic waste and improving local air quality. \nBus stop is also right next to the church. \nEasy parking (free from 7pm) is available at the car park next to Trinity United Reformed Church (only 5min walk to the meeting venue). \nEmail us at  wycombefoe@yahoo.co.uk for more info. \n 
URL:https://www.wycombefoe.org.uk/event/wycombe-friends-of-the-earth-monthly-meeting-23-6-2-2-2-3-3-2-3-2-2-2-2-2/
LOCATION:Quaker Meeting House\, 25 London Road\, High Wycombe\, HP11 1BJ\, United Kingdom
END:VEVENT
BEGIN:VEVENT
DTSTART;VALUE=DATE:20200201
DTEND;VALUE=DATE:20200202
DTSTAMP:20260422T230115
CREATED:20170301T100115Z
LAST-MODIFIED:20200111T171031Z
UID:4210-1580515200-1580601599@www.wycombefoe.org.uk
SUMMARY:OTHER ECO EVENTS & GROUPS
DESCRIPTION:Note for using this calendar: \nSome local environmental organisations list their own events. \nClick on the link to their websites below and search for ‘what’s on’ or ‘events’: \nChiltern Rangers \nChinnor and Thame Friends of the Earth \nExtinction Rebellion Chilterns \nHigh Wycombe Beekeepers \nHigh Wycombe & Marlow Vegans \nMarlow in Transition \nPopulation Matters High Wycombe \nRevive the Wye \nWycombe for Climate Action \nWycombe Environment Centre \nWycombe Wildlife Group \nSee also… \nFill Food (local eco deliveries) dormant! \nFood shops and markets selling LOCAL produce \nFriends of the Earth (London) \nHOPE  (online eco shop) dormant! \nMarlow Repair Cafe (March\, June and Sept) \nPopulation Matters (London) \nTen Mile Menu (local vegbox delivery)
URL:https://www.wycombefoe.org.uk/event/note-other-local-event-listings-10-2-2-8-4-2-3-2-2-2-2-2-2-2-2-2-2-3-2-2-2-2-2-2/
END:VEVENT
BEGIN:VEVENT
DTSTART;VALUE=DATE:20200202
DTEND;VALUE=DATE:20200203
DTSTAMP:20260422T230115
CREATED:20151202T114713Z
LAST-MODIFIED:20191204T151630Z
UID:4217-1580601600-1580687999@www.wycombefoe.org.uk
SUMMARY:World Wetlands Day
DESCRIPTION:World Wetlands Day is celebrated every year on 2 February. This day marks the date of the adoption of the Convention on Wetlands on 2 February 1971\, in the Iranian city of Ramsar on the shores of the Caspian Sea. \n2nd of February every year; worldwide.
URL:https://www.wycombefoe.org.uk/event/world-wetlands-day-2-2-2/
END:VEVENT
BEGIN:VEVENT
DTSTART;TZID=Europe/London:20200205T193000
DTEND;TZID=Europe/London:20200205T213000
DTSTAMP:20260422T230115
CREATED:20170129T143413Z
LAST-MODIFIED:20191204T151302Z
UID:4213-1580931000-1580938200@www.wycombefoe.org.uk
SUMMARY:Wycombe FoE Monthly Meeting
DESCRIPTION:Everyone is welcome to come along to chat about local environmental matters. We have ongoing campaigns such as tackling climate change\, reducing plastic waste and improving local air quality. \nBus stop is also right next to the church. Easy parking (free from 7pm) is available at the car park next to Trinity United Reformed Church (only 5min walk to the meeting venue). \nEmail us at  wycombefoe@yahoo.co.uk for more info. \n 
URL:https://www.wycombefoe.org.uk/event/wycombe-friends-of-the-earth-monthly-meeting-23-6-2-2-2-3-3-2-3-2-2-2-2-2-2/
LOCATION:Quaker Meeting House\, 25 London Road\, High Wycombe\, HP11 1BJ\, United Kingdom
END:VEVENT
BEGIN:VEVENT
DTSTART;TZID=Europe/London:20200206T100000
DTEND;TZID=Europe/London:20200206T130000
DTSTAMP:20260422T230115
CREATED:20160409T161011Z
LAST-MODIFIED:20191204T151409Z
UID:4215-1580983200-1580994000@www.wycombefoe.org.uk
SUMMARY:Conservation volunteering - EVERY Thursday of the month
DESCRIPTION:Every Thursday the Chiltern Rangers run a volunteer conservation group which is open to all. Come along and meet the group at Wycombe Rye Lido Car Park and keep fit while helping to take care of your local environment at woodlands. \nTools\, gloves and hot drinks are provided. Please wear stout footwear and appropriate clothing suitable for outdoors activities and the weather. If you would like to get involved then please contact us – info@chilternrangers.co.uk \nMore events are on their website. \n 
URL:https://www.wycombefoe.org.uk/event/conservation-volunteering-every-thursday-of-the-month-25-4-4-4-3-3-2-2-2-2-2-2-2-2-2-2-3-2/
LOCATION:Wycombe Lido Swimming pool\, The Rye \, HighWycombe\, United Kingdom
ORGANIZER;CN="Chiltern rangers":MAILTO:info@chilternrangers.co.uk
END:VEVENT
BEGIN:VEVENT
DTSTART;VALUE=DATE:20200224
DTEND;VALUE=DATE:20200309
DTSTAMP:20260422T230115
CREATED:20161102T154715Z
LAST-MODIFIED:20191204T152255Z
UID:4219-1582502400-1583711999@www.wycombefoe.org.uk
SUMMARY:Fairtrade fortnight
DESCRIPTION:The people who grow the food we take for granted can’t always feed their own families. Fairtrade can support farmers and workers to put food on the table for their families by harnessing the power of a Fairtrade breakfast. During Fairtrade Fortnight\, we will be encouraging campaigners to inspire Big Fairtrade Breakfasts in their community – and wake others up to the challenges facing farmers and workers. \nMonday to Sunday. \n  \n 
URL:https://www.wycombefoe.org.uk/event/fairtrade-fortnight-2-2-2-2/
END:VEVENT
BEGIN:VEVENT
DTSTART;VALUE=DATE:20200301
DTEND;VALUE=DATE:20200302
DTSTAMP:20260422T230115
CREATED:20170301T100115Z
LAST-MODIFIED:20200302T102406Z
UID:4249-1583020800-1583107199@www.wycombefoe.org.uk
SUMMARY:OTHER ECO EVENTS & GROUPS
DESCRIPTION:Note for using this calendar: \nSome local environmental organisations list their own events. \nClick on the link to their websites below and search for ‘what’s on’ or ‘events’: \nChiltern Rangers \nChinnor and Thame Friends of the Earth \nExtinction Rebellion Chilterns \nHigh Wycombe Beekeepers \nHigh Wycombe & Marlow Vegans \nPopulation Matters High Wycombe \nRevive the Wye \nWycombe for Climate Action \nWycombe Environment Centre \nWycombe Wildlife Group \nSee also… \nFood shops and markets selling LOCAL produce \nFriends of the Earth (London) \nMarlow Repair Cafe (March\, June and Sept) \nPopulation Matters (London) \nTen Mile Menu (local vegbox delivery)
URL:https://www.wycombefoe.org.uk/event/note-other-local-event-listings-10-2-2-8-4-2-3-2-2-2-2-2-2-2-2-2-2-3-2-2-2-2-2-2-2/
END:VEVENT
BEGIN:VEVENT
DTSTART;VALUE=DATE:20200303
DTEND;VALUE=DATE:20200304
DTSTAMP:20260422T230115
CREATED:20161212T195416Z
LAST-MODIFIED:20200111T171552Z
UID:4251-1583193600-1583279999@www.wycombefoe.org.uk
SUMMARY:Wildlife day
DESCRIPTION:World wildlife day. \nOn 20 December 2013\, at its 68th session\, the United Nations General Assembly (UNGA) decided to proclaim 3 March\, the day of signature of the Convention on International Trade in Endangered Species of Wild Fauna and Flora (CITES)\, as UN World Wildlife Day to celebrate and raise awareness of the world’s wild animals and plants. The UNGA resolution also designated the CITES Secretariat as the facilitator for the global observance of this special day for wildlife on the UN calendar. \nEvery 3 March.
URL:https://www.wycombefoe.org.uk/event/wildlife-day-2-2-2/
END:VEVENT
END:VCALENDAR