BEGIN:VCALENDAR
VERSION:2.0
PRODID:-//Wycombe Friends of the Earth - ECPv6.15.17//NONSGML v1.0//EN
CALSCALE:GREGORIAN
METHOD:PUBLISH
X-ORIGINAL-URL:https://www.wycombefoe.org.uk
X-WR-CALDESC:Events for Wycombe Friends of the Earth
REFRESH-INTERVAL;VALUE=DURATION:PT1H
X-Robots-Tag:noindex
X-PUBLISHED-TTL:PT1H
BEGIN:VTIMEZONE
TZID:Europe/London
BEGIN:DAYLIGHT
TZOFFSETFROM:+0000
TZOFFSETTO:+0100
TZNAME:BST
DTSTART:20150329T010000
END:DAYLIGHT
BEGIN:STANDARD
TZOFFSETFROM:+0100
TZOFFSETTO:+0000
TZNAME:GMT
DTSTART:20151025T010000
END:STANDARD
BEGIN:DAYLIGHT
TZOFFSETFROM:+0000
TZOFFSETTO:+0100
TZNAME:BST
DTSTART:20160327T010000
END:DAYLIGHT
BEGIN:STANDARD
TZOFFSETFROM:+0100
TZOFFSETTO:+0000
TZNAME:GMT
DTSTART:20161030T010000
END:STANDARD
BEGIN:DAYLIGHT
TZOFFSETFROM:+0000
TZOFFSETTO:+0100
TZNAME:BST
DTSTART:20170326T010000
END:DAYLIGHT
BEGIN:STANDARD
TZOFFSETFROM:+0100
TZOFFSETTO:+0000
TZNAME:GMT
DTSTART:20171029T010000
END:STANDARD
BEGIN:DAYLIGHT
TZOFFSETFROM:+0000
TZOFFSETTO:+0100
TZNAME:BST
DTSTART:20180325T010000
END:DAYLIGHT
BEGIN:STANDARD
TZOFFSETFROM:+0100
TZOFFSETTO:+0000
TZNAME:GMT
DTSTART:20181028T010000
END:STANDARD
END:VTIMEZONE
BEGIN:VEVENT
DTSTART;VALUE=DATE:20161119
DTEND;VALUE=DATE:20161128
DTSTAMP:20260422T232240
CREATED:20160410T165744Z
LAST-MODIFIED:20160410T165744Z
UID:1526-1479513600-1480291199@www.wycombefoe.org.uk
SUMMARY:Waste Reduction Week
DESCRIPTION:European Week for Waste Reduction. \n(Third Saturday of November\, till a week on Sunday)
URL:https://www.wycombefoe.org.uk/event/waste-reduction-week-2/
LOCATION:A WorldWide Event
END:VEVENT
BEGIN:VEVENT
DTSTART;VALUE=DATE:20161121
DTEND;VALUE=DATE:20161122
DTSTAMP:20260422T232240
CREATED:20160409T182432Z
LAST-MODIFIED:20160409T182432Z
UID:1511-1479686400-1479772799@www.wycombefoe.org.uk
SUMMARY:Fisheries Day
DESCRIPTION:Worldwide Event (every 21 November) \nWorld Fisheries day is celebrated every year throughout the world by the fisherfolk communities. Fishing communities worldwide celebrate this day through rallies\, workshops\, public meetings\, cultural programs\, dramas\, exhibition\, music show\, and demonstrations to highlight the importance of maintaining the world’s fisheries.. \nwww.gdrc.org/doyourbit/21_11-fisheries-day.html
URL:https://www.wycombefoe.org.uk/event/fisheries-day-2/
END:VEVENT
BEGIN:VEVENT
DTSTART;VALUE=DATE:20161125
DTEND;VALUE=DATE:20161126
DTSTAMP:20260422T232240
CREATED:20160409T182908Z
LAST-MODIFIED:20160409T183032Z
UID:1513-1480032000-1480118399@www.wycombefoe.org.uk
SUMMARY:Buy Nothing Day
DESCRIPTION:It’s a day where you challenge yourself\, your family and friends to switch off from shopping and tune into life. The rules are simple\, for 24 hours you will detox from shopping and anyone can take part provided they spend a day without spending! \nEvery fourth Friday in November\, worldwide. \nwww.buynothingday.co.uk
URL:https://www.wycombefoe.org.uk/event/buy-nothing-day-2/
LOCATION:A WorldWide Event
END:VEVENT
BEGIN:VEVENT
DTSTART;VALUE=DATE:20161201
DTEND;VALUE=DATE:20161202
DTSTAMP:20260422T232240
CREATED:20161004T102213Z
LAST-MODIFIED:20161004T102213Z
UID:1685-1480550400-1480636799@www.wycombefoe.org.uk
SUMMARY:Note - other local event listings
DESCRIPTION:Note for using this calendar. \nSome local environmental organisations list their own events. \nClick on the link to their websites below and search for ‘what’s on’ or ‘events’: \nAmersham in Transition \nChiltern Rangers \nChinnor and Thame Friends of the Earth \nHigh Wycombe Beekeepers \nMarlow in Transition \nRevive the Wye \nWycombe Environment Centre \nWycombe Wildlife Group \nAnd see… \nFood shops and markets selling local produce \nUK Friends of the Earth
URL:https://www.wycombefoe.org.uk/event/note-other-local-event-listings-9/
END:VEVENT
BEGIN:VEVENT
DTSTART;TZID=Europe/London:20161201T100000
DTEND;TZID=Europe/London:20161201T130000
DTSTAMP:20260422T232240
CREATED:20160409T160344Z
LAST-MODIFIED:20160409T160344Z
UID:1498-1480586400-1480597200@www.wycombefoe.org.uk
SUMMARY:Conservation volunteering - EVERY Thursday of the month
DESCRIPTION:Every Thursday the Chiltern Rangers run a volunteer conservation group which is open to all. Come along and meet the group at Wycombe Rye Lido Car Park and keep fit while helping to take care of your local environment at woodlands. \nTools\, gloves and hot drinks are provided. Please wear stout footwear and appropriate clothing suitable for outdoors activities and the weather. If you would like to get involved then please contact us. \ninfo@chilternrangers.co.uk
URL:https://www.wycombefoe.org.uk/event/conservation-volunteering-every-thursday-of-the-month-13/
LOCATION:Wycombe Lido Swimming pool\, The Rye \, HighWycombe\, United Kingdom
ORGANIZER;CN="Chiltern rangers":MAILTO:info@chilternrangers.co.uk
END:VEVENT
BEGIN:VEVENT
DTSTART;TZID=Europe/London:20161207T193000
DTEND;TZID=Europe/London:20161207T213000
DTSTAMP:20260422T232240
CREATED:20160410T134131Z
LAST-MODIFIED:20160410T134131Z
UID:1523-1481139000-1481146200@www.wycombefoe.org.uk
SUMMARY:Wycombe Friends of the Earth - Monthly Meeting (+mince pies)
DESCRIPTION:Everyone is welcome to come along for a cup of tea and chat. \nEmail us at  wycombefoe@yahoo.co.uk for more info.
URL:https://www.wycombefoe.org.uk/event/wycombe-friends-of-the-earth-monthly-meeting-mince-pies/
LOCATION:Friends Meeting House\, 25 London Road\, High Wycombe\, HP11 1BJ
END:VEVENT
BEGIN:VEVENT
DTSTART;TZID=Europe/London:20161212T100000
DTEND;TZID=Europe/London:20161212T120000
DTSTAMP:20260422T232240
CREATED:20161209T163207Z
LAST-MODIFIED:20161209T163404Z
UID:1864-1481536800-1481544000@www.wycombefoe.org.uk
SUMMARY:Wycombe FoE litter pick
DESCRIPTION:We will be joining Wycombe Wildlife Group in a Morrisons stream litter pick.  If you can help\, please come along\, as help will be greatly appreciated. Bring gardening/rubber gloves. For more info email wycombefoe@yahoo.co.uk. \n 
URL:https://www.wycombefoe.org.uk/event/wycombe-foe-litter-pick/
LOCATION:Morrison’s\, High Wycombe
END:VEVENT
BEGIN:VEVENT
DTSTART;TZID=Europe/London:20161229T100000
DTEND;TZID=Europe/London:20161229T130000
DTSTAMP:20260422T232240
CREATED:20161220T170514Z
LAST-MODIFIED:20161220T170514Z
UID:1879-1483005600-1483016400@www.wycombefoe.org.uk
SUMMARY:No Green Thursday on 29th Dec
DESCRIPTION:No Green Thursday on 29th Dec.
URL:https://www.wycombefoe.org.uk/event/no-green-thursday-on-29th-dec/
END:VEVENT
BEGIN:VEVENT
DTSTART;VALUE=DATE:20170101
DTEND;VALUE=DATE:20170102
DTSTAMP:20260422T232240
CREATED:20161208T100101Z
LAST-MODIFIED:20161208T193906Z
UID:1823-1483228800-1483315199@www.wycombefoe.org.uk
SUMMARY:Note - other local event listings
DESCRIPTION:Note for using this calendar. \nSome local environmental organisations list their own events. \nClick on the link to their websites below and search for ‘what’s on’ or ‘events’: \nAmersham in Transition \nChiltern Rangers \nChinnor and Thame Friends of the Earth \nEmpower to Cook \nHigh Wycombe Beekeepers \nMarlow in Transition \nRevive the Wye \nWycombe Environment Centre \nWycombe Wildlife Group \nAnd see… \nFood shops and markets selling local produce \nUK Friends of the Earth
URL:https://www.wycombefoe.org.uk/event/note-other-local-event-listings-6/
END:VEVENT
BEGIN:VEVENT
DTSTART;TZID=Europe/London:20170104T193000
DTEND;TZID=Europe/London:20170104T213000
DTSTAMP:20260422T232240
CREATED:20160410T133539Z
LAST-MODIFIED:20161208T200228Z
UID:1521-1483558200-1483565400@www.wycombefoe.org.uk
SUMMARY:Postponed till 11th Jan - Wycombe Friends of the Earth - Monthly Meeting
DESCRIPTION:We are meeting in the William Loosley pub opposite High Wycombe library. From 7.30pm. \nEmail us at  wycombefoe@yahoo.co.uk for more info.
URL:https://www.wycombefoe.org.uk/event/wycombe-friends-of-the-earth-monthly-meeting-12/
LOCATION:Friends Meeting House\, 25 London Road\, High Wycombe\, HP11 1BJ
END:VEVENT
BEGIN:VEVENT
DTSTART;TZID=Europe/London:20170105T100000
DTEND;TZID=Europe/London:20170105T130000
DTSTAMP:20260422T232240
CREATED:20160409T160544Z
LAST-MODIFIED:20160409T160544Z
UID:1499-1483610400-1483621200@www.wycombefoe.org.uk
SUMMARY:Conservation volunteering - EVERY Thursday of the month
DESCRIPTION:Every Thursday the Chiltern Rangers run a volunteer conservation group which is open to all. Come along and meet the group at Wycombe Rye Lido Car Park and keep fit while helping to take care of your local environment at woodlands. \nTools\, gloves and hot drinks are provided. Please wear stout footwear and appropriate clothing suitable for outdoors activities and the weather. If you would like to get involved then please contact us. \ninfo@chilternrangers.co.uk
URL:https://www.wycombefoe.org.uk/event/conservation-volunteering-every-thursday-of-the-month-14/
LOCATION:Wycombe Lido Swimming pool\, The Rye \, HighWycombe\, United Kingdom
ORGANIZER;CN="Chiltern rangers":MAILTO:info@chilternrangers.co.uk
END:VEVENT
BEGIN:VEVENT
DTSTART;TZID=Europe/London:20170111T193000
DTEND;TZID=Europe/London:20170111T213000
DTSTAMP:20260422T232240
CREATED:20161208T200348Z
LAST-MODIFIED:20161208T200447Z
UID:1844-1484163000-1484170200@www.wycombefoe.org.uk
SUMMARY:Wycombe Friends of the Earth - Meeting & Social
DESCRIPTION:We are meeting in the William Loosley pub opposite High Wycombe library. From 7.30pm. \nEveryone welcome. \nEmail us at  wycombefoe@yahoo.co.uk for more info.
URL:https://www.wycombefoe.org.uk/event/wycombe-friends-of-the-earth-social/
LOCATION:Friends Meeting House\, 25 London Road\, High Wycombe\, HP11 1BJ
END:VEVENT
BEGIN:VEVENT
DTSTART;TZID=Europe/London:20170113T160000
DTEND;TZID=Europe/London:20170113T180000
DTSTAMP:20260422T232240
CREATED:20170106T212813Z
LAST-MODIFIED:20170111T190643Z
UID:1889-1484323200-1484330400@www.wycombefoe.org.uk
SUMMARY:Eco drinks in the Falcon - EVERY Friday of the month
DESCRIPTION:A number of environmentalists have started to do a regular meetup in the Falcon pub (off Church Street\, in High Wycombe town centre). \nIt is a small informal gathering and topics are not restricted to environmental matters of course. \nIf you are interested\, please email Roland at rxb@supanet.com so we can look out for you at the venue. \n  \n 
URL:https://www.wycombefoe.org.uk/event/eco-drinks-in-the-falcon/
LOCATION:Falcon pub\, 9 Cornmarket\, High Wycombe\, HP11 2AX\, United Kingdom
END:VEVENT
BEGIN:VEVENT
DTSTART;VALUE=DATE:20170201
DTEND;VALUE=DATE:20170202
DTSTAMP:20260422T232240
CREATED:20161208T194023Z
LAST-MODIFIED:20161208T194023Z
UID:1832-1485907200-1485993599@www.wycombefoe.org.uk
SUMMARY:Note - other local event listings
DESCRIPTION:Note for using this calendar. \nSome local environmental organisations list their own events. \nClick on the link to their websites below and search for ‘what’s on’ or ‘events’: \nAmersham in Transition \nChiltern Rangers \nChinnor and Thame Friends of the Earth \nEmpower to Cook \nHigh Wycombe Beekeepers \nMarlow in Transition \nRevive the Wye \nWycombe Environment Centre \nWycombe Wildlife Group \nAnd see… \nFood shops and markets selling local produce \nUK Friends of the Earth
URL:https://www.wycombefoe.org.uk/event/note-other-local-event-listings-7/
END:VEVENT
BEGIN:VEVENT
DTSTART;TZID=Europe/London:20170201T193000
DTEND;TZID=Europe/London:20170201T213000
DTSTAMP:20260422T232240
CREATED:20160410T133741Z
LAST-MODIFIED:20161208T195918Z
UID:1522-1485977400-1485984600@www.wycombefoe.org.uk
SUMMARY:Wycombe Friends of the Earth - Monthly Meeting + DiCaprio's film 'Before the Flood'
DESCRIPTION:Everyone is welcome to come along for a cup of tea and chat. \nFor February we are also showing Leonardo DiCaprio’s film ‘Before the Flood’. \nNote film is for members only. \nTryout the trailer here www.youtube.com/watch?v=6UGsRcxaSAI \nEmail us at  wycombefoe@yahoo.co.uk for more info.
URL:https://www.wycombefoe.org.uk/event/wycombe-friends-of-the-earth-monthly-meeting-13/
LOCATION:Friends Meeting House\, 25 London Road\, High Wycombe\, HP11 1BJ
END:VEVENT
BEGIN:VEVENT
DTSTART;TZID=Europe/London:20170202T100000
DTEND;TZID=Europe/London:20170202T130000
DTSTAMP:20260422T232240
CREATED:20160409T160613Z
LAST-MODIFIED:20160409T160613Z
UID:1500-1486029600-1486040400@www.wycombefoe.org.uk
SUMMARY:Conservation volunteering - EVERY Thursday of the month
DESCRIPTION:Every Thursday the Chiltern Rangers run a volunteer conservation group which is open to all. Come along and meet the group at Wycombe Rye Lido Car Park and keep fit while helping to take care of your local environment at woodlands. \nTools\, gloves and hot drinks are provided. Please wear stout footwear and appropriate clothing suitable for outdoors activities and the weather. If you would like to get involved then please contact us. \ninfo@chilternrangers.co.uk
URL:https://www.wycombefoe.org.uk/event/conservation-volunteering-every-thursday-of-the-month-15/
LOCATION:Wycombe Lido Swimming pool\, The Rye \, HighWycombe\, United Kingdom
ORGANIZER;CN="Chiltern rangers":MAILTO:info@chilternrangers.co.uk
END:VEVENT
BEGIN:VEVENT
DTSTART;TZID=Europe/London:20170203T160000
DTEND;TZID=Europe/London:20170203T173000
DTSTAMP:20260422T232240
CREATED:20170111T191331Z
LAST-MODIFIED:20170203T202547Z
UID:1910-1486137600-1486143000@www.wycombefoe.org.uk
SUMMARY:Eco drinks in the Falcon - Most Fridays
DESCRIPTION:An environmentally aware group do informal meetups in the Falcon pub (off Church Street\, in High Wycombe town centre). \nIf you are interested\, please email Roland at rxb@supanet.com a few days in advance\, so we can confirm the Friday and look out for you at the venue. \nThe Falcon’s sustainable fish and chips is also recommended.
URL:https://www.wycombefoe.org.uk/event/eco-drinks-in-the-falcon-every-friday-of-the-month/
LOCATION:Falcon pub\, 9 Cornmarket\, High Wycombe\, HP11 2AX\, United Kingdom
END:VEVENT
BEGIN:VEVENT
DTSTART;VALUE=DATE:20170227
DTEND;VALUE=DATE:20170313
DTSTAMP:20260422T232240
CREATED:20161102T154715Z
LAST-MODIFIED:20170131T105836Z
UID:1729-1488153600-1489363199@www.wycombefoe.org.uk
SUMMARY:Fairtrade fortnight
DESCRIPTION:The people who grow the food we take for granted can’t always feed their own families. We can support farmers and workers to put food on the table for their families by harnessing the power of a Fairtrade breakfast. During Fairtrade Fortnight\, we will be encouraging campaigners to inspire Big Fairtrade Breakfasts in their community – and wake others up to the challenges facing farmers and workers. \n  \n 
URL:https://www.wycombefoe.org.uk/event/fairtrade-fortnight-2/
END:VEVENT
BEGIN:VEVENT
DTSTART;VALUE=DATE:20170301
DTEND;VALUE=DATE:20170302
DTSTAMP:20260422T232240
CREATED:20161208T194045Z
LAST-MODIFIED:20170301T100753Z
UID:1834-1488326400-1488412799@www.wycombefoe.org.uk
SUMMARY:Note - other local event listings
DESCRIPTION:Note for using this calendar. \nSome local environmental organisations list their own events. \nClick on the link to their websites below and search for ‘what’s on’ or ‘events’: \nAmersham in Transition (dormant?) \nChiltern Rangers \nChinnor and Thame Friends of the Earth \nEmpower to Cook \nHigh Wycombe Beekeepers \nMarlow in Transition \nRevive the Wye \nWycombe Environment Centre \nWycombe Wildlife Group \nAnd see… \nFood shops and markets selling local produce \nUK Friends of the Earth
URL:https://www.wycombefoe.org.uk/event/note-other-local-event-listings-11/
END:VEVENT
BEGIN:VEVENT
DTSTART;TZID=Europe/London:20170301T193000
DTEND;TZID=Europe/London:20170301T213000
DTSTAMP:20260422T232240
CREATED:20170129T141803Z
LAST-MODIFIED:20170129T142842Z
UID:1923-1488396600-1488403800@www.wycombefoe.org.uk
SUMMARY:Wycombe Friends of the Earth - Monthly Meeting
DESCRIPTION:Everyone is welcome to come along for a cup of tea and chat. \nEasy parking (free from 7pm) is available at the car park next to Trinity Reformed Church. Only 5min walk to the Friends Meeting House from there. \nBus stop is also right next to the church. \nEmail us at  wycombefoe@yahoo.co.uk for more info.
URL:https://www.wycombefoe.org.uk/event/wycombe-friends-of-the-earth-monthly-meeting-14/
LOCATION:Friends Meeting House\, 25 London Road\, High Wycombe\, HP11 1BJ
END:VEVENT
BEGIN:VEVENT
DTSTART;TZID=Europe/London:20170302T100000
DTEND;TZID=Europe/London:20170302T130000
DTSTAMP:20260422T232240
CREATED:20160409T160646Z
LAST-MODIFIED:20160409T160646Z
UID:1501-1488448800-1488459600@www.wycombefoe.org.uk
SUMMARY:Conservation volunteering - EVERY Thursday of the month
DESCRIPTION:Every Thursday the Chiltern Rangers run a volunteer conservation group which is open to all. Come along and meet the group at Wycombe Rye Lido Car Park and keep fit while helping to take care of your local environment at woodlands. \nTools\, gloves and hot drinks are provided. Please wear stout footwear and appropriate clothing suitable for outdoors activities and the weather. If you would like to get involved then please contact us. \ninfo@chilternrangers.co.uk
URL:https://www.wycombefoe.org.uk/event/conservation-volunteering-every-thursday-of-the-month-16/
LOCATION:Wycombe Lido Swimming pool\, The Rye \, HighWycombe\, United Kingdom
ORGANIZER;CN="Chiltern rangers":MAILTO:info@chilternrangers.co.uk
END:VEVENT
BEGIN:VEVENT
DTSTART;VALUE=DATE:20170303
DTEND;VALUE=DATE:20170304
DTSTAMP:20260422T232240
CREATED:20161212T195416Z
LAST-MODIFIED:20161212T203744Z
UID:1875-1488499200-1488585599@www.wycombefoe.org.uk
SUMMARY:Wildlife day
DESCRIPTION:World wildlife day. \nOn 20 December 2013\, at its 68th session\, the United Nations General Assembly (UNGA) decided to proclaim 3 March\, the day of signature of the Convention on International Trade in Endangered Species of Wild Fauna and Flora (CITES)\, as UN World Wildlife Day to celebrate and raise awareness of the world’s wild animals and plants. The UNGA resolution also designated the CITES Secretariat as the facilitator for the global observance of this special day for wildlife on the UN calendar. \nEvery 3 March.
URL:https://www.wycombefoe.org.uk/event/wildlife-day/
END:VEVENT
BEGIN:VEVENT
DTSTART;TZID=Europe/London:20170303T160000
DTEND;TZID=Europe/London:20170303T173000
DTSTAMP:20260422T232240
CREATED:20170127T193757Z
LAST-MODIFIED:20170203T201947Z
UID:1916-1488556800-1488562200@www.wycombefoe.org.uk
SUMMARY:Eco drinks in the Falcon - Most Fridays
DESCRIPTION:An environmentally aware group do informal meetups in the Falcon pub (off Church Street\, in High Wycombe town centre). \nIf you are interested\, please email Roland at rxb@supanet.com so we can confirm the Friday and look out for you at the venue. \nThe Falcon’s sustainable fish and chips is also recommended. \n  \n 
URL:https://www.wycombefoe.org.uk/event/eco-drinks-in-the-falcon-every-friday-of-the-month-2/
LOCATION:Falcon pub\, 9 Cornmarket\, High Wycombe\, HP11 2AX\, United Kingdom
END:VEVENT
BEGIN:VEVENT
DTSTART;VALUE=DATE:20170321
DTEND;VALUE=DATE:20170322
DTSTAMP:20260422T232240
CREATED:20161207T163025Z
LAST-MODIFIED:20161207T163025Z
UID:1794-1490054400-1490140799@www.wycombefoe.org.uk
SUMMARY:Forestry Day
DESCRIPTION:International day of forests. Organised by United Nations. \nWorldwide. \nEvery 21st March.
URL:https://www.wycombefoe.org.uk/event/forestry-day-2/
END:VEVENT
BEGIN:VEVENT
DTSTART;VALUE=DATE:20170322
DTEND;VALUE=DATE:20170323
DTSTAMP:20260422T232240
CREATED:20161207T163501Z
LAST-MODIFIED:20170131T110054Z
UID:1797-1490140800-1490227199@www.wycombefoe.org.uk
SUMMARY:Water Day
DESCRIPTION:Organised by United Nations. \nWorldwide. \nEvery 22 March.
URL:https://www.wycombefoe.org.uk/event/water-day-2/
END:VEVENT
BEGIN:VEVENT
DTSTART;TZID=Europe/London:20170325T203000
DTEND;TZID=Europe/London:20170325T213000
DTSTAMP:20260422T232240
CREATED:20161207T162630Z
LAST-MODIFIED:20170131T105956Z
UID:1792-1490473800-1490477400@www.wycombefoe.org.uk
SUMMARY:Earth Hour
DESCRIPTION:Earth Hour is an annual event where hundreds of millions of people switch off their lights for one hour to show they care about our planet. \nWorldwide. \nUsually last Saturday of March.
URL:https://www.wycombefoe.org.uk/event/earth-hour-3/
END:VEVENT
BEGIN:VEVENT
DTSTART;TZID=Europe/London:20170329T072000
DTEND;TZID=Europe/London:20170329T213000
DTSTAMP:20260422T232240
CREATED:20170111T164725Z
LAST-MODIFIED:20170131T110024Z
UID:1901-1490772000-1490823000@www.wycombefoe.org.uk
SUMMARY:Film 'Sense and Sustainability'
DESCRIPTION:In the feature-length documentary film Sense and Sustainability we ask the question\, “Is a species set on endless growth sustainable?” In answering this question we explore the scale of the human endeavor and its impact on the environment. The answer becomes clear as we discuss population growth and overconsumption\, and consider the water and other resource scarcity that we are already facing today. We begin to examine what it truly takes to be sustainable\, and we explain the dangers of the Cornucopians Conviction (this misconception that technology will save us). We then explain the importance of the education and empowerment of women and rights to contraceptives and international family planning\, and how this relates to a sustainable society. \nWe are coming to the realization that the Earth is a planet with finite resources that can no longer support our perpetual lust for more. We aim to provide solution on stabilizing the environment and the economy. We ultimately hope to bring awareness that “it has never been a question of how many people the world can contain\, but how many it can sustain”. Through this we believe that people will come to the conclusion that a species set on endless growth is unsustainable; and we hope that they will furthermore aspire to alter their lifestyle and become more conscious of how they affect the world around them. \nEmail the organiser at highwycombegroup@populationmatters.org for more info.
URL:https://www.wycombefoe.org.uk/event/film-sense-and-sustainability/
LOCATION:Quaker Meeting House\, 25 London Road\, High Wycombe\, HP11 1BJ\, United Kingdom
ORGANIZER;CN="Population Matters High Wycombe":MAILTO:highwycombegroup[at]populationmatters.org
END:VEVENT
BEGIN:VEVENT
DTSTART;VALUE=DATE:20170401
DTEND;VALUE=DATE:20170402
DTSTAMP:20260422T232240
CREATED:20161208T194103Z
LAST-MODIFIED:20170301T100715Z
UID:1836-1491004800-1491091199@www.wycombefoe.org.uk
SUMMARY:Note - other local event listings
DESCRIPTION:Note for using this calendar. \nSome local environmental organisations list their own events. \nClick on the link to their websites below and search for ‘what’s on’ or ‘events’: \nAmersham in Transition (dormant?) \nChiltern Rangers \nChinnor and Thame Friends of the Earth \nEmpower to Cook \nHigh Wycombe Beekeepers \nMarlow in Transition \nRevive the Wye \nWycombe Environment Centre \nWycombe Wildlife Group \nAnd see… \nFood shops and markets selling local produce \nUK Friends of the Earth
URL:https://www.wycombefoe.org.uk/event/note-other-local-event-listings-12/
END:VEVENT
BEGIN:VEVENT
DTSTART;TZID=Europe/London:20170405T193000
DTEND;TZID=Europe/London:20170405T213000
DTSTAMP:20260422T232240
CREATED:20170129T142909Z
LAST-MODIFIED:20170129T142909Z
UID:1928-1491420600-1491427800@www.wycombefoe.org.uk
SUMMARY:Wycombe Friends of the Earth - Monthly Meeting
DESCRIPTION:Everyone is welcome to come along for a cup of tea and chat. \nEasy parking (free from 7pm) is available at the car park next to Trinity Reformed Church. Only 5min walk to the Friends Meeting House from there. \nBus stop is also right next to the church. \nEmail us at  wycombefoe@yahoo.co.uk for more info.
URL:https://www.wycombefoe.org.uk/event/wycombe-friends-of-the-earth-monthly-meeting-15/
LOCATION:Friends Meeting House\, 25 London Road\, High Wycombe\, HP11 1BJ
END:VEVENT
BEGIN:VEVENT
DTSTART;TZID=Europe/London:20170406T100000
DTEND;TZID=Europe/London:20170406T130000
DTSTAMP:20260422T232240
CREATED:20160409T160715Z
LAST-MODIFIED:20160409T160715Z
UID:1502-1491472800-1491483600@www.wycombefoe.org.uk
SUMMARY:Conservation volunteering - EVERY Thursday of the month
DESCRIPTION:Every Thursday the Chiltern Rangers run a volunteer conservation group which is open to all. Come along and meet the group at Wycombe Rye Lido Car Park and keep fit while helping to take care of your local environment at woodlands. \nTools\, gloves and hot drinks are provided. Please wear stout footwear and appropriate clothing suitable for outdoors activities and the weather. If you would like to get involved then please contact us. \ninfo@chilternrangers.co.uk
URL:https://www.wycombefoe.org.uk/event/conservation-volunteering-every-thursday-of-the-month-17/
LOCATION:Wycombe Lido Swimming pool\, The Rye \, HighWycombe\, United Kingdom
ORGANIZER;CN="Chiltern rangers":MAILTO:info@chilternrangers.co.uk
END:VEVENT
END:VCALENDAR