BEGIN:VCALENDAR
VERSION:2.0
PRODID:-//Wycombe Friends of the Earth - ECPv6.15.17//NONSGML v1.0//EN
CALSCALE:GREGORIAN
METHOD:PUBLISH
X-WR-CALNAME:Wycombe Friends of the Earth
X-ORIGINAL-URL:https://www.wycombefoe.org.uk
X-WR-CALDESC:Events for Wycombe Friends of the Earth
REFRESH-INTERVAL;VALUE=DURATION:PT1H
X-Robots-Tag:noindex
X-PUBLISHED-TTL:PT1H
BEGIN:VTIMEZONE
TZID:Europe/London
BEGIN:DAYLIGHT
TZOFFSETFROM:+0000
TZOFFSETTO:+0100
TZNAME:BST
DTSTART:20230326T010000
END:DAYLIGHT
BEGIN:STANDARD
TZOFFSETFROM:+0100
TZOFFSETTO:+0000
TZNAME:GMT
DTSTART:20231029T010000
END:STANDARD
BEGIN:DAYLIGHT
TZOFFSETFROM:+0000
TZOFFSETTO:+0100
TZNAME:BST
DTSTART:20240331T010000
END:DAYLIGHT
BEGIN:STANDARD
TZOFFSETFROM:+0100
TZOFFSETTO:+0000
TZNAME:GMT
DTSTART:20241027T010000
END:STANDARD
BEGIN:DAYLIGHT
TZOFFSETFROM:+0000
TZOFFSETTO:+0100
TZNAME:BST
DTSTART:20250330T010000
END:DAYLIGHT
BEGIN:STANDARD
TZOFFSETFROM:+0100
TZOFFSETTO:+0000
TZNAME:GMT
DTSTART:20251026T010000
END:STANDARD
END:VTIMEZONE
BEGIN:VEVENT
DTSTART;VALUE=DATE:20240603
DTEND;VALUE=DATE:20240604
DTSTAMP:20260423T093205
CREATED:20210220T165326Z
LAST-MODIFIED:20240408T195112Z
UID:6608-1717372800-1717459199@www.wycombefoe.org.uk
SUMMARY:Bicycle day
DESCRIPTION:The bicycle is a simple\, affordable\, reliable\, clean and environmentally fit sustainable means of transportation. Active transport is not only healthy\, but also cost-effective for shorter distances. \nEvery 3rd June. Worldwide.
URL:https://www.wycombefoe.org.uk/event/bicycle-day-2-2-2/
END:VEVENT
BEGIN:VEVENT
DTSTART;TZID=Europe/London:20240602T120000
DTEND;TZID=Europe/London:20240602T150000
DTSTAMP:20260423T093205
CREATED:20220608T084910Z
LAST-MODIFIED:20240614T190704Z
UID:6711-1717329600-1717340400@www.wycombefoe.org.uk
SUMMARY:Scrapstore 'Refresh' EVERY SUNDAY
DESCRIPTION:Refresh Wycombe is a wonderful scrap store based in the Chiltern Shopping Centre\, right here in the heart of High Wycombe. Our aim is to encourage you to Reduce\, Reuse\, Recycle and Create. We have a huge selection of surplus and unwanted stock all donated by local businesses and individuals. You may be a crafter\, a teacher\, an artist or a maker. We have fantastic fabrics\, textiles\, haberdashery items\, cards\, papers\, foils\, and shelves full of materials just waiting for you to give it a second life and use it on your next project. We are open to everyone\, so come and visit us every Saturday between 10am and 4pm and Wednesday between 1:30pm and 4:30pm. We’re just next door to Primark inside the Chiltern Shopping Centre.\n\nPlease follow us on Social Media to get all the latest news.\nFacebook – Refreshwycombe\nInstagram – @refreshwycombe\nWebsite – www.refreshwycombe.org
URL:https://www.wycombefoe.org.uk/event/scrapstore-refresh-every-saturday-2-2-2-2-3-2-2-2-2-2-5-2-2-2-2-2-2-2-2-2-2-2-2-3/
END:VEVENT
BEGIN:VEVENT
DTSTART;TZID=Europe/London:20240601T100000
DTEND;TZID=Europe/London:20240601T160000
DTSTAMP:20260423T093205
CREATED:20220608T084910Z
LAST-MODIFIED:20240408T195444Z
UID:6610-1717236000-1717257600@www.wycombefoe.org.uk
SUMMARY:Scrapstore 'Refresh' EVERY SATURDAY
DESCRIPTION:Refresh Wycombe is a wonderful scrap store based in the Chiltern Shopping Centre\, right here in the heart of High Wycombe. Our aim is to encourage you to Reduce\, Reuse\, Recycle and Create. We have a huge selection of surplus and unwanted stock all donated by local businesses and individuals. You may be a crafter\, a teacher\, an artist or a maker. We have fantastic fabrics\, textiles\, haberdashery items\, cards\, papers\, foils\, and shelves full of materials just waiting for you to give it a second life and use it on your next project. We are open to everyone\, so come and visit us every Saturday between 10am and 4pm and Wednesday between 1:30pm and 4:30pm. We’re just next door to Primark inside the Chiltern Shopping Centre.\n\nPlease follow us on Social Media to get all the latest news.\nFacebook – Refreshwycombe\nInstagram – @refreshwycombe\nWebsite – www.refreshwycombe.org
URL:https://www.wycombefoe.org.uk/event/scrapstore-refresh-every-saturday-2-2-2-2-3-2-2-2-2-2-5-2-2-2-2-2-2-2-2-2-2-2-2/
END:VEVENT
BEGIN:VEVENT
DTSTART;VALUE=DATE:20240601
DTEND;VALUE=DATE:20240602
DTSTAMP:20260423T093205
CREATED:20170301T100115Z
LAST-MODIFIED:20240408T191127Z
UID:6603-1717200000-1717286399@www.wycombefoe.org.uk
SUMMARY:OTHER ECO GROUPS & EVENTS
DESCRIPTION:Click links below… \nList of environmental events in the Wycombe area\nThis is a more detailed listing of individual events. It is a pinned post on the Facebook page of Wycombe Env Centre. \nList of environmental organisations in the Wycombe area\nAnother way to find out re events. Click on the link to the organisation’s website and search for ‘what’s on’\, events or similar.\n \n  \n 
URL:https://www.wycombefoe.org.uk/event/note-other-local-event-listings-10-2-2-8-4-2-3-2-2-2-2-2-2-2-2-2-2-3-2-2-2-2-2-2-2-2-2-2-2-2-2-2-2-2-2-2-2-2-2-2-2-2-2-2-2-2-2-2-2-2-2-2-2-2-2-2-2-2-2-2-2-2-2-2-2-2-2-2-2-2-2-2-2-2/
END:VEVENT
BEGIN:VEVENT
DTSTART;VALUE=DATE:20240522
DTEND;VALUE=DATE:20240523
DTSTAMP:20260423T093205
CREATED:20170129T153226Z
LAST-MODIFIED:20240314T103849Z
UID:6573-1716336000-1716422399@www.wycombefoe.org.uk
SUMMARY:Biodiversity day
DESCRIPTION:The United Nations has proclaimed May 22 The International Day for Biological Diversity to increase understanding and awareness of biodiversity issues. \nEvery 22nd May. Worldwide
URL:https://www.wycombefoe.org.uk/event/biological-diversity-day-2-2-2-2-2-2/
END:VEVENT
BEGIN:VEVENT
DTSTART;VALUE=DATE:20240520
DTEND;VALUE=DATE:20240525
DTSTAMP:20260423T093205
CREATED:20160406T114605Z
LAST-MODIFIED:20240311T195807Z
UID:6562-1716163200-1716595199@www.wycombefoe.org.uk
SUMMARY:Walk to school week
DESCRIPTION:Join over a million pupils and their families to celebrate walking to school. \nChallenge everyone in your school to walk every day during Walk to School Week and make a real difference to your children’s happiness and wellbeing. \nUK. \nEvery 3rd Monday of May\, till Friday.
URL:https://www.wycombefoe.org.uk/event/walk-to-school-week-2-2-2-2-2-2-2/
END:VEVENT
BEGIN:VEVENT
DTSTART;VALUE=DATE:20240520
DTEND;VALUE=DATE:20240521
DTSTAMP:20260423T093205
CREATED:20210220T164813Z
LAST-MODIFIED:20240312T121537Z
UID:6568-1716163200-1716249599@www.wycombefoe.org.uk
SUMMARY:Bee day
DESCRIPTION:Bees and other pollinators\, such as butterflies\, bats and hummingbirds\, are increasingly under threat from human activities. \nPollination is\, however\, a fundamental process for the survival of our ecosystems. Nearly 90% of the world’s wild flowering plant species depend\, entirely\, or at least in part\, on animal pollination\, along with more than 75% of the world’s food crops and 35% of global agricultural land. Not only do pollinators contribute directly to food security\, but they are key to conserving biodiversity. \nEvery 20th May. Worldwide.
URL:https://www.wycombefoe.org.uk/event/bee-day-2-2-2/
END:VEVENT
BEGIN:VEVENT
DTSTART;VALUE=DATE:20240517
DTEND;VALUE=DATE:20240518
DTSTAMP:20260423T093205
CREATED:20160217T170728Z
LAST-MODIFIED:20240318T173548Z
UID:6564-1715904000-1715990399@www.wycombefoe.org.uk
SUMMARY:Anniversary of Wycombe Environment Centre (2001)
DESCRIPTION:The Wycombe Environment Centre was founded in 17 May 2001 by Frances Alexander and the steering group. After a large Biffa grant\, they acquired a multistory building near the Rye Park\, which opened to the public in 2003. In 2010 the charity had to move out\, but found a new building in West Wycombe Rd a few years later. Finally\, it moved to Chilterns Shopping Centre in 2014 and has been there (on and off) until today. \nTo contact WEC you can message them via Facebook – www.facebook.com/WycombeEnvironmentCentre \n  \n 
URL:https://www.wycombefoe.org.uk/event/anniversary-of-wycombe-environment-centre-2003-2-2-2-2-2-2-2/
LOCATION:Wycombe Environment Centre\, Chilterns Shopping Centre\,\, High Wycombe\, HP13 5ES
END:VEVENT
BEGIN:VEVENT
DTSTART;VALUE=DATE:20240513
DTEND;VALUE=DATE:20240514
DTSTAMP:20260423T093205
CREATED:20170129T145809Z
LAST-MODIFIED:20240311T194907Z
UID:6554-1715558400-1715644799@www.wycombefoe.org.uk
SUMMARY:World Fairtrade Day
DESCRIPTION:Fair Trade is an agent for change. It is a tangible solution to poverty eradication\, a good tool for sustainable development\, and most of all Fair Trade promotes social justice. \nContact High Wycombe Fairtrade group to find out if any events/stalls are happening in your area – www.wycombefairtrade.org.uk/ \nWorldwide. Every 2nd Saturday of May. \n 
URL:https://www.wycombefoe.org.uk/event/world-fairtrade-day-2-2-2-2-2-2-2-2/
END:VEVENT
BEGIN:VEVENT
DTSTART;TZID=Europe/London:20240512T110000
DTEND;TZID=Europe/London:20240512T170000
DTSTAMP:20260423T093205
CREATED:20170129T151130Z
LAST-MODIFIED:20240311T195204Z
UID:6558-1715511600-1715533200@www.wycombefoe.org.uk
SUMMARY:Pann Mill Open day
DESCRIPTION:Enjoy a walk round the Rye and stop in on Pann Mill for cake/tea/coffee and view the variety of stands (books\, plants\, brick-a-brack\, charity groups etc). \nFlour made in Pann Mill is usually on sale (dependent on water levels). \nLikely environmental stalls: Wycombe Friends of the Earth and Revive the Wye. \nCoincides with the Sunday of National mills weekend (https://nationaltoday.com/national-mills-weekend).
URL:https://www.wycombefoe.org.uk/event/pann-mill-open-day-3-2-2-2-2-2-2/
LOCATION:Pann Mill\, The Rye (nr Busy Bees nursery)\, High Wycombe\, HP11 1BJ\, United Kingdom
END:VEVENT
BEGIN:VEVENT
DTSTART;TZID=Europe/London:20240511T100000
DTEND;TZID=Europe/London:20240511T130000
DTSTAMP:20260423T093205
CREATED:20211004T140652Z
LAST-MODIFIED:20240311T195020Z
UID:6556-1715421600-1715432400@www.wycombefoe.org.uk
SUMMARY:Wycombe Repair Café
DESCRIPTION:The Wycombe Repair Café project is run by the Wycombe Environment Centre. It is located in All Saints Parish Church in the centre of High Wycombe. Bring your broken household items (mechanical\, textile or small electrical) and we may be able to repair it. Either way\, there will be no charge (except if a new part is required)\, although any donations will be very welcome. \nEvery 2nd Saturday of the month\, in High Wycombe.\n(note also that there are other Repair Cafes nearby\, eg in Marlow and Hazlemere)
URL:https://www.wycombefoe.org.uk/event/repair-cafe-2-2-2-2-2-2-2-2-2-2-2-2-2-2-2-2-2-2-2-2-2-3-2-3-2-2-2-2-2-2-2/
LOCATION:Church Street\, Church Street\, High Wycombe\, HP11 2DE\, United Kingdom
END:VEVENT
BEGIN:VEVENT
DTSTART;TZID=Europe/London:20240506T183000
DTEND;TZID=Europe/London:20240506T190000
DTSTAMP:20260423T093205
CREATED:20220608T085815Z
LAST-MODIFIED:20240314T103551Z
UID:6539-1715020200-1715022000@www.wycombefoe.org.uk
SUMMARY:'Wycombe Env Projects' meeting - MOST MONDAYS
DESCRIPTION:Wycombe Environment Projects (WEP) is a projects group run by the Wycombe Environment Centre.\nWEP is not a forum for discussion\, but for action\, to cut carbon and boost biodiversity. \nThe group meets weekly for half an hour by Zoom on most Mondays at 6.30 pm.\nIf you would like to join in\, please email penelope.trustee@refreshwycombe.org \nGroup was setup 10th Feb 2021. \n 
URL:https://www.wycombefoe.org.uk/event/wycombe-environment-group-meeting-most-mondays-2-2-2-2-2-4-2-4-2-2-2-2-3-2-2-2-2/
END:VEVENT
BEGIN:VEVENT
DTSTART;VALUE=DATE:20240505
DTEND;VALUE=DATE:20240512
DTSTAMP:20260423T093205
CREATED:20170129T145017Z
LAST-MODIFIED:20240311T175913Z
UID:6552-1714867200-1715471999@www.wycombefoe.org.uk
SUMMARY:Compost awareness week
DESCRIPTION:Find out about the importance of composting and learn how to do it. \nFurther info at www.gardenorganic.org.uk\, or\nfor international go www.compostfoundation.org/ICAW/ICAW-Home \nStarts every first Sunday of May\, till Saturday. Worldwide. \n 
URL:https://www.wycombefoe.org.uk/event/compost-awareness-week-2-2-2-2-2-2-2-2/
END:VEVENT
BEGIN:VEVENT
DTSTART;TZID=Europe/London:20240504T100000
DTEND;TZID=Europe/London:20240504T160000
DTSTAMP:20260423T093205
CREATED:20220608T084910Z
LAST-MODIFIED:20240311T164706Z
UID:6550-1714816800-1714838400@www.wycombefoe.org.uk
SUMMARY:Scrapstore 'Refresh' EVERY SATURDAY
DESCRIPTION:Refresh Wycombe is a wonderful scrap store based in the Chiltern Shopping Centre\, right here in the heart of High Wycombe. Our aim is to encourage you to Reduce\, Reuse\, Recycle and Create. We have a huge selection of surplus and unwanted stock all donated by local businesses and individuals. You may be a crafter\, a teacher\, an artist or a maker. We have fantastic fabrics\, textiles\, haberdashery items\, cards\, papers\, foils\, and shelves full of materials just waiting for you to give it a second life and use it on your next project. We are open to everyone\, so come and visit us every Saturday between 10am and 4pm and Wednesday between 1:30pm and 4:30pm. We’re just next door to Primark inside the Chiltern Shopping Centre.\n\nPlease follow us on Social Media to get all the latest news.\nFacebook – Refreshwycombe\nInstagram – @refreshwycombe\nWebsite – www.refreshwycombe.org
URL:https://www.wycombefoe.org.uk/event/scrapstore-refresh-every-saturday-2-2-2-2-3-2-2-2-2-2-5-2-2-2-2-2-2-2-2-2-2-2/
END:VEVENT
BEGIN:VEVENT
DTSTART;TZID=Europe/London:20240502T100000
DTEND;TZID=Europe/London:20240502T130000
DTSTAMP:20260423T093205
CREATED:20160409T161011Z
LAST-MODIFIED:20240311T164547Z
UID:6548-1714644000-1714654800@www.wycombefoe.org.uk
SUMMARY:Chiltern Rangers Conservation MOST THURSDAYS
DESCRIPTION:Most Thursdays the Chiltern Rangers run a volunteer conservation group which is open to all.\nCome along and meet the group at Wycombe Rye Lido Car Park and keep fit while helping to take care of your local environment at woodlands. \nTools\, gloves and hot drinks are provided. Please wear stout footwear and appropriate clothing suitable for outdoors activities and the weather. If you would like to get involved then please contact them –  info@chilternrangers.co.uk \nCheck their website for details and more events. \n 
URL:https://www.wycombefoe.org.uk/event/conservation-volunteering-every-thursday-of-the-month-25-4-4-4-3-3-2-2-2-2-2-2-2-2-2-2-3-2-2-2-2-2-2-2-2-2-2-2-2-2-2-2-2-2-3-2-2-2-2-2-2-2-2-2-2-5-2-2-2-2-2-2-2-2-2-2-2-2/
LOCATION:Wycombe Lido Swimming pool\, The Rye \, HighWycombe\, United Kingdom
ORGANIZER;CN="Chiltern rangers":MAILTO:info@chilternrangers.co.uk
END:VEVENT
BEGIN:VEVENT
DTSTART;TZID=Europe/London:20240501T193000
DTEND;TZID=Europe/London:20240501T210000
DTSTAMP:20260423T093205
CREATED:20170129T143413Z
LAST-MODIFIED:20240311T164450Z
UID:6546-1714591800-1714597200@www.wycombefoe.org.uk
SUMMARY:Wycombe FoE Monthly Meeting
DESCRIPTION:Format of meeting (Zoom and/or Physical location).\nAgenda will be published a few days beforehand on our Home page – www.wycombefoe.org.uk. \nNon-members please email us at wycombefoe@yahoo.co.uk for a Zoom invitation.\nWe welcome new input and faces\, so let’s hear from you. \n 
URL:https://www.wycombefoe.org.uk/event/wycombe-friends-of-the-earth-monthly-meeting-23-6-2-2-2-3-3-2-3-2-2-2-2-2-2-2-2-2-2-2-2-2-3-3-2-2-2-2-2-3-2-2-2-2-2-2-2-2-2-2-2-2-2-2-4-2-2-2-2-2-2-2-2-2-3-2-2-2-2/
END:VEVENT
BEGIN:VEVENT
DTSTART;TZID=Europe/London:20240501T133000
DTEND;TZID=Europe/London:20240501T163000
DTSTAMP:20260423T093205
CREATED:20220608T084910Z
LAST-MODIFIED:20240311T161427Z
UID:6544-1714570200-1714581000@www.wycombefoe.org.uk
SUMMARY:Scrapstore 'Refresh' EVERY WEDNESDAY
DESCRIPTION:Refresh Wycombe is a wonderful scrap store based in the Chiltern Shopping Centre\, right here in the heart of High Wycombe. Our aim is to encourage you to Reduce\, Reuse\, Recycle and Create. We have a huge selection of surplus and unwanted stock all donated by local businesses and individuals. You may be a crafter\, a teacher\, an artist or a maker. We have fantastic fabrics\, textiles\, haberdashery items\, cards\, papers\, foils\, and shelves full of materials just waiting for you to give it a second life and use it on your next project. We are open to everyone\, so come and visit us every Saturday between 10am and 4pm and Wednesday between 1:30pm and 4:30pm. We’re just next door to Primark inside the Chiltern Shopping Centre.\n\nPlease follow us on Social Media to get all the latest news.\nFacebook – Refreshwycombe\nInstagram – @refreshwycombe\nWebsite – www.refreshwycombe.org
URL:https://www.wycombefoe.org.uk/event/scrapstore-refresh-every-saturday-2-2-2-2-3-2-2-2-2-2-2-2-2-5-2-2-2-2-2-3-2-2-2/
LOCATION:Chilterns Shopping Centre\, Unit 8\, Chilterns Shopping Centre\, Frogmoor\, High Wycombe\, HP13 5ES\, United Kingdom
END:VEVENT
BEGIN:VEVENT
DTSTART;VALUE=DATE:20240501
DTEND;VALUE=DATE:20240502
DTSTAMP:20260423T093205
CREATED:20170301T100115Z
LAST-MODIFIED:20240307T205542Z
UID:6535-1714521600-1714607999@www.wycombefoe.org.uk
SUMMARY:OTHER ECO GROUPS & EVENTS
DESCRIPTION:Click links below… \nList of environmental events in the Wycombe area\nThis is a more detailed listing of individual events. It is a pinned post on the Facebook page of Wycombe Env Centre. \nList of environmental organisations in the Wycombe area\nAnother way to find out re events. Click on the link to the organisation’s website and search for ‘what’s on’\, events or similar.\n \n  \n 
URL:https://www.wycombefoe.org.uk/event/note-other-local-event-listings-10-2-2-8-4-2-3-2-2-2-2-2-2-2-2-2-2-3-2-2-2-2-2-2-2-2-2-2-2-2-2-2-2-2-2-2-2-2-2-2-2-2-2-2-2-2-2-2-2-2-2-2-2-2-2-2-2-2-2-2-2-2-2-2-2-2-2-2-2-2-2-2-2/
END:VEVENT
BEGIN:VEVENT
DTSTART;VALUE=DATE:20240422
DTEND;VALUE=DATE:20240423
DTSTAMP:20260423T093205
CREATED:20161207T163635Z
LAST-MODIFIED:20240202T182006Z
UID:6483-1713744000-1713830399@www.wycombefoe.org.uk
SUMMARY:Earth Day
DESCRIPTION:Celebrate our planet. Find an event near you. \nOrganised by Earth Day Network. \n“Now is the time for the unstoppable courage to preserve and protect our health\, our families\, our livelihoods… together\, we must Invest In Our Planet. Because a green future is a prosperous future. We need to act (boldly)\, innovate (broadly)\, and implement (equitably). It’s going to take all of us. All in. Businesses\, governments\, and citizens — everyone accounted for\, and everyone accountable.” \nWorldwide. Every 22nd April.
URL:https://www.wycombefoe.org.uk/event/earth-day-2-2-2-2-2-2-2-2/
CATEGORIES:Uptodate for 2019
END:VEVENT
BEGIN:VEVENT
DTSTART;TZID=Europe/London:20240416T110000
DTEND;TZID=Europe/London:20240416T130000
DTSTAMP:20260423T093205
CREATED:20240216T201754Z
LAST-MODIFIED:20240319T154734Z
UID:6579-1713265200-1713272400@www.wycombefoe.org.uk
SUMMARY:Foraging walk
DESCRIPTION:Charmaine from Khepera CIC and Harry from Wycombe Wanderers Foundation lead a foraging walk. Usually\, walk is through the local woodlands\, identifying various plants some of which are edible. Walk ends in Wrights Meadow Centre where you can buy a discounted lunch. \nMeet at Wycombe Lido car park on the Rye. Just turn up! \nUpdates on Foraging walk: https://www.facebook.com/HighWycombeCommunityBoard \nUsually 3rd Tuesday of the month.
URL:https://www.wycombefoe.org.uk/event/foraging-walk-2/
END:VEVENT
BEGIN:VEVENT
DTSTART;TZID=Europe/London:20240413T100000
DTEND;TZID=Europe/London:20240413T130000
DTSTAMP:20260423T093205
CREATED:20211004T140652Z
LAST-MODIFIED:20240202T181623Z
UID:6481-1713002400-1713013200@www.wycombefoe.org.uk
SUMMARY:Wycombe Repair Café
DESCRIPTION:The Wycombe Repair Café project is run by the Wycombe Environment Centre. It is located in All Saints Parish Church in the centre of High Wycombe. Bring your broken household items (mechanical\, textile or small electrical) and we may be able to repair it. Either way\, there will be no charge (except if a new part is required)\, although any donations will be very welcome. \nEvery 2nd Saturday of the month\, in High Wycombe.\n(note also that there are other Repair Cafes nearby\, eg in Marlow and Hazlemere)
URL:https://www.wycombefoe.org.uk/event/repair-cafe-2-2-2-2-2-2-2-2-2-2-2-2-2-2-2-2-2-2-2-2-2-3-2-3-2-2-2-2-2-2/
LOCATION:Church Street\, Church Street\, High Wycombe\, HP11 2DE\, United Kingdom
END:VEVENT
BEGIN:VEVENT
DTSTART;TZID=Europe/London:20240406T100000
DTEND;TZID=Europe/London:20240406T160000
DTSTAMP:20260423T093205
CREATED:20220608T084910Z
LAST-MODIFIED:20240201T201429Z
UID:6478-1712397600-1712419200@www.wycombefoe.org.uk
SUMMARY:Scrapstore 'Refresh' EVERY SATURDAY
DESCRIPTION:Refresh Wycombe is a wonderful scrap store based in the Chiltern Shopping Centre\, right here in the heart of High Wycombe. Our aim is to encourage you to Reduce\, Reuse\, Recycle and Create. We have a huge selection of surplus and unwanted stock all donated by local businesses and individuals. You may be a crafter\, a teacher\, an artist or a maker. We have fantastic fabrics\, textiles\, haberdashery items\, cards\, papers\, foils\, and shelves full of materials just waiting for you to give it a second life and use it on your next project. We are open to everyone\, so come and visit us every Saturday between 10am and 4pm and Wednesday between 1:30pm and 4:30pm. We’re just next door to Primark inside the Chiltern Shopping Centre.\n\nPlease follow us on Social Media to get all the latest news.\nFacebook – Refreshwycombe\nInstagram – @refreshwycombe\nWebsite – www.refreshwycombe.org
URL:https://www.wycombefoe.org.uk/event/scrapstore-refresh-every-saturday-2-2-2-2-3-2-2-2-2-2-5-2-2-2-2-2-2-2-2-2-2/
END:VEVENT
BEGIN:VEVENT
DTSTART;TZID=Europe/London:20240404T100000
DTEND;TZID=Europe/London:20240404T130000
DTSTAMP:20260423T093205
CREATED:20160409T161011Z
LAST-MODIFIED:20240201T201022Z
UID:6472-1712224800-1712235600@www.wycombefoe.org.uk
SUMMARY:Chiltern Rangers Conservation MOST THURSDAYS
DESCRIPTION:Most Thursdays the Chiltern Rangers run a volunteer conservation group which is open to all.\nCome along and meet the group at Wycombe Rye Lido Car Park and keep fit while helping to take care of your local environment at woodlands. \nTools\, gloves and hot drinks are provided. Please wear stout footwear and appropriate clothing suitable for outdoors activities and the weather. If you would like to get involved then please contact them –  info@chilternrangers.co.uk \nCheck their website for details and more events. \n 
URL:https://www.wycombefoe.org.uk/event/conservation-volunteering-every-thursday-of-the-month-25-4-4-4-3-3-2-2-2-2-2-2-2-2-2-2-3-2-2-2-2-2-2-2-2-2-2-2-2-2-2-2-2-2-3-2-2-2-2-2-2-2-2-2-2-5-2-2-2-2-2-2-2-2-2-2-2/
LOCATION:Wycombe Lido Swimming pool\, The Rye \, HighWycombe\, United Kingdom
ORGANIZER;CN="Chiltern rangers":MAILTO:info@chilternrangers.co.uk
END:VEVENT
BEGIN:VEVENT
DTSTART;TZID=Europe/London:20240403T193000
DTEND;TZID=Europe/London:20240403T210000
DTSTAMP:20260423T093205
CREATED:20170129T143413Z
LAST-MODIFIED:20240201T200531Z
UID:6470-1712172600-1712178000@www.wycombefoe.org.uk
SUMMARY:Wycombe FoE Monthly Meeting
DESCRIPTION:Format of meeting (Zoom and/or Physical location).\nAgenda will be published a few days beforehand on our Home page – www.wycombefoe.org.uk. \nNon-members please email us at wycombefoe@yahoo.co.uk for a Zoom invitation.\nWe welcome new input and faces\, so let’s hear from you. \n 
URL:https://www.wycombefoe.org.uk/event/wycombe-friends-of-the-earth-monthly-meeting-23-6-2-2-2-3-3-2-3-2-2-2-2-2-2-2-2-2-2-2-2-2-3-3-2-2-2-2-2-3-2-2-2-2-2-2-2-2-2-2-2-2-2-2-4-2-2-2-2-2-2-2-2-2-3-2-2-2/
END:VEVENT
BEGIN:VEVENT
DTSTART;TZID=Europe/London:20240403T133000
DTEND;TZID=Europe/London:20240403T163000
DTSTAMP:20260423T093205
CREATED:20220608T084910Z
LAST-MODIFIED:20240201T201344Z
UID:6476-1712151000-1712161800@www.wycombefoe.org.uk
SUMMARY:Scrapstore 'Refresh' EVERY WEDNESDAY
DESCRIPTION:Refresh Wycombe is a wonderful scrap store based in the Chiltern Shopping Centre\, right here in the heart of High Wycombe. Our aim is to encourage you to Reduce\, Reuse\, Recycle and Create. We have a huge selection of surplus and unwanted stock all donated by local businesses and individuals. You may be a crafter\, a teacher\, an artist or a maker. We have fantastic fabrics\, textiles\, haberdashery items\, cards\, papers\, foils\, and shelves full of materials just waiting for you to give it a second life and use it on your next project. We are open to everyone\, so come and visit us every Saturday between 10am and 4pm and Wednesday between 1:30pm and 4:30pm. We’re just next door to Primark inside the Chiltern Shopping Centre.\n\nPlease follow us on Social Media to get all the latest news.\nFacebook – Refreshwycombe\nInstagram – @refreshwycombe\nWebsite – www.refreshwycombe.org
URL:https://www.wycombefoe.org.uk/event/scrapstore-refresh-every-saturday-2-2-2-2-3-2-2-2-2-2-2-2-2-5-2-2-2-2-2-3-2-2/
LOCATION:Chilterns Shopping Centre\, Unit 8\, Chilterns Shopping Centre\, Frogmoor\, High Wycombe\, HP13 5ES\, United Kingdom
END:VEVENT
BEGIN:VEVENT
DTSTART;TZID=Europe/London:20240401T183000
DTEND;TZID=Europe/London:20240401T190000
DTSTAMP:20260423T093205
CREATED:20220608T085815Z
LAST-MODIFIED:20240201T201153Z
UID:6474-1711996200-1711998000@www.wycombefoe.org.uk
SUMMARY:'Wycombe Environment' meeting MOST MONDAYS
DESCRIPTION:Wycombe Environment (WE) is part of the Environment and Climate Change sub-group of the High Wycombe Community Board – itself part of Buckinghamshire County Council. WE is not a forum for discussion\, but for action\, to cut carbon and boost biodiversity. \nOn most Mondays\, the group meets weekly for half an hour by Zoom on Mondays at 6.30 pm. If you would like to join\, please email hwcb@buckinghamshire.gov.uk\, with ‘WE’ in the subject line. \nIt was setup 10th Feb 2021. \n 
URL:https://www.wycombefoe.org.uk/event/wycombe-environment-group-meeting-most-mondays-2-2-2-2-2-4-2-4-2-2-2-2-3-2-2-2/
END:VEVENT
BEGIN:VEVENT
DTSTART;VALUE=DATE:20240401
DTEND;VALUE=DATE:20240402
DTSTAMP:20260423T093205
CREATED:20170301T100115Z
LAST-MODIFIED:20240201T200227Z
UID:6468-1711929600-1712015999@www.wycombefoe.org.uk
SUMMARY:OTHER ECO GROUPS & EVENTS
DESCRIPTION:Click links below… \nList of environmental events in the Wycombe area\nThis is a more detailed listing of individual events. It is a pinned post on the Facebook page of Wycombe Env Centre. \nList of environmental organisations in the Wycombe area\nAnother way to find out re events. Click on the link to the organisation’s website and search for ‘what’s on’\, events or similar.\n \n  \n 
URL:https://www.wycombefoe.org.uk/event/note-other-local-event-listings-10-2-2-8-4-2-3-2-2-2-2-2-2-2-2-2-2-3-2-2-2-2-2-2-2-2-2-2-2-2-2-2-2-2-2-2-2-2-2-2-2-2-2-2-2-2-2-2-2-2-2-2-2-2-2-2-2-2-2-2-2-2-2-2-2-2-2-2-2-2-2-2/
END:VEVENT
BEGIN:VEVENT
DTSTART;TZID=Europe/London:20240328T183000
DTEND;TZID=Europe/London:20240328T210000
DTSTAMP:20260423T093205
CREATED:20230803T211446Z
LAST-MODIFIED:20240313T104852Z
UID:6355-1711650600-1711659600@www.wycombefoe.org.uk
SUMMARY:Community and Climate cafe (CANCELLED)
DESCRIPTION:Social get-together\, including events/speakers\nMainly in the Front Room Cafe (Castle St\, Wycombe)\, but sometimes in The Patch.\nTo confirm venue etc\, check their WhatsApp group\nhttps://chat.whatsapp.com/CoDzWbJwbtOIP6PHGWSGTm\n(call Toby on 07827 797340 if you have problem joining). \nIf you want to present anything\, or talk about a specific topic\, you are very welcome. \nLast Thursday of the month.
URL:https://www.wycombefoe.org.uk/event/climate-cafe-2-2-2/
END:VEVENT
BEGIN:VEVENT
DTSTART;TZID=Europe/London:20240323T203000
DTEND;TZID=Europe/London:20240323T213000
DTSTAMP:20260423T093205
CREATED:20161207T162630Z
LAST-MODIFIED:20240319T150516Z
UID:6429-1711225800-1711229400@www.wycombefoe.org.uk
SUMMARY:Earth Hour
DESCRIPTION:Earth Hour is an annual event where hundreds of millions of people switch off their lights for one hour (8.30-9.30pm) to show they care about our planet. Discover a new world without electricity… \nLast (or 4th) Saturday of March. Worldwide.
URL:https://www.wycombefoe.org.uk/event/earth-hour-3-2-2-2-2-2-2-2/
END:VEVENT
BEGIN:VEVENT
DTSTART;VALUE=DATE:20240322
DTEND;VALUE=DATE:20240323
DTSTAMP:20260423T093205
CREATED:20190108T155359Z
LAST-MODIFIED:20240104T143545Z
UID:6427-1711065600-1711151999@www.wycombefoe.org.uk
SUMMARY:Water Day
DESCRIPTION:Organised by United Nations. \nWorldwide. \nEvery 22 March.
URL:https://www.wycombefoe.org.uk/event/water-day-3-2-2-2-2-2/
END:VEVENT
END:VCALENDAR