BEGIN:VCALENDAR
VERSION:2.0
PRODID:-//Wycombe Friends of the Earth - ECPv6.15.17//NONSGML v1.0//EN
CALSCALE:GREGORIAN
METHOD:PUBLISH
X-ORIGINAL-URL:https://www.wycombefoe.org.uk
X-WR-CALDESC:Events for Wycombe Friends of the Earth
REFRESH-INTERVAL;VALUE=DURATION:PT1H
X-Robots-Tag:noindex
X-PUBLISHED-TTL:PT1H
BEGIN:VTIMEZONE
TZID:Europe/London
BEGIN:DAYLIGHT
TZOFFSETFROM:+0000
TZOFFSETTO:+0100
TZNAME:BST
DTSTART:20240331T010000
END:DAYLIGHT
BEGIN:STANDARD
TZOFFSETFROM:+0100
TZOFFSETTO:+0000
TZNAME:GMT
DTSTART:20241027T010000
END:STANDARD
BEGIN:DAYLIGHT
TZOFFSETFROM:+0000
TZOFFSETTO:+0100
TZNAME:BST
DTSTART:20250330T010000
END:DAYLIGHT
BEGIN:STANDARD
TZOFFSETFROM:+0100
TZOFFSETTO:+0000
TZNAME:GMT
DTSTART:20251026T010000
END:STANDARD
BEGIN:DAYLIGHT
TZOFFSETFROM:+0000
TZOFFSETTO:+0100
TZNAME:BST
DTSTART:20260329T010000
END:DAYLIGHT
BEGIN:STANDARD
TZOFFSETFROM:+0100
TZOFFSETTO:+0000
TZNAME:GMT
DTSTART:20261025T010000
END:STANDARD
END:VTIMEZONE
BEGIN:VEVENT
DTSTART;TZID=Europe/London:20250621T000000
DTEND;TZID=Europe/London:20250629T235900
DTSTAMP:20260422T232402
CREATED:20210220T170120Z
LAST-MODIFIED:20250521T121942Z
UID:7173-1750464000-1751241540@www.wycombefoe.org.uk
SUMMARY:London Climate Action Week
DESCRIPTION:London Climate Action Week (LCAW) is an annual event bringing together world leading array of climate professionals and communities. \nLCAW has become the largest independent climate change event in Europe. It aims to influence and shape global climate action but is also rooted in the reality of London as a global City. LCAW aims to be a catalyst to help London accelerate its transformation towards a net zero\, equitable and resilient future. \nUsually starts 3rd or 4th Sat in June. London.
URL:https://www.wycombefoe.org.uk/event/london-climate-action-week-2-2-2-2/
END:VEVENT
BEGIN:VEVENT
DTSTART;VALUE=DATE:20250622
DTEND;VALUE=DATE:20250623
DTSTAMP:20260422T232402
CREATED:20200606T175334Z
LAST-MODIFIED:20250408T162649Z
UID:7171-1750550400-1750636799@www.wycombefoe.org.uk
SUMMARY:Rainforest day
DESCRIPTION:A collaborative effort to raise awareness and encourage action to save one of Earth’s most precious resources\, our rainforests. \nWorldwide\, every 22 June.
URL:https://www.wycombefoe.org.uk/event/rainforest-day-2-2-2-2-2/
END:VEVENT
BEGIN:VEVENT
DTSTART;VALUE=DATE:20250701
DTEND;VALUE=DATE:20250702
DTSTAMP:20260422T232402
CREATED:20170301T100115Z
LAST-MODIFIED:20250719T044425Z
UID:7196-1751328000-1751414399@www.wycombefoe.org.uk
SUMMARY:OTHER ECO GROUPS & EVENTS
DESCRIPTION:Click links below… \nList of environmental organisations in the Wycombe area\nAnother way to find out re events. Click on the link to the organisation’s website and search for ‘what’s on’\, events or similar.\n \n  \n 
URL:https://www.wycombefoe.org.uk/event/note-other-local-event-listings-10-2-2-8-4-2-3-2-2-2-2-2-2-2-2-2-2-3-2-2-2-2-2-2-2-2-2-2-2-2-2-2-2-2-2-2-2-2-2-2-2-2-2-2-2-2-2-2-2-2-2-2-2-2-2-2-2-2-2-2-2-2-2-2-2-2-2-2-2-2-2-2-2-2-2-2-2-2-2-2-2-2-2-5/
END:VEVENT
BEGIN:VEVENT
DTSTART;VALUE=DATE:20250701
DTEND;VALUE=DATE:20250702
DTSTAMP:20260422T232402
CREATED:20220608T084910Z
LAST-MODIFIED:20250520T194720Z
UID:7213-1751328000-1751414399@www.wycombefoe.org.uk
SUMMARY:Re-Use Shop 'Refresh' EVERY DAY EXCEPT Monday
DESCRIPTION:For opening times see https://www.instagram.com/refreshthemarketplace. \nRefresh Wycombe is a wonderful scrap store based in the Chiltern Shopping Centre\, right here in the heart of High Wycombe. Our aim is to encourage you to Reduce\, Reuse\, Recycle and Create. We have a huge selection of surplus and unwanted stock all donated by local businesses and individuals. You may be a crafter\, a teacher\, an artist or a maker. We have fantastic fabrics\, textiles\, haberdashery items\, cards\, papers\, foils\, and shelves full of materials just waiting for you to give it a second life and use it on your next project. We are open to everyone and located near the Primark entrance inside the Chiltern Shopping Centre. \n\nFollow us on Social Media to get all the latest news.\nFacebook – Refreshwycombe\nInstagram – @refreshwycombe\nWebsite – www.refreshwycombe.org
URL:https://www.wycombefoe.org.uk/event/scrapstore-refresh-every-saturday-2-2-2-2-3-2-2-2-2-2-2-2-2-5-2-2-2-2-2-3-2-2-2-2-2-2-2-2-2-2-2-2-2-2-2-2-2-2/
LOCATION:Chilterns Shopping Centre\, Unit 8\, Chilterns Shopping Centre\, Frogmoor\, High Wycombe\, HP13 5ES\, United Kingdom
END:VEVENT
BEGIN:VEVENT
DTSTART;TZID=Europe/London:20250702T193000
DTEND;TZID=Europe/London:20250702T210000
DTSTAMP:20260422T232402
CREATED:20170129T143413Z
LAST-MODIFIED:20250513T192233Z
UID:7201-1751484600-1751490000@www.wycombefoe.org.uk
SUMMARY:Wycombe FoE Monthly Meeting
DESCRIPTION:Format of meeting (Zoom and/or Physical location).\nAgenda will be published a few days beforehand on our Home page – www.wycombefoe.org.uk. \nNon-members please email us at wycombefoe@yahoo.co.uk for a Zoom invitation.\nWe welcome new input and faces\, so let’s hear from you. \n 
URL:https://www.wycombefoe.org.uk/event/wycombe-friends-of-the-earth-monthly-meeting-23-6-2-2-2-3-3-2-3-2-2-2-2-2-2-2-2-2-2-2-2-2-3-3-2-2-2-2-2-3-2-2-2-2-2-2-2-2-2-2-2-2-2-2-4-2-2-2-2-2-2-2-2-2-3-2-2-2-2-2-3-2-2-2-3-2-2-2-2-2-2/
END:VEVENT
BEGIN:VEVENT
DTSTART;TZID=Europe/London:20250703T100000
DTEND;TZID=Europe/London:20250703T130000
DTSTAMP:20260422T232402
CREATED:20160409T161011Z
LAST-MODIFIED:20250513T192319Z
UID:7203-1751536800-1751547600@www.wycombefoe.org.uk
SUMMARY:Chiltern Rangers Conservation MOST THURSDAYS
DESCRIPTION:Most Thursdays the Chiltern Rangers run a volunteer conservation group which is open to all.\nCome along and meet the group at Wycombe Rye Lido Car Park and keep fit while helping to take care of your local environment at woodlands. \nTools\, gloves and hot drinks are provided. Please wear stout footwear and appropriate clothing suitable for outdoors activities and the weather. If you would like to get involved then please contact them –  info@chilternrangers.co.uk \nCheck their website for details and more events. \n 
URL:https://www.wycombefoe.org.uk/event/conservation-volunteering-every-thursday-of-the-month-25-4-4-4-3-3-2-2-2-2-2-2-2-2-2-2-3-2-2-2-2-2-2-2-2-2-2-2-2-2-2-2-2-2-3-2-2-2-2-2-2-2-2-2-2-5-2-2-2-2-2-2-2-2-2-2-2-2-2-2-2-2-2-2-2-2-2-2-2-2-2-2/
LOCATION:Wycombe Lido Swimming pool\, The Rye \, HighWycombe\, United Kingdom
ORGANIZER;CN="Chiltern rangers":MAILTO:info@chilternrangers.co.uk
END:VEVENT
BEGIN:VEVENT
DTSTART;TZID=Europe/London:20250707T183000
DTEND;TZID=Europe/London:20250707T190000
DTSTAMP:20260422T232402
CREATED:20220608T085815Z
LAST-MODIFIED:20250723T223228Z
UID:7198-1751913000-1751914800@www.wycombefoe.org.uk
SUMMARY:'Wycombe Env Projects' - NO MEETING (Summer Break)
DESCRIPTION:Wycombe Environment Projects (WEP) is a projects group run by the charity Wycombe Environment Centre.\nWEP is not a forum for discussion\, but for action\, to cut carbon and boost biodiversity. \nThe group meets weekly for half an hour by Zoom on most Mondays at 6.30 pm.\nIf you would like to join in\, please email penelope.trustee@refreshwycombe.org \nGroup was setup 10th Feb 2021. \n 
URL:https://www.wycombefoe.org.uk/event/wycombe-environment-group-meeting-most-mondays-2-2-2-2-2-4-2-4-2-2-2-2-3-2-2-2-2-2-2-2-2-2-2-2-2-2-2-2-2-2-2/
END:VEVENT
BEGIN:VEVENT
DTSTART;VALUE=DATE:20250711
DTEND;VALUE=DATE:20250712
DTSTAMP:20260422T232402
CREATED:20160502T175327Z
LAST-MODIFIED:20250513T192642Z
UID:7207-1752192000-1752278399@www.wycombefoe.org.uk
SUMMARY:World population day
DESCRIPTION:In 1989\, the Governing Council of the United Nations Development Programme recommended that 11 July be observed by the international community as World Population Day\, a day to focus attention on the urgency and importance of population issues. \nGlobal population size also has an affect on earth resources as well as total greenhouse gas emissions. \n\nWorldwide\, every 11th July.\n\nFor events local to High Wycombe email  highwycombegroup@populationmatters.org\nFor events further afield\, see www.populationmatters.org.
URL:https://www.wycombefoe.org.uk/event/world-population-day-2-2-2-2-2-2-2-2-2/
END:VEVENT
BEGIN:VEVENT
DTSTART;TZID=Europe/London:20250712T100000
DTEND;TZID=Europe/London:20250712T130000
DTSTAMP:20260422T232402
CREATED:20211004T140652Z
LAST-MODIFIED:20250513T192455Z
UID:7205-1752314400-1752325200@www.wycombefoe.org.uk
SUMMARY:Wycombe Repair Café
DESCRIPTION:The Wycombe Repair Café is a project run by the charity Wycombe Environment Centre. The Repair Café is located in All Saints Parish Church in the centre of High Wycombe. Bring your broken household items (mechanical\, textile or small electrical) and we may be able to repair it. Either way\, there will be no charge (except if a new part is required)\, although any donations will be very welcome. \nEvery 2nd Saturday of the month\, in High Wycombe.\n(note also that there are other Repair Cafes nearby\, eg in Flackwell Heath\, Marlow and Hazlemere)
URL:https://www.wycombefoe.org.uk/event/repair-cafe-2-2-2-2-2-2-2-2-2-2-2-2-2-2-2-2-2-2-2-2-2-3-2-3-2-2-2-2-2-2-2-2-2-2-2-2-3-2-2-2-2-2-2-2/
LOCATION:Church Street\, Church Street\, High Wycombe\, HP11 2DE\, United Kingdom
END:VEVENT
BEGIN:VEVENT
DTSTART;TZID=Europe/London:20250713T110000
DTEND;TZID=Europe/London:20250713T170000
DTSTAMP:20260422T232402
CREATED:20170129T151310Z
LAST-MODIFIED:20250520T194858Z
UID:7215-1752404400-1752426000@www.wycombefoe.org.uk
SUMMARY:Pann Mill Open day
DESCRIPTION:Enjoy a walk round the Rye and stop in on Pann Mill for cake/tea/coffee and view the variety of stands. \nFlour made in Pann Mill is usually on sale (dependent on water levels). \nPossible environmental stalls: High Wycombe Beekeepers (sale of locally produced honey) \nUsually on second Sunday of July. \n 
URL:https://www.wycombefoe.org.uk/event/pann-mill-open-day-4-2-2-2-2-2-2-2-2/
LOCATION:Pann Mill\, The Rye (nr Busy Bees nursery)\, High Wycombe\, HP11 1BJ\, United Kingdom
END:VEVENT
BEGIN:VEVENT
DTSTART;VALUE=DATE:20250724
DTEND;VALUE=DATE:20250725
DTSTAMP:20260422T232402
CREATED:20180724T120746Z
LAST-MODIFIED:20250606T154515Z
UID:7244-1753315200-1753401599@www.wycombefoe.org.uk
SUMMARY:Earth Overshoot Day
DESCRIPTION:Earth Overshoot Day marks the date when humanity’s demand for ecological resources and services in a given year exceeds what Earth can regenerate in that year. We maintain this deficit by liquidating stocks of ecological resources and accumulating waste\, primarily carbon dioxide in the atmosphere. \nEarth Overshoot Day is hosted and calculated by Global Footprint Network\, an international think tank that coordinates research\, develops methodological standards and provides decision-makers with a menu of tools to help the human economy operate within Earth’s ecological limits. \nEvery year has different date depending on how sustainable we are; worldwide.
URL:https://www.wycombefoe.org.uk/event/earth-overshoot-day-2-2-2-2-2/
END:VEVENT
BEGIN:VEVENT
DTSTART;VALUE=DATE:20250801
DTEND;VALUE=DATE:20250802
DTSTAMP:20260422T232402
CREATED:20170301T100115Z
LAST-MODIFIED:20250719T044511Z
UID:7230-1754006400-1754092799@www.wycombefoe.org.uk
SUMMARY:OTHER ECO GROUPS & EVENTS
DESCRIPTION:Click links below… \nList of environmental organisations in the Wycombe area\nAnother way to find out re events. Click on the link to the organisation’s website and search for ‘what’s on’\, events or similar.\n \n  \n 
URL:https://www.wycombefoe.org.uk/event/note-other-local-event-listings-10-2-2-8-4-2-3-2-2-2-2-2-2-2-2-2-2-3-2-2-2-2-2-2-2-2-2-2-2-2-2-2-2-2-2-2-2-2-2-2-2-2-2-2-2-2-2-2-2-2-2-2-2-2-2-2-2-2-2-2-2-2-2-2-2-2-2-2-2-2-2-2-2-2-2-2-2-2-2-2-2-2-2-6/
END:VEVENT
BEGIN:VEVENT
DTSTART;VALUE=DATE:20250801
DTEND;VALUE=DATE:20250802
DTSTAMP:20260422T232402
CREATED:20220608T084910Z
LAST-MODIFIED:20250605T191028Z
UID:7232-1754006400-1754092799@www.wycombefoe.org.uk
SUMMARY:Re-Use Shop 'Refresh' EVERY DAY EXCEPT Monday
DESCRIPTION:For opening times see https://www.instagram.com/refreshthemarketplace. \nRefresh Wycombe is a wonderful scrap store based in the Chiltern Shopping Centre\, right here in the heart of High Wycombe. Our aim is to encourage you to Reduce\, Reuse\, Recycle and Create. We have a huge selection of surplus and unwanted stock all donated by local businesses and individuals. You may be a crafter\, a teacher\, an artist or a maker. We have fantastic fabrics\, textiles\, haberdashery items\, cards\, papers\, foils\, and shelves full of materials just waiting for you to give it a second life and use it on your next project. We are open to everyone and located near the Primark entrance inside the Chiltern Shopping Centre. \n\nFollow us on Social Media to get all the latest news.\nFacebook – Refreshwycombe\nInstagram – @refreshwycombe\nWebsite – www.refreshwycombe.org
URL:https://www.wycombefoe.org.uk/event/scrapstore-refresh-every-saturday-2-2-2-2-3-2-2-2-2-2-2-2-2-5-2-2-2-2-2-3-2-2-2-2-2-2-2-2-2-2-2-2-2-2-2-2-2-2-2/
LOCATION:Chilterns Shopping Centre\, Unit 8\, Chilterns Shopping Centre\, Frogmoor\, High Wycombe\, HP13 5ES\, United Kingdom
END:VEVENT
BEGIN:VEVENT
DTSTART;TZID=Europe/London:20250804T183000
DTEND;TZID=Europe/London:20250804T190000
DTSTAMP:20260422T232402
CREATED:20220608T085815Z
LAST-MODIFIED:20250723T223347Z
UID:7238-1754332200-1754334000@www.wycombefoe.org.uk
SUMMARY:'Wycombe Env Projects' meeting - NO MEETINGS IN AUG (Summer Break)
DESCRIPTION:Wycombe Environment Projects (WEP) is a projects group run by the charity Wycombe Environment Centre.\nWEP is not a forum for discussion\, but for action\, to cut carbon and boost biodiversity. \nThe group meets weekly for half an hour by Zoom on most Mondays at 6.30 pm.\nIf you would like to join in\, please email penelope.trustee@refreshwycombe.org \nGroup was setup 10th Feb 2021. \n 
URL:https://www.wycombefoe.org.uk/event/wycombe-environment-group-meeting-most-mondays-2-2-2-2-2-4-2-4-2-2-2-2-3-2-2-2-2-2-2-2-2-2-2-2-2-2-2-2-2-2-2-2/
END:VEVENT
BEGIN:VEVENT
DTSTART;TZID=Europe/London:20250806T193000
DTEND;TZID=Europe/London:20250806T210000
DTSTAMP:20260422T232402
CREATED:20170129T143413Z
LAST-MODIFIED:20250605T192845Z
UID:7234-1754508600-1754514000@www.wycombefoe.org.uk
SUMMARY:Wycombe FoE Monthly Meeting
DESCRIPTION:Format of meeting (Zoom and/or Physical location).\nAgenda will be published a few days beforehand on our Home page – www.wycombefoe.org.uk. \nNon-members please email us at wycombefoe@yahoo.co.uk for a Zoom invitation.\nWe welcome new input and faces\, so let’s hear from you. \n 
URL:https://www.wycombefoe.org.uk/event/wycombe-friends-of-the-earth-monthly-meeting-23-6-2-2-2-3-3-2-3-2-2-2-2-2-2-2-2-2-2-2-2-2-3-3-2-2-2-2-2-3-2-2-2-2-2-2-2-2-2-2-2-2-2-2-4-2-2-2-2-2-2-2-2-2-3-2-2-2-2-2-3-2-2-2-3-2-2-2-2-2-2-2/
END:VEVENT
BEGIN:VEVENT
DTSTART;TZID=Europe/London:20250807T100000
DTEND;TZID=Europe/London:20250807T130000
DTSTAMP:20260422T232402
CREATED:20160409T161011Z
LAST-MODIFIED:20250605T193025Z
UID:7236-1754560800-1754571600@www.wycombefoe.org.uk
SUMMARY:Chiltern Rangers Conservation MOST THURSDAYS
DESCRIPTION:Most Thursdays the Chiltern Rangers run a volunteer conservation group which is open to all.\nCome along and meet the group at Wycombe Rye Lido Car Park and keep fit while helping to take care of your local environment at woodlands. \nTools\, gloves and hot drinks are provided. Please wear stout footwear and appropriate clothing suitable for outdoors activities and the weather. If you would like to get involved then please contact them –  info@chilternrangers.co.uk \nCheck their website for details and more events. \n 
URL:https://www.wycombefoe.org.uk/event/conservation-volunteering-every-thursday-of-the-month-25-4-4-4-3-3-2-2-2-2-2-2-2-2-2-2-3-2-2-2-2-2-2-2-2-2-2-2-2-2-2-2-2-2-3-2-2-2-2-2-2-2-2-2-2-5-2-2-2-2-2-2-2-2-2-2-2-2-2-2-2-2-2-2-2-2-2-2-2-2-2-2-2/
LOCATION:Wycombe Lido Swimming pool\, The Rye \, HighWycombe\, United Kingdom
ORGANIZER;CN="Chiltern rangers":MAILTO:info@chilternrangers.co.uk
END:VEVENT
BEGIN:VEVENT
DTSTART;TZID=Europe/London:20250809T100000
DTEND;TZID=Europe/London:20250809T130000
DTSTAMP:20260422T232402
CREATED:20211004T140652Z
LAST-MODIFIED:20250712T164228Z
UID:7240-1754733600-1754744400@www.wycombefoe.org.uk
SUMMARY:Wycombe Repair Café (no repair cafe in August!)
DESCRIPTION:The Wycombe Repair Café is a project run by the charity Wycombe Environment Centre. The Repair Café is located in All Saints Parish Church in the centre of High Wycombe. Bring your broken household items (mechanical\, textile or small electrical) and we may be able to repair it. Either way\, there will be no charge (except if a new part is required)\, although any donations will be very welcome. \nEvery 2nd Saturday of the month\, in High Wycombe.\n(note also that there are other Repair Cafes nearby\, eg in Flackwell Heath\, Marlow and Hazlemere)
URL:https://www.wycombefoe.org.uk/event/repair-cafe-2-2-2-2-2-2-2-2-2-2-2-2-2-2-2-2-2-2-2-2-2-3-2-3-2-2-2-2-2-2-2-2-2-2-2-2-3-2-2-2-2-2-2-2-2/
LOCATION:Church Street\, Church Street\, High Wycombe\, HP11 2DE\, United Kingdom
END:VEVENT
BEGIN:VEVENT
DTSTART;VALUE=DATE:20250824
DTEND;VALUE=DATE:20250829
DTSTAMP:20260422T232402
CREATED:20210220T170813Z
LAST-MODIFIED:20250718T160407Z
UID:7250-1755993600-1756425599@www.wycombefoe.org.uk
SUMMARY:Water week (Conference)
DESCRIPTION:World Water Week is the leading conference on global water issues\, held every year since 1991. A non-profit event\, co-created with leading organizations\, World Water Week attracts a diverse mix of participants from many professional backgrounds and every corner of the world. Developing solutions to the world’s greatest water-related challenges\, with topics ranging from food security and health to agriculture\, technology\, biodiversity\, and the climate crisis.  \nStarting in 2nd half of August\, 5days. Worldwide.
URL:https://www.wycombefoe.org.uk/event/water-week-2-2-2-2/
END:VEVENT
BEGIN:VEVENT
DTSTART;VALUE=DATE:20250901
DTEND;VALUE=DATE:20250902
DTSTAMP:20260422T232402
CREATED:20170301T100115Z
LAST-MODIFIED:20250901T153730Z
UID:7279-1756684800-1756771199@www.wycombefoe.org.uk
SUMMARY:OTHER ECO GROUPS & EVENTS
DESCRIPTION:Click links below… \nMore environmental events in the Wycombe area (Mycelium Map)\nThis is a growing map showing some local eco events and some local eco groups. If you are an environmental organisation\, you can join. \nList of environmental organisations in the Wycombe area\nAnother way to find out re events. Click on the link to the organisation’s website and search for ‘what’s on’\, events or similar.\n \n  \n 
URL:https://www.wycombefoe.org.uk/event/note-other-local-event-listings-10-2-2-8-4-2-3-2-2-2-2-2-2-2-2-2-2-3-2-2-2-2-2-2-2-2-2-2-2-2-2-2-2-2-2-2-2-2-2-2-2-2-2-2-2-2-2-2-2-2-2-2-2-2-2-2-2-2-2-2-2-2-2-2-2-2-2-2-2-2-2-2-2-2-2-2-2-2-2-2-2-2-2-7/
END:VEVENT
BEGIN:VEVENT
DTSTART;VALUE=DATE:20250902
DTEND;VALUE=DATE:20250903
DTSTAMP:20260422T232402
CREATED:20220608T084910Z
LAST-MODIFIED:20250702T164529Z
UID:7281-1756771200-1756857599@www.wycombefoe.org.uk
SUMMARY:Re-Use Shop 'Refresh' EVERY DAY EXCEPT Monday
DESCRIPTION:For opening times see https://www.instagram.com/refreshthemarketplace. \nRefresh Wycombe is a wonderful scrap store based in the Chiltern Shopping Centre\, right here in the heart of High Wycombe. Our aim is to encourage you to Reduce\, Reuse\, Recycle and Create. We have a huge selection of surplus and unwanted stock all donated by local businesses and individuals. You may be a crafter\, a teacher\, an artist or a maker. We have fantastic fabrics\, textiles\, haberdashery items\, cards\, papers\, foils\, and shelves full of materials just waiting for you to give it a second life and use it on your next project. We are open to everyone and located near the Primark entrance inside the Chiltern Shopping Centre. \n\nFollow us on Social Media to get all the latest news.\nFacebook – Refreshwycombe\nInstagram – @refreshwycombe\nWebsite – www.refreshwycombe.org
URL:https://www.wycombefoe.org.uk/event/scrapstore-refresh-every-saturday-2-2-2-2-3-2-2-2-2-2-2-2-2-5-2-2-2-2-2-3-2-2-2-2-2-2-2-2-2-2-2-2-2-2-2-2-2-2-2-2/
LOCATION:Chilterns Shopping Centre\, Unit 8\, Chilterns Shopping Centre\, Frogmoor\, High Wycombe\, HP13 5ES\, United Kingdom
END:VEVENT
BEGIN:VEVENT
DTSTART;TZID=Europe/London:20250903T193000
DTEND;TZID=Europe/London:20250903T210000
DTSTAMP:20260422T232402
CREATED:20170129T143413Z
LAST-MODIFIED:20250702T165404Z
UID:7283-1756927800-1756933200@www.wycombefoe.org.uk
SUMMARY:Wycombe FoE Monthly Meeting
DESCRIPTION:Format of meeting (Zoom and/or Physical location).\nAgenda will be published a few days beforehand on our Home page – www.wycombefoe.org.uk. \nNon-members please email us at wycombefoe@yahoo.co.uk for a Zoom invitation.\nWe welcome new input and faces\, so let’s hear from you. \n 
URL:https://www.wycombefoe.org.uk/event/wycombe-friends-of-the-earth-monthly-meeting-23-6-2-2-2-3-3-2-3-2-2-2-2-2-2-2-2-2-2-2-2-2-3-3-2-2-2-2-2-3-2-2-2-2-2-2-2-2-2-2-2-2-2-2-4-2-2-2-2-2-2-2-2-2-3-2-2-2-2-2-3-2-2-2-3-2-2-2-2-2-2-2-2/
END:VEVENT
BEGIN:VEVENT
DTSTART;TZID=Europe/London:20250904T100000
DTEND;TZID=Europe/London:20250904T130000
DTSTAMP:20260422T232402
CREATED:20160409T161011Z
LAST-MODIFIED:20250702T165511Z
UID:7285-1756980000-1756990800@www.wycombefoe.org.uk
SUMMARY:Chiltern Rangers Conservation MOST THURSDAYS
DESCRIPTION:Most Thursdays the Chiltern Rangers run a volunteer conservation group which is open to all.\nCome along and meet the group at Wycombe Rye Lido Car Park and keep fit while helping to take care of your local environment at woodlands. \nTools\, gloves and hot drinks are provided. Please wear stout footwear and appropriate clothing suitable for outdoors activities and the weather. If you would like to get involved then please contact them –  info@chilternrangers.co.uk \nCheck their website for details and more events. \n 
URL:https://www.wycombefoe.org.uk/event/conservation-volunteering-every-thursday-of-the-month-25-4-4-4-3-3-2-2-2-2-2-2-2-2-2-2-3-2-2-2-2-2-2-2-2-2-2-2-2-2-2-2-2-2-3-2-2-2-2-2-2-2-2-2-2-5-2-2-2-2-2-2-2-2-2-2-2-2-2-2-2-2-2-2-2-2-2-2-2-2-2-2-3/
LOCATION:Wycombe Lido Swimming pool\, The Rye \, HighWycombe\, United Kingdom
ORGANIZER;CN="Chiltern rangers":MAILTO:info@chilternrangers.co.uk
END:VEVENT
BEGIN:VEVENT
DTSTART;VALUE=DATE:20250907
DTEND;VALUE=DATE:20250908
DTSTAMP:20260422T232402
CREATED:20230615T085907Z
LAST-MODIFIED:20250705T171312Z
UID:7292-1757203200-1757289599@www.wycombefoe.org.uk
SUMMARY:UN Clean Air Day (Worldwide)
DESCRIPTION:UN Clean Air Day (Worldwide) \nThe United Nations have designated a day to raise awareness of the importance of clean air. \nThe quality of our air affects us in two ways: \nHealth impact: tiny\, invisible particles of pollution penetrate deep into our lungs\, bloodstream and bodies. These pollutants are responsible for about one-third of deaths from stroke\, chronic respiratory disease\, and lung cancer\, as well as one quarter of deaths from heart attack. Ground-level ozone\, produced from the interaction of many different pollutants in sunlight\, is also a cause of asthma and chronic respiratory illnesses. \nClimate impact: short-lived climate pollutants (SLCPs) are among those pollutants most linked with both health effects and near-term warming of the planet. They persist in the atmosphere for as little as a few days or up to a few decades\, so reducing them can have an almost immediate health and climate benefits for those living in places where levels fall. \nWorldwide\, every 7th Sept (note: UK Clean Air Day is on 3rd Thursday of June)
URL:https://www.wycombefoe.org.uk/event/un-clean-air-day-worldwide-2-2/
END:VEVENT
BEGIN:VEVENT
DTSTART;TZID=Europe/London:20250913T100000
DTEND;TZID=Europe/London:20250913T130000
DTSTAMP:20260422T232402
CREATED:20211004T140652Z
LAST-MODIFIED:20250702T165621Z
UID:7287-1757757600-1757768400@www.wycombefoe.org.uk
SUMMARY:Wycombe Repair Café
DESCRIPTION:The Wycombe Repair Café is a project run by the charity Wycombe Environment Centre. The Repair Café is located in All Saints Parish Church in the centre of High Wycombe. Bring your broken household items (mechanical\, textile or small electrical) and we may be able to repair it. Either way\, there will be no charge (except if a new part is required)\, although any donations will be very welcome. \nEvery 2nd Saturday of the month\, in High Wycombe.\n(note also that there are other Repair Cafes nearby\, eg in Flackwell Heath\, Marlow and Hazlemere)
URL:https://www.wycombefoe.org.uk/event/repair-cafe-2-2-2-2-2-2-2-2-2-2-2-2-2-2-2-2-2-2-2-2-2-3-2-3-2-2-2-2-2-2-2-2-2-2-2-2-3-2-2-2-2-2-2-2-2-2/
LOCATION:Church Street\, Church Street\, High Wycombe\, HP11 2DE\, United Kingdom
END:VEVENT
BEGIN:VEVENT
DTSTART;VALUE=DATE:20250914
DTEND;VALUE=DATE:20250915
DTSTAMP:20260422T232402
CREATED:20170129T151405Z
LAST-MODIFIED:20250802T165915Z
UID:7069-1757808000-1757894399@www.wycombefoe.org.uk
SUMMARY:Pann Mill Open day
DESCRIPTION:Opens 11am. Closes about 5pm. \nEnjoy a walk round the Rye and pay a visit to Pann Mill outdoor ‘cafe’ for cake/tea/coffee\, visit the charity stands\, or go into the mill itself to see how it works. \nIf water levels allow\, the mill will be operational and will sell flour. \nLikely eco stalls: Wycombe Friends of the Earth and High Wycombe Beekeepers. \nUsually second Sunday. Coincides with Heritage Open Days.
URL:https://www.wycombefoe.org.uk/event/pann-mill-open-day-5-2-2-2-2-2-2-2-2/
LOCATION:Pann Mill\, The Rye (nr Busy Bees nursery)\, High Wycombe\, HP11 1BJ\, United Kingdom
CATEGORIES:Uptodate for 2018
END:VEVENT
BEGIN:VEVENT
DTSTART;TZID=Europe/London:20250915T183000
DTEND;TZID=Europe/London:20250915T190000
DTSTAMP:20260422T232402
CREATED:20220608T085815Z
LAST-MODIFIED:20250723T223611Z
UID:7289-1757961000-1757962800@www.wycombefoe.org.uk
SUMMARY:'Wycombe Env Projects' Monday meetings RESTART
DESCRIPTION:Wycombe Environment Projects (WEP) is a projects group run by the charity Wycombe Environment Centre.\nWEP is not a forum for discussion\, but for action\, to cut carbon and boost biodiversity. \nThe group meets weekly for half an hour by Zoom on most Mondays at 6.30 pm.\nIf you would like to join in\, please email penelope.trustee@refreshwycombe.org \nGroup was setup 10th Feb 2021. \n 
URL:https://www.wycombefoe.org.uk/event/wycombe-environment-group-meeting-most-mondays-2-2-2-2-2-4-2-4-2-2-2-2-3-2-2-2-2-2-2-2-2-2-2-2-2-2-2-2-2-2-2-2-2/
END:VEVENT
BEGIN:VEVENT
DTSTART;VALUE=DATE:20250916
DTEND;VALUE=DATE:20250917
DTSTAMP:20260422T232402
CREATED:20160601T151917Z
LAST-MODIFIED:20250705T173838Z
UID:7297-1757980800-1758067199@www.wycombefoe.org.uk
SUMMARY:Ozone layer day
DESCRIPTION:UN international Day for the Preservation of the Ozone Layer. \nWorldwide\, every 16th September.
URL:https://www.wycombefoe.org.uk/event/ozone-layer-day-2-2-2-2-2-2-2-2-2/
CATEGORIES:Uptodate for 2017,Uptodate for 2018
END:VEVENT
BEGIN:VEVENT
DTSTART;VALUE=DATE:20250921
DTEND;VALUE=DATE:20250922
DTSTAMP:20260422T232402
CREATED:20200606T180738Z
LAST-MODIFIED:20250705T173922Z
UID:7299-1758412800-1758499199@www.wycombefoe.org.uk
SUMMARY:Zero emissions day
DESCRIPTION:The Global 24 hour Moratorium on the use of Fossil Fuels. \nWorldwide\, every 21 September
URL:https://www.wycombefoe.org.uk/event/zero-emissions-day-2-2-2-2-2/
END:VEVENT
BEGIN:VEVENT
DTSTART;VALUE=DATE:20250922
DTEND;VALUE=DATE:20250923
DTSTAMP:20260422T232402
CREATED:20160601T153314Z
LAST-MODIFIED:20250705T174020Z
UID:7301-1758499200-1758585599@www.wycombefoe.org.uk
SUMMARY:Car free day
DESCRIPTION:On 22 September people from around the world get together in the streets\, intersections\, and neighbourhood blocks to remind the world that we don’t have to accept our car-dominated society. \n(Worldwide\, every 22 September)
URL:https://www.wycombefoe.org.uk/event/car-free-day-2-2-2-2-2-2-2/
END:VEVENT
BEGIN:VEVENT
DTSTART;VALUE=DATE:20250922
DTEND;VALUE=DATE:20250929
DTSTAMP:20260422T232402
CREATED:20160601T151032Z
LAST-MODIFIED:20250808T105525Z
UID:7351-1758499200-1759103999@www.wycombefoe.org.uk
SUMMARY:Recycle week
DESCRIPTION:The aim of the week is to encourage people to think about all those items that often get forgotten about when recycling at home. And to encourage people to recycle more\, waste less and take up the challenge for sustainable living. \nFrom second\, third (or fourth) Monday in October\, to Sunday. \n 
URL:https://www.wycombefoe.org.uk/event/recycle-week-2-2-2-2-2-2-2-2-2/
END:VEVENT
END:VCALENDAR