BEGIN:VCALENDAR
VERSION:2.0
PRODID:-//Wycombe Friends of the Earth - ECPv6.15.17//NONSGML v1.0//EN
CALSCALE:GREGORIAN
METHOD:PUBLISH
X-WR-CALNAME:Wycombe Friends of the Earth
X-ORIGINAL-URL:https://www.wycombefoe.org.uk
X-WR-CALDESC:Events for Wycombe Friends of the Earth
REFRESH-INTERVAL;VALUE=DURATION:PT1H
X-Robots-Tag:noindex
X-PUBLISHED-TTL:PT1H
BEGIN:VTIMEZONE
TZID:Europe/London
BEGIN:DAYLIGHT
TZOFFSETFROM:+0000
TZOFFSETTO:+0100
TZNAME:BST
DTSTART:20140330T010000
END:DAYLIGHT
BEGIN:STANDARD
TZOFFSETFROM:+0100
TZOFFSETTO:+0000
TZNAME:GMT
DTSTART:20141026T010000
END:STANDARD
BEGIN:DAYLIGHT
TZOFFSETFROM:+0000
TZOFFSETTO:+0100
TZNAME:BST
DTSTART:20150329T010000
END:DAYLIGHT
BEGIN:STANDARD
TZOFFSETFROM:+0100
TZOFFSETTO:+0000
TZNAME:GMT
DTSTART:20151025T010000
END:STANDARD
BEGIN:DAYLIGHT
TZOFFSETFROM:+0000
TZOFFSETTO:+0100
TZNAME:BST
DTSTART:20160327T010000
END:DAYLIGHT
BEGIN:STANDARD
TZOFFSETFROM:+0100
TZOFFSETTO:+0000
TZNAME:GMT
DTSTART:20161030T010000
END:STANDARD
END:VTIMEZONE
BEGIN:VEVENT
DTSTART;VALUE=DATE:20151121
DTEND;VALUE=DATE:20151129
DTSTAMP:20260422T233621
CREATED:20151104T083020Z
LAST-MODIFIED:20151104T093705Z
UID:583-1448064000-1448755199@www.wycombefoe.org.uk
SUMMARY:Waste Reduction Week
DESCRIPTION:European Week for Waste Reduction
URL:https://www.wycombefoe.org.uk/event/waste-reduction-week/
LOCATION:A WorldWide Event
END:VEVENT
BEGIN:VEVENT
DTSTART;VALUE=DATE:20151121
DTEND;VALUE=DATE:20151122
DTSTAMP:20260422T233621
CREATED:20151104T081532Z
LAST-MODIFIED:20160409T182352Z
UID:581-1448064000-1448150399@www.wycombefoe.org.uk
SUMMARY:Fisheries Day
DESCRIPTION:Worldwide Event (every 21 November) \nWorld Fisheries day is celebrated every year throughout the world by the fisherfolk communities. Fishing communities worldwide celebrate this day through rallies\, workshops\, public meetings\, cultural programs\, dramas\, exhibition\, music show\, and demonstrations to highlight the importance of maintaining the world’s fisheries.. \nwww.gdrc.org/doyourbit/21_11-fisheries-day.html
URL:https://www.wycombefoe.org.uk/event/fisheries-day/
END:VEVENT
BEGIN:VEVENT
DTSTART;TZID=Europe/London:20151108T020000
DTEND;TZID=Europe/London:20151108T160000
DTSTAMP:20260422T233621
CREATED:20151103T150744Z
LAST-MODIFIED:20151103T150744Z
UID:525-1446948000-1446998400@www.wycombefoe.org.uk
SUMMARY:Population films and presentation
DESCRIPTION:Short Films and a Presentation about Population Growth \nThe local Population Matters group is hosting a discussion\, presentation and film about population issues worldwide. \nDavid Attenborough features in one of the videos and warns of the dangers of overpopulation. He is also a patron of Population Matters. \nThe event complements the current exhibition at the Wycombe Environment Centre ‘Sharing the Planet’. \nFree entry. Refreshments available. \nFor more information email populationmatters.highwycombe@gmail.com
URL:https://www.wycombefoe.org.uk/event/population-films-and-presentation/
LOCATION:Wycombe Environment Centre\, Chilterns Shopping Centre\,\, High Wycombe\, HP13 5ES
END:VEVENT
BEGIN:VEVENT
DTSTART;TZID=Europe/London:20151107T090000
DTEND;TZID=Europe/London:20151107T160000
DTSTAMP:20260422T233621
CREATED:20151103T151433Z
LAST-MODIFIED:20160410T164104Z
UID:527-1446886800-1446912000@www.wycombefoe.org.uk
SUMMARY:Conference 'Can Women Cool it?'
DESCRIPTION:A Wycombe Environment Centre Project. \nBe informed\, motivated and empowered to tackle climate change in and beyond your community. \nYou can just as easily be a part of the day on your computer anywhere in the world by logging in to our live feed. \nMore info and to register go to…\nwww.canwomencoolit.org.uk
URL:https://www.wycombefoe.org.uk/event/conference-can-women-cool-it/
LOCATION:Bucks New University\, High Wycombe Campus\, Queen Alexandra Road\, High Wycombe\, HP11 2JZ\, United Kingdom
END:VEVENT
BEGIN:VEVENT
DTSTART;VALUE=DATE:20151106
DTEND;VALUE=DATE:20151107
DTSTAMP:20260422T233621
CREATED:20151103T161110Z
LAST-MODIFIED:20160409T183341Z
UID:547-1446768000-1446854399@www.wycombefoe.org.uk
SUMMARY:Prevention of environmental exploitation in armed conflict
DESCRIPTION:A Worldwide Event every 6th of November.
URL:https://www.wycombefoe.org.uk/event/prevention-of-environmental-exploitation-in-armed-conflict/
END:VEVENT
BEGIN:VEVENT
DTSTART;TZID=Europe/London:20151105T100000
DTEND;TZID=Europe/London:20151105T130000
DTSTAMP:20260422T233621
CREATED:20160203T144447Z
LAST-MODIFIED:20160203T144447Z
UID:1036-1446717600-1446728400@www.wycombefoe.org.uk
SUMMARY:Conservation volunteering - EVERY Thursday of the month
DESCRIPTION:Every Thursday the Chiltern Rangers run a volunteer conservation group which is open to all. Come along and meet the group at Wycombe Rye Lido Car Park and keep fit while helping to take care of your local environment at woodlands. \nTools\, gloves and hot drinks are provided. Please wear stout footwear and appropriate clothing suitable for outdoors activities and the weather. If you would like to get involved then please contact us. \ninfo@chilternrangers.co.uk
URL:https://www.wycombefoe.org.uk/event/conservation-volunteering-every-thursday-of-the-month-8/
LOCATION:Wycombe Lido Swimming pool\, The Rye \, HighWycombe\, United Kingdom
ORGANIZER;CN="Chiltern rangers":MAILTO:info@chilternrangers.co.uk
END:VEVENT
BEGIN:VEVENT
DTSTART;TZID=Europe/London:20151104T073000
DTEND;TZID=Europe/London:20151104T213000
DTSTAMP:20260422T233621
CREATED:20151103T160110Z
LAST-MODIFIED:20151103T160307Z
UID:542-1446622200-1446672600@www.wycombefoe.org.uk
SUMMARY:Wycombe Friends of the Earth - Monthly Meeting
DESCRIPTION:Amongst other items\, this weeks meeting features a talk from Dr Kim Cheetham speaking about the possible Heath Row expansion.
URL:https://www.wycombefoe.org.uk/event/wycombe-friends-of-the-earth-monthly-meeting/
LOCATION:Friends Meeting House\, 25 London Road\, High Wycombe\, HP11 1BJ
END:VEVENT
END:VCALENDAR