BEGIN:VCALENDAR
VERSION:2.0
PRODID:-//Wycombe Friends of the Earth - ECPv6.15.17//NONSGML v1.0//EN
CALSCALE:GREGORIAN
METHOD:PUBLISH
X-ORIGINAL-URL:https://www.wycombefoe.org.uk
X-WR-CALDESC:Events for Wycombe Friends of the Earth
REFRESH-INTERVAL;VALUE=DURATION:PT1H
X-Robots-Tag:noindex
X-PUBLISHED-TTL:PT1H
BEGIN:VTIMEZONE
TZID:Europe/London
BEGIN:DAYLIGHT
TZOFFSETFROM:+0000
TZOFFSETTO:+0100
TZNAME:BST
DTSTART:20220327T010000
END:DAYLIGHT
BEGIN:STANDARD
TZOFFSETFROM:+0100
TZOFFSETTO:+0000
TZNAME:GMT
DTSTART:20221030T010000
END:STANDARD
BEGIN:DAYLIGHT
TZOFFSETFROM:+0000
TZOFFSETTO:+0100
TZNAME:BST
DTSTART:20230326T010000
END:DAYLIGHT
BEGIN:STANDARD
TZOFFSETFROM:+0100
TZOFFSETTO:+0000
TZNAME:GMT
DTSTART:20231029T010000
END:STANDARD
BEGIN:DAYLIGHT
TZOFFSETFROM:+0000
TZOFFSETTO:+0100
TZNAME:BST
DTSTART:20240331T010000
END:DAYLIGHT
BEGIN:STANDARD
TZOFFSETFROM:+0100
TZOFFSETTO:+0000
TZNAME:GMT
DTSTART:20241027T010000
END:STANDARD
END:VTIMEZONE
BEGIN:VEVENT
DTSTART;TZID=Europe/London:20230705T133000
DTEND;TZID=Europe/London:20230705T163000
DTSTAMP:20260424T003751
CREATED:20220608T084910Z
LAST-MODIFIED:20230601T092017Z
UID:5970-1688563800-1688574600@www.wycombefoe.org.uk
SUMMARY:Scrapstore 'Refresh'
DESCRIPTION:The scrap store (Refresh) is run by Wycombe Environment Centre and is located in the Chiltern Shopping Centre (Frogmoor). \n(It ‘inherited’ stock from the old scrapstore Wycombe Resource Zone\, in Cressex\, which was run by the Council)
URL:https://www.wycombefoe.org.uk/event/scrapstore-refresh-every-saturday-2-2-2-2-3-2-2-2-2-2-2-2-2-5-2/
END:VEVENT
BEGIN:VEVENT
DTSTART;TZID=Europe/London:20230705T193000
DTEND;TZID=Europe/London:20230705T210000
DTSTAMP:20260424T003751
CREATED:20170129T143413Z
LAST-MODIFIED:20230609T085211Z
UID:5950-1688585400-1688590800@www.wycombefoe.org.uk
SUMMARY:Wycombe FoE Monthly Meeting (AGM !)
DESCRIPTION:Format of meeting (Zoom and/or Physical location).\nAgenda will be published a few days beforehand on our Home page – www.wycombefoe.org.uk. \nNonmembers please email us at wycombefoe@yahoo.co.uk for a Zoom invitation.\nWe welcome new input and faces\, so lets hear from you. \n 
URL:https://www.wycombefoe.org.uk/event/wycombe-friends-of-the-earth-monthly-meeting-23-6-2-2-2-3-3-2-3-2-2-2-2-2-2-2-2-2-2-2-2-2-3-3-2-2-2-2-2-3-2-2-2-2-2-2-2-2-2-2-2-2-2-2-4-2-2-2-2-2/
END:VEVENT
BEGIN:VEVENT
DTSTART;TZID=Europe/London:20230706T100000
DTEND;TZID=Europe/London:20230706T130000
DTSTAMP:20260424T003751
CREATED:20160409T161011Z
LAST-MODIFIED:20230531T104448Z
UID:5952-1688637600-1688648400@www.wycombefoe.org.uk
SUMMARY:Chiltern Rangers Conservation
DESCRIPTION:Most Thursdays the Chiltern Rangers run a volunteer conservation group which is open to all.\nCome along and meet the group at Wycombe Rye Lido Car Park and keep fit while helping to take care of your local environment at woodlands. \nTools\, gloves and hot drinks are provided. Please wear stout footwear and appropriate clothing suitable for outdoors activities and the weather. If you would like to get involved then please contact them –  info@chilternrangers.co.uk \nMore events are on their website. \n 
URL:https://www.wycombefoe.org.uk/event/conservation-volunteering-every-thursday-of-the-month-25-4-4-4-3-3-2-2-2-2-2-2-2-2-2-2-3-2-2-2-2-2-2-2-2-2-2-2-2-2-2-2-2-2-3-2-2-2-2-2-2-2-2-2-2-5-2/
LOCATION:Wycombe Lido Swimming pool\, The Rye \, HighWycombe\, United Kingdom
ORGANIZER;CN="Chiltern rangers":MAILTO:info@chilternrangers.co.uk
END:VEVENT
BEGIN:VEVENT
DTSTART;TZID=Europe/London:20230708T100000
DTEND;TZID=Europe/London:20230708T130000
DTSTAMP:20260424T003751
CREATED:20211004T140652Z
LAST-MODIFIED:20230601T090117Z
UID:5989-1688810400-1688821200@www.wycombefoe.org.uk
SUMMARY:Wycombe Repair Café
DESCRIPTION:Wycombe Repair Café is run by volunteers and organised by Wycombe Environment community group. The Repair Café is located in All Saints Parish Church in the centre of High Wycombe. Bring your broken household items (mechanical\, textile or small electrical) and we may be able to repair it. Either way\, there will be no charge (except if a new part is required)\, although any donations will be very welcome. \nEvery 2nd Saturday of the month\, in High Wycombe.\n(note also that there are other Repair Cafes nearby\, eg in Marlow and Hazlemere)
URL:https://www.wycombefoe.org.uk/event/repair-cafe-2-2-2-2-2-2-2-2-2-2-2-2-2-2-2-2-2-2-2-2-2-3/
LOCATION:Church Street\, Church Street\, High Wycombe\, HP11 2DE\, United Kingdom
END:VEVENT
BEGIN:VEVENT
DTSTART;TZID=Europe/London:20230708T100000
DTEND;TZID=Europe/London:20230708T160000
DTSTAMP:20260424T003751
CREATED:20220608T084910Z
LAST-MODIFIED:20230531T105247Z
UID:5961-1688810400-1688832000@www.wycombefoe.org.uk
SUMMARY:Scrapstore 'Refresh'
DESCRIPTION:The scrap store (Refresh) is run by Wycombe Environment Centre and is located in the Chiltern Shopping Centre (Frogmoor). \n(It ‘inherited’ stock from the old scrapstore Wycombe Resource Zone\, in Cressex\, which was run by the Council)
URL:https://www.wycombefoe.org.uk/event/scrapstore-refresh-every-saturday-2-2-2-2-3-2-2-2-2-2-5-3/
END:VEVENT
BEGIN:VEVENT
DTSTART;TZID=Europe/London:20230709T110000
DTEND;TZID=Europe/London:20230709T170000
DTSTAMP:20260424T003751
CREATED:20170129T151310Z
LAST-MODIFIED:20230601T090718Z
UID:5998-1688900400-1688922000@www.wycombefoe.org.uk
SUMMARY:Pann Mill Open day
DESCRIPTION:Enjoy a walk round the Rye and stop in on Pann Mill for cake/tea/coffee and view the variety of stands. \nFlour made in Pann Mill is usually on sale (dependent on water levels). \nPossible environmental stalls: High Wycombe Beekeepers (sale of locally produced honey) \nUsually on second Sunday of July. \n 
URL:https://www.wycombefoe.org.uk/event/pann-mill-open-day-4-2-2-2-2-2-2/
LOCATION:Pann Mill\, The Rye (nr Busy Bees nursery)\, High Wycombe\, HP11 1BJ\, United Kingdom
END:VEVENT
BEGIN:VEVENT
DTSTART;TZID=Europe/London:20230710T183000
DTEND;TZID=Europe/London:20230710T190000
DTSTAMP:20260424T003751
CREATED:20220608T085815Z
LAST-MODIFIED:20230601T085650Z
UID:5980-1689013800-1689015600@www.wycombefoe.org.uk
SUMMARY:'Wycombe Environment' group meeting
DESCRIPTION:Wycombe Environment (WE) is part of the Environment and Climate Change sub-group of the High Wycombe Community Board – itself part of Buckinghamshire County Council. WE is not a forum for discussion\, but for action\, to cut carbon and boost biodiversity. \nOn most Mondays\, the group meets weekly for half an hour by Zoom on Mondays at 6.30 pm. If you would like to join\, please email hwcb@buckinghamshire.gov.uk\, with ‘WE’ in the subject line. \nIt was setup 10th Feb 2021. \n 
URL:https://www.wycombefoe.org.uk/event/wycombe-environment-group-meeting-most-mondays-2-2-2-2-2-4-2-2/
END:VEVENT
BEGIN:VEVENT
DTSTART;VALUE=DATE:20230711
DTEND;VALUE=DATE:20230712
DTSTAMP:20260424T003751
CREATED:20160502T175327Z
LAST-MODIFIED:20230601T090502Z
UID:5996-1689033600-1689119999@www.wycombefoe.org.uk
SUMMARY:World population day
DESCRIPTION:In 1989\, the Governing Council of the United Nations Development Programme recommended that 11 July be observed by the international community as World Population Day\, a day to focus attention on the urgency and importance of population issues.\n\nWorldwide\, every 11th July.\n\nFor events local to High Wycombe email  highwycombegroup@populationmatters.org\nFor events further afield\, see www.populationmatters.org.
URL:https://www.wycombefoe.org.uk/event/world-population-day-2-2-2-2-2-2-2/
END:VEVENT
BEGIN:VEVENT
DTSTART;TZID=Europe/London:20230712T133000
DTEND;TZID=Europe/London:20230712T163000
DTSTAMP:20260424T003751
CREATED:20220608T084910Z
LAST-MODIFIED:20230601T092042Z
UID:5971-1689168600-1689179400@www.wycombefoe.org.uk
SUMMARY:Scrapstore 'Refresh'
DESCRIPTION:The scrap store (Refresh) is run by Wycombe Environment Centre and is located in the Chiltern Shopping Centre (Frogmoor). \n(It ‘inherited’ stock from the old scrapstore Wycombe Resource Zone\, in Cressex\, which was run by the Council)
URL:https://www.wycombefoe.org.uk/event/scrapstore-refresh-every-saturday-2-2-2-2-3-2-2-2-2-2-2-2-2-5-3/
END:VEVENT
BEGIN:VEVENT
DTSTART;TZID=Europe/London:20230713T100000
DTEND;TZID=Europe/London:20230713T130000
DTSTAMP:20260424T003751
CREATED:20160409T161011Z
LAST-MODIFIED:20230531T104758Z
UID:5954-1689242400-1689253200@www.wycombefoe.org.uk
SUMMARY:Chiltern Rangers Conservation
DESCRIPTION:Most Thursdays the Chiltern Rangers run a volunteer conservation group which is open to all.\nCome along and meet the group at Wycombe Rye Lido Car Park and keep fit while helping to take care of your local environment at woodlands. \nTools\, gloves and hot drinks are provided. Please wear stout footwear and appropriate clothing suitable for outdoors activities and the weather. If you would like to get involved then please contact them –  info@chilternrangers.co.uk \nMore events are on their website. \n 
URL:https://www.wycombefoe.org.uk/event/conservation-volunteering-every-thursday-of-the-month-25-4-4-4-3-3-2-2-2-2-2-2-2-2-2-2-3-2-2-2-2-2-2-2-2-2-2-2-2-2-2-2-2-2-3-2-2-2-2-2-2-2-2-2-2-5-2-2/
LOCATION:Wycombe Lido Swimming pool\, The Rye \, HighWycombe\, United Kingdom
ORGANIZER;CN="Chiltern rangers":MAILTO:info@chilternrangers.co.uk
END:VEVENT
BEGIN:VEVENT
DTSTART;TZID=Europe/London:20230715T100000
DTEND;TZID=Europe/London:20230715T160000
DTSTAMP:20260424T003751
CREATED:20220608T084910Z
LAST-MODIFIED:20230531T105318Z
UID:5962-1689415200-1689436800@www.wycombefoe.org.uk
SUMMARY:Scrapstore 'Refresh'
DESCRIPTION:The scrap store (Refresh) is run by Wycombe Environment Centre and is located in the Chiltern Shopping Centre (Frogmoor). \n(It ‘inherited’ stock from the old scrapstore Wycombe Resource Zone\, in Cressex\, which was run by the Council)
URL:https://www.wycombefoe.org.uk/event/scrapstore-refresh-every-saturday-2-2-2-2-3-2-2-2-2-2-5-4/
END:VEVENT
BEGIN:VEVENT
DTSTART;TZID=Europe/London:20230717T183000
DTEND;TZID=Europe/London:20230717T190000
DTSTAMP:20260424T003751
CREATED:20220608T085815Z
LAST-MODIFIED:20230601T085753Z
UID:5981-1689618600-1689620400@www.wycombefoe.org.uk
SUMMARY:'Wycombe Environment' group meeting
DESCRIPTION:Wycombe Environment (WE) is part of the Environment and Climate Change sub-group of the High Wycombe Community Board – itself part of Buckinghamshire County Council. WE is not a forum for discussion\, but for action\, to cut carbon and boost biodiversity. \nOn most Mondays\, the group meets weekly for half an hour by Zoom on Mondays at 6.30 pm. If you would like to join\, please email hwcb@buckinghamshire.gov.uk\, with ‘WE’ in the subject line. \nIt was setup 10th Feb 2021. \n 
URL:https://www.wycombefoe.org.uk/event/wycombe-environment-group-meeting-most-mondays-2-2-2-2-2-4-2-4/
END:VEVENT
BEGIN:VEVENT
DTSTART;TZID=Europe/London:20230719T133000
DTEND;TZID=Europe/London:20230719T163000
DTSTAMP:20260424T003751
CREATED:20220608T084910Z
LAST-MODIFIED:20230610T205416Z
UID:6055-1689773400-1689784200@www.wycombefoe.org.uk
SUMMARY:Scrapstore 'Refresh'
DESCRIPTION:The scrap store (Refresh) is run by Wycombe Environment Centre and is located in the Chiltern Shopping Centre (Frogmoor). \n(It ‘inherited’ stock from the old scrapstore Wycombe Resource Zone\, in Cressex\, which was run by the Council)
URL:https://www.wycombefoe.org.uk/event/scrapstore-refresh-every-saturday-2-2-2-2-3-2-2-2-2-2-2-2-2-5-3-2/
END:VEVENT
BEGIN:VEVENT
DTSTART;TZID=Europe/London:20230719T133000
DTEND;TZID=Europe/London:20230719T163000
DTSTAMP:20260424T003751
CREATED:20220608T084910Z
LAST-MODIFIED:20230601T092202Z
UID:5972-1689773400-1689784200@www.wycombefoe.org.uk
SUMMARY:Scrapstore 'Refresh'
DESCRIPTION:The scrap store (Refresh) is run by Wycombe Environment Centre and is located in the Chiltern Shopping Centre (Frogmoor). \n(It ‘inherited’ stock from the old scrapstore Wycombe Resource Zone\, in Cressex\, which was run by the Council)
URL:https://www.wycombefoe.org.uk/event/scrapstore-refresh-every-saturday-2-2-2-2-3-2-2-2-2-2-2-2-2-5-4/
END:VEVENT
BEGIN:VEVENT
DTSTART;TZID=Europe/London:20230720T100000
DTEND;TZID=Europe/London:20230720T130000
DTSTAMP:20260424T003751
CREATED:20160409T161011Z
LAST-MODIFIED:20230531T104841Z
UID:5955-1689847200-1689858000@www.wycombefoe.org.uk
SUMMARY:Chiltern Rangers Conservation
DESCRIPTION:Most Thursdays the Chiltern Rangers run a volunteer conservation group which is open to all.\nCome along and meet the group at Wycombe Rye Lido Car Park and keep fit while helping to take care of your local environment at woodlands. \nTools\, gloves and hot drinks are provided. Please wear stout footwear and appropriate clothing suitable for outdoors activities and the weather. If you would like to get involved then please contact them –  info@chilternrangers.co.uk \nMore events are on their website. \n 
URL:https://www.wycombefoe.org.uk/event/conservation-volunteering-every-thursday-of-the-month-25-4-4-4-3-3-2-2-2-2-2-2-2-2-2-2-3-2-2-2-2-2-2-2-2-2-2-2-2-2-2-2-2-2-3-2-2-2-2-2-2-2-2-2-2-5-2-3/
LOCATION:Wycombe Lido Swimming pool\, The Rye \, HighWycombe\, United Kingdom
ORGANIZER;CN="Chiltern rangers":MAILTO:info@chilternrangers.co.uk
END:VEVENT
BEGIN:VEVENT
DTSTART;TZID=Europe/London:20230722T100000
DTEND;TZID=Europe/London:20230722T160000
DTSTAMP:20260424T003751
CREATED:20220608T084910Z
LAST-MODIFIED:20230531T105417Z
UID:5966-1690020000-1690041600@www.wycombefoe.org.uk
SUMMARY:Scrapstore 'Refresh'
DESCRIPTION:The scrap store (Refresh) is run by Wycombe Environment Centre and is located in the Chiltern Shopping Centre (Frogmoor). \n(It ‘inherited’ stock from the old scrapstore Wycombe Resource Zone\, in Cressex\, which was run by the Council)
URL:https://www.wycombefoe.org.uk/event/scrapstore-refresh-every-saturday-2-2-2-2-3-2-2-2-2-2-5-3-2/
END:VEVENT
BEGIN:VEVENT
DTSTART;TZID=Europe/London:20230724T183000
DTEND;TZID=Europe/London:20230724T190000
DTSTAMP:20260424T003751
CREATED:20220608T085815Z
LAST-MODIFIED:20230601T085724Z
UID:5982-1690223400-1690225200@www.wycombefoe.org.uk
SUMMARY:'Wycombe Environment' group meeting
DESCRIPTION:Wycombe Environment (WE) is part of the Environment and Climate Change sub-group of the High Wycombe Community Board – itself part of Buckinghamshire County Council. WE is not a forum for discussion\, but for action\, to cut carbon and boost biodiversity. \nOn most Mondays\, the group meets weekly for half an hour by Zoom on Mondays at 6.30 pm. If you would like to join\, please email hwcb@buckinghamshire.gov.uk\, with ‘WE’ in the subject line. \nIt was setup 10th Feb 2021. \n 
URL:https://www.wycombefoe.org.uk/event/wycombe-environment-group-meeting-most-mondays-2-2-2-2-2-4-2-3/
END:VEVENT
BEGIN:VEVENT
DTSTART;TZID=Europe/London:20230726T133000
DTEND;TZID=Europe/London:20230726T163000
DTSTAMP:20260424T003751
CREATED:20220608T084910Z
LAST-MODIFIED:20230601T092115Z
UID:5973-1690378200-1690389000@www.wycombefoe.org.uk
SUMMARY:Scrapstore 'Refresh'
DESCRIPTION:The scrap store (Refresh) is run by Wycombe Environment Centre and is located in the Chiltern Shopping Centre (Frogmoor). \n(It ‘inherited’ stock from the old scrapstore Wycombe Resource Zone\, in Cressex\, which was run by the Council)
URL:https://www.wycombefoe.org.uk/event/scrapstore-refresh-every-saturday-2-2-2-2-3-2-2-2-2-2-2-2-2-5-5/
END:VEVENT
BEGIN:VEVENT
DTSTART;TZID=Europe/London:20230727T100000
DTEND;TZID=Europe/London:20230727T130000
DTSTAMP:20260424T003751
CREATED:20160409T161011Z
LAST-MODIFIED:20230531T104914Z
UID:5956-1690452000-1690462800@www.wycombefoe.org.uk
SUMMARY:Chiltern Rangers Conservation
DESCRIPTION:Most Thursdays the Chiltern Rangers run a volunteer conservation group which is open to all.\nCome along and meet the group at Wycombe Rye Lido Car Park and keep fit while helping to take care of your local environment at woodlands. \nTools\, gloves and hot drinks are provided. Please wear stout footwear and appropriate clothing suitable for outdoors activities and the weather. If you would like to get involved then please contact them –  info@chilternrangers.co.uk \nMore events are on their website. \n 
URL:https://www.wycombefoe.org.uk/event/conservation-volunteering-every-thursday-of-the-month-25-4-4-4-3-3-2-2-2-2-2-2-2-2-2-2-3-2-2-2-2-2-2-2-2-2-2-2-2-2-2-2-2-2-3-2-2-2-2-2-2-2-2-2-2-5-2-4/
LOCATION:Wycombe Lido Swimming pool\, The Rye \, HighWycombe\, United Kingdom
ORGANIZER;CN="Chiltern rangers":MAILTO:info@chilternrangers.co.uk
END:VEVENT
BEGIN:VEVENT
DTSTART;TZID=Europe/London:20230729T100000
DTEND;TZID=Europe/London:20230729T160000
DTSTAMP:20260424T003751
CREATED:20220608T084910Z
LAST-MODIFIED:20230531T105441Z
UID:5967-1690624800-1690646400@www.wycombefoe.org.uk
SUMMARY:Scrapstore 'Refresh'
DESCRIPTION:The scrap store (Refresh) is run by Wycombe Environment Centre and is located in the Chiltern Shopping Centre (Frogmoor). \n(It ‘inherited’ stock from the old scrapstore Wycombe Resource Zone\, in Cressex\, which was run by the Council)
URL:https://www.wycombefoe.org.uk/event/scrapstore-refresh-every-saturday-2-2-2-2-3-2-2-2-2-2-5-3-3/
END:VEVENT
BEGIN:VEVENT
DTSTART;TZID=Europe/London:20230731T183000
DTEND;TZID=Europe/London:20230731T190000
DTSTAMP:20260424T003751
CREATED:20220608T085815Z
LAST-MODIFIED:20230601T085830Z
UID:5983-1690828200-1690830000@www.wycombefoe.org.uk
SUMMARY:'Wycombe Environment' group meeting
DESCRIPTION:Wycombe Environment (WE) is part of the Environment and Climate Change sub-group of the High Wycombe Community Board – itself part of Buckinghamshire County Council. WE is not a forum for discussion\, but for action\, to cut carbon and boost biodiversity. \nOn most Mondays\, the group meets weekly for half an hour by Zoom on Mondays at 6.30 pm. If you would like to join\, please email hwcb@buckinghamshire.gov.uk\, with ‘WE’ in the subject line. \nIt was setup 10th Feb 2021. \n 
URL:https://www.wycombefoe.org.uk/event/wycombe-environment-group-meeting-most-mondays-2-2-2-2-2-4-2-5/
END:VEVENT
BEGIN:VEVENT
DTSTART;VALUE=DATE:20230801
DTEND;VALUE=DATE:20230802
DTSTAMP:20260424T003751
CREATED:20170301T100115Z
LAST-MODIFIED:20230609T132459Z
UID:6034-1690848000-1690934399@www.wycombefoe.org.uk
SUMMARY:OTHER ECO GROUPS & EVENTS
DESCRIPTION:Click links below… \nList of environmental events in the Wycombe area\nThis is a more detailed listing of individual events. It is a pinned post on the Facebook page of Wycombe Env Centre. \nList of environmental organisations in the Wycombe area\nAnother way to find out re events. Click on the link to the organisation’s website and search for ‘what’s on’\, events or similar.\n \n  \n 
URL:https://www.wycombefoe.org.uk/event/note-other-local-event-listings-10-2-2-8-4-2-3-2-2-2-2-2-2-2-2-2-2-3-2-2-2-2-2-2-2-2-2-2-2-2-2-2-2-2-2-2-2-2-2-2-2-2-2-2-2-2-2-2-2-2-2-2-2-2-2-2-2-2-2-2-2-2-2-2/
END:VEVENT
BEGIN:VEVENT
DTSTART;VALUE=DATE:20230801
DTEND;VALUE=DATE:20230802
DTSTAMP:20260424T003751
CREATED:20210521T100709Z
LAST-MODIFIED:20220930T104759Z
UID:4886-1690848000-1690934399@www.wycombefoe.org.uk
SUMMARY:Wycombe Fairtrade renewal
DESCRIPTION:Expected renewal of Wycombe Fairtrade’s membership of Fairtrade Foundation.
URL:https://www.wycombefoe.org.uk/event/wycombe-fairtrade-renewal/
END:VEVENT
BEGIN:VEVENT
DTSTART;TZID=Europe/London:20230802T133000
DTEND;TZID=Europe/London:20230802T163000
DTSTAMP:20260424T003751
CREATED:20220608T084910Z
LAST-MODIFIED:20230610T205113Z
UID:6051-1690983000-1690993800@www.wycombefoe.org.uk
SUMMARY:Scrapstore 'Refresh'
DESCRIPTION:The scrap store (Refresh) is run by Wycombe Environment Centre and is located in the Chiltern Shopping Centre (Frogmoor). \n(It ‘inherited’ stock from the old scrapstore Wycombe Resource Zone\, in Cressex\, which was run by the Council)
URL:https://www.wycombefoe.org.uk/event/scrapstore-refresh-every-saturday-2-2-2-2-3-2-2-2-2-2-2-2-2-5-5-2/
END:VEVENT
BEGIN:VEVENT
DTSTART;TZID=Europe/London:20230802T193000
DTEND;TZID=Europe/London:20230802T210000
DTSTAMP:20260424T003751
CREATED:20170129T143413Z
LAST-MODIFIED:20230609T132833Z
UID:6036-1691004600-1691010000@www.wycombefoe.org.uk
SUMMARY:Wycombe FoE Monthly Meeting
DESCRIPTION:Format of meeting (Zoom and/or Physical location).\nAgenda will be published a few days beforehand on our Home page – www.wycombefoe.org.uk. \nNonmembers please email us at wycombefoe@yahoo.co.uk for a Zoom invitation.\nWe welcome new input and faces\, so lets hear from you. \n 
URL:https://www.wycombefoe.org.uk/event/wycombe-friends-of-the-earth-monthly-meeting-23-6-2-2-2-3-3-2-3-2-2-2-2-2-2-2-2-2-2-2-2-2-3-3-2-2-2-2-2-3-2-2-2-2-2-2-2-2-2-2-2-2-2-2-4-2-2-2-2-2-2/
END:VEVENT
BEGIN:VEVENT
DTSTART;TZID=Europe/London:20230803T100000
DTEND;TZID=Europe/London:20230803T130000
DTSTAMP:20260424T003751
CREATED:20160409T161011Z
LAST-MODIFIED:20230610T203807Z
UID:6039-1691056800-1691067600@www.wycombefoe.org.uk
SUMMARY:Chiltern Rangers Conservation
DESCRIPTION:Most Thursdays the Chiltern Rangers run a volunteer conservation group which is open to all.\nCome along and meet the group at Wycombe Rye Lido Car Park and keep fit while helping to take care of your local environment at woodlands. \nTools\, gloves and hot drinks are provided. Please wear stout footwear and appropriate clothing suitable for outdoors activities and the weather. If you would like to get involved then please contact them –  info@chilternrangers.co.uk \nMore events are on their website. \n 
URL:https://www.wycombefoe.org.uk/event/conservation-volunteering-every-thursday-of-the-month-25-4-4-4-3-3-2-2-2-2-2-2-2-2-2-2-3-2-2-2-2-2-2-2-2-2-2-2-2-2-2-2-2-2-3-2-2-2-2-2-2-2-2-2-2-5-2-4-2/
LOCATION:Wycombe Lido Swimming pool\, The Rye \, HighWycombe\, United Kingdom
ORGANIZER;CN="Chiltern rangers":MAILTO:info@chilternrangers.co.uk
END:VEVENT
BEGIN:VEVENT
DTSTART;TZID=Europe/London:20230805T100000
DTEND;TZID=Europe/London:20230805T160000
DTSTAMP:20260424T003751
CREATED:20220608T084910Z
LAST-MODIFIED:20230610T205635Z
UID:6056-1691229600-1691251200@www.wycombefoe.org.uk
SUMMARY:Scrapstore 'Refresh'
DESCRIPTION:The scrap store (Refresh) is run by Wycombe Environment Centre and is located in the Chiltern Shopping Centre (Frogmoor). \n(It ‘inherited’ stock from the old scrapstore Wycombe Resource Zone\, in Cressex\, which was run by the Council)
URL:https://www.wycombefoe.org.uk/event/scrapstore-refresh-every-saturday-2-2-2-2-3-2-2-2-2-2-5-3-4/
END:VEVENT
BEGIN:VEVENT
DTSTART;TZID=Europe/London:20230807T183000
DTEND;TZID=Europe/London:20230807T190000
DTSTAMP:20260424T003751
CREATED:20220608T085815Z
LAST-MODIFIED:20230823T140252Z
UID:6075-1691433000-1691434800@www.wycombefoe.org.uk
SUMMARY:'Wycombe Environment' group (NO MEETING IN AUG)
DESCRIPTION:Wycombe Environment (WE) is part of the Environment and Climate Change sub-group of the High Wycombe Community Board – itself part of Buckinghamshire County Council. WE is not a forum for discussion\, but for action\, to cut carbon and boost biodiversity. \nOn most Mondays\, the group meets weekly for half an hour by Zoom on Mondays at 6.30 pm. If you would like to join\, please email hwcb@buckinghamshire.gov.uk\, with ‘WE’ in the subject line. \nIt was setup 10th Feb 2021. \n 
URL:https://www.wycombefoe.org.uk/event/wycombe-environment-group-meeting-most-mondays-2-2-2-2-2-4-2-5-2/
END:VEVENT
BEGIN:VEVENT
DTSTART;TZID=Europe/London:20230809T133000
DTEND;TZID=Europe/London:20230809T163000
DTSTAMP:20260424T003751
CREATED:20220608T084910Z
LAST-MODIFIED:20230610T205156Z
UID:6053-1691587800-1691598600@www.wycombefoe.org.uk
SUMMARY:Scrapstore 'Refresh'
DESCRIPTION:The scrap store (Refresh) is run by Wycombe Environment Centre and is located in the Chiltern Shopping Centre (Frogmoor). \n(It ‘inherited’ stock from the old scrapstore Wycombe Resource Zone\, in Cressex\, which was run by the Council)
URL:https://www.wycombefoe.org.uk/event/scrapstore-refresh-every-saturday-2-2-2-2-3-2-2-2-2-2-2-2-2-5-4-2/
END:VEVENT
BEGIN:VEVENT
DTSTART;TZID=Europe/London:20230810T100000
DTEND;TZID=Europe/London:20230810T130000
DTSTAMP:20260424T003751
CREATED:20160409T161011Z
LAST-MODIFIED:20230610T204206Z
UID:6041-1691661600-1691672400@www.wycombefoe.org.uk
SUMMARY:Chiltern Rangers Conservation
DESCRIPTION:Most Thursdays the Chiltern Rangers run a volunteer conservation group which is open to all.\nCome along and meet the group at Wycombe Rye Lido Car Park and keep fit while helping to take care of your local environment at woodlands. \nTools\, gloves and hot drinks are provided. Please wear stout footwear and appropriate clothing suitable for outdoors activities and the weather. If you would like to get involved then please contact them –  info@chilternrangers.co.uk \nMore events are on their website. \n 
URL:https://www.wycombefoe.org.uk/event/conservation-volunteering-every-thursday-of-the-month-25-4-4-4-3-3-2-2-2-2-2-2-2-2-2-2-3-2-2-2-2-2-2-2-2-2-2-2-2-2-2-2-2-2-3-2-2-2-2-2-2-2-2-2-2-5-2-4-3/
LOCATION:Wycombe Lido Swimming pool\, The Rye \, HighWycombe\, United Kingdom
ORGANIZER;CN="Chiltern rangers":MAILTO:info@chilternrangers.co.uk
END:VEVENT
END:VCALENDAR