BEGIN:VCALENDAR
VERSION:2.0
PRODID:-//Wycombe Friends of the Earth - ECPv6.15.17//NONSGML v1.0//EN
CALSCALE:GREGORIAN
METHOD:PUBLISH
X-WR-CALNAME:Wycombe Friends of the Earth
X-ORIGINAL-URL:https://www.wycombefoe.org.uk
X-WR-CALDESC:Events for Wycombe Friends of the Earth
REFRESH-INTERVAL;VALUE=DURATION:PT1H
X-Robots-Tag:noindex
X-PUBLISHED-TTL:PT1H
BEGIN:VTIMEZONE
TZID:Europe/London
BEGIN:DAYLIGHT
TZOFFSETFROM:+0000
TZOFFSETTO:+0100
TZNAME:BST
DTSTART:20220327T010000
END:DAYLIGHT
BEGIN:STANDARD
TZOFFSETFROM:+0100
TZOFFSETTO:+0000
TZNAME:GMT
DTSTART:20221030T010000
END:STANDARD
BEGIN:DAYLIGHT
TZOFFSETFROM:+0000
TZOFFSETTO:+0100
TZNAME:BST
DTSTART:20230326T010000
END:DAYLIGHT
BEGIN:STANDARD
TZOFFSETFROM:+0100
TZOFFSETTO:+0000
TZNAME:GMT
DTSTART:20231029T010000
END:STANDARD
BEGIN:DAYLIGHT
TZOFFSETFROM:+0000
TZOFFSETTO:+0100
TZNAME:BST
DTSTART:20240331T010000
END:DAYLIGHT
BEGIN:STANDARD
TZOFFSETFROM:+0100
TZOFFSETTO:+0000
TZNAME:GMT
DTSTART:20241027T010000
END:STANDARD
END:VTIMEZONE
BEGIN:VEVENT
DTSTART;TZID=Europe/London:20230727T100000
DTEND;TZID=Europe/London:20230727T130000
DTSTAMP:20260424T002910
CREATED:20160409T161011Z
LAST-MODIFIED:20230531T104914Z
UID:5956-1690452000-1690462800@www.wycombefoe.org.uk
SUMMARY:Chiltern Rangers Conservation
DESCRIPTION:Most Thursdays the Chiltern Rangers run a volunteer conservation group which is open to all.\nCome along and meet the group at Wycombe Rye Lido Car Park and keep fit while helping to take care of your local environment at woodlands. \nTools\, gloves and hot drinks are provided. Please wear stout footwear and appropriate clothing suitable for outdoors activities and the weather. If you would like to get involved then please contact them –  info@chilternrangers.co.uk \nMore events are on their website. \n 
URL:https://www.wycombefoe.org.uk/event/conservation-volunteering-every-thursday-of-the-month-25-4-4-4-3-3-2-2-2-2-2-2-2-2-2-2-3-2-2-2-2-2-2-2-2-2-2-2-2-2-2-2-2-2-3-2-2-2-2-2-2-2-2-2-2-5-2-4/
LOCATION:Wycombe Lido Swimming pool\, The Rye \, HighWycombe\, United Kingdom
ORGANIZER;CN="Chiltern rangers":MAILTO:info@chilternrangers.co.uk
END:VEVENT
BEGIN:VEVENT
DTSTART;TZID=Europe/London:20230729T100000
DTEND;TZID=Europe/London:20230729T160000
DTSTAMP:20260424T002910
CREATED:20220608T084910Z
LAST-MODIFIED:20230531T105441Z
UID:5967-1690624800-1690646400@www.wycombefoe.org.uk
SUMMARY:Scrapstore 'Refresh'
DESCRIPTION:The scrap store (Refresh) is run by Wycombe Environment Centre and is located in the Chiltern Shopping Centre (Frogmoor). \n(It ‘inherited’ stock from the old scrapstore Wycombe Resource Zone\, in Cressex\, which was run by the Council)
URL:https://www.wycombefoe.org.uk/event/scrapstore-refresh-every-saturday-2-2-2-2-3-2-2-2-2-2-5-3-3/
END:VEVENT
BEGIN:VEVENT
DTSTART;TZID=Europe/London:20230731T183000
DTEND;TZID=Europe/London:20230731T190000
DTSTAMP:20260424T002910
CREATED:20220608T085815Z
LAST-MODIFIED:20230601T085830Z
UID:5983-1690828200-1690830000@www.wycombefoe.org.uk
SUMMARY:'Wycombe Environment' group meeting
DESCRIPTION:Wycombe Environment (WE) is part of the Environment and Climate Change sub-group of the High Wycombe Community Board – itself part of Buckinghamshire County Council. WE is not a forum for discussion\, but for action\, to cut carbon and boost biodiversity. \nOn most Mondays\, the group meets weekly for half an hour by Zoom on Mondays at 6.30 pm. If you would like to join\, please email hwcb@buckinghamshire.gov.uk\, with ‘WE’ in the subject line. \nIt was setup 10th Feb 2021. \n 
URL:https://www.wycombefoe.org.uk/event/wycombe-environment-group-meeting-most-mondays-2-2-2-2-2-4-2-5/
END:VEVENT
BEGIN:VEVENT
DTSTART;VALUE=DATE:20230801
DTEND;VALUE=DATE:20230802
DTSTAMP:20260424T002910
CREATED:20170301T100115Z
LAST-MODIFIED:20230609T132459Z
UID:6034-1690848000-1690934399@www.wycombefoe.org.uk
SUMMARY:OTHER ECO GROUPS & EVENTS
DESCRIPTION:Click links below… \nList of environmental events in the Wycombe area\nThis is a more detailed listing of individual events. It is a pinned post on the Facebook page of Wycombe Env Centre. \nList of environmental organisations in the Wycombe area\nAnother way to find out re events. Click on the link to the organisation’s website and search for ‘what’s on’\, events or similar.\n \n  \n 
URL:https://www.wycombefoe.org.uk/event/note-other-local-event-listings-10-2-2-8-4-2-3-2-2-2-2-2-2-2-2-2-2-3-2-2-2-2-2-2-2-2-2-2-2-2-2-2-2-2-2-2-2-2-2-2-2-2-2-2-2-2-2-2-2-2-2-2-2-2-2-2-2-2-2-2-2-2-2-2/
END:VEVENT
BEGIN:VEVENT
DTSTART;VALUE=DATE:20230801
DTEND;VALUE=DATE:20230802
DTSTAMP:20260424T002910
CREATED:20210521T100709Z
LAST-MODIFIED:20220930T104759Z
UID:4886-1690848000-1690934399@www.wycombefoe.org.uk
SUMMARY:Wycombe Fairtrade renewal
DESCRIPTION:Expected renewal of Wycombe Fairtrade’s membership of Fairtrade Foundation.
URL:https://www.wycombefoe.org.uk/event/wycombe-fairtrade-renewal/
END:VEVENT
BEGIN:VEVENT
DTSTART;TZID=Europe/London:20230802T133000
DTEND;TZID=Europe/London:20230802T163000
DTSTAMP:20260424T002910
CREATED:20220608T084910Z
LAST-MODIFIED:20230610T205113Z
UID:6051-1690983000-1690993800@www.wycombefoe.org.uk
SUMMARY:Scrapstore 'Refresh'
DESCRIPTION:The scrap store (Refresh) is run by Wycombe Environment Centre and is located in the Chiltern Shopping Centre (Frogmoor). \n(It ‘inherited’ stock from the old scrapstore Wycombe Resource Zone\, in Cressex\, which was run by the Council)
URL:https://www.wycombefoe.org.uk/event/scrapstore-refresh-every-saturday-2-2-2-2-3-2-2-2-2-2-2-2-2-5-5-2/
END:VEVENT
BEGIN:VEVENT
DTSTART;TZID=Europe/London:20230802T193000
DTEND;TZID=Europe/London:20230802T210000
DTSTAMP:20260424T002910
CREATED:20170129T143413Z
LAST-MODIFIED:20230609T132833Z
UID:6036-1691004600-1691010000@www.wycombefoe.org.uk
SUMMARY:Wycombe FoE Monthly Meeting
DESCRIPTION:Format of meeting (Zoom and/or Physical location).\nAgenda will be published a few days beforehand on our Home page – www.wycombefoe.org.uk. \nNonmembers please email us at wycombefoe@yahoo.co.uk for a Zoom invitation.\nWe welcome new input and faces\, so lets hear from you. \n 
URL:https://www.wycombefoe.org.uk/event/wycombe-friends-of-the-earth-monthly-meeting-23-6-2-2-2-3-3-2-3-2-2-2-2-2-2-2-2-2-2-2-2-2-3-3-2-2-2-2-2-3-2-2-2-2-2-2-2-2-2-2-2-2-2-2-4-2-2-2-2-2-2/
END:VEVENT
BEGIN:VEVENT
DTSTART;TZID=Europe/London:20230803T100000
DTEND;TZID=Europe/London:20230803T130000
DTSTAMP:20260424T002910
CREATED:20160409T161011Z
LAST-MODIFIED:20230610T203807Z
UID:6039-1691056800-1691067600@www.wycombefoe.org.uk
SUMMARY:Chiltern Rangers Conservation
DESCRIPTION:Most Thursdays the Chiltern Rangers run a volunteer conservation group which is open to all.\nCome along and meet the group at Wycombe Rye Lido Car Park and keep fit while helping to take care of your local environment at woodlands. \nTools\, gloves and hot drinks are provided. Please wear stout footwear and appropriate clothing suitable for outdoors activities and the weather. If you would like to get involved then please contact them –  info@chilternrangers.co.uk \nMore events are on their website. \n 
URL:https://www.wycombefoe.org.uk/event/conservation-volunteering-every-thursday-of-the-month-25-4-4-4-3-3-2-2-2-2-2-2-2-2-2-2-3-2-2-2-2-2-2-2-2-2-2-2-2-2-2-2-2-2-3-2-2-2-2-2-2-2-2-2-2-5-2-4-2/
LOCATION:Wycombe Lido Swimming pool\, The Rye \, HighWycombe\, United Kingdom
ORGANIZER;CN="Chiltern rangers":MAILTO:info@chilternrangers.co.uk
END:VEVENT
BEGIN:VEVENT
DTSTART;TZID=Europe/London:20230805T100000
DTEND;TZID=Europe/London:20230805T160000
DTSTAMP:20260424T002910
CREATED:20220608T084910Z
LAST-MODIFIED:20230610T205635Z
UID:6056-1691229600-1691251200@www.wycombefoe.org.uk
SUMMARY:Scrapstore 'Refresh'
DESCRIPTION:The scrap store (Refresh) is run by Wycombe Environment Centre and is located in the Chiltern Shopping Centre (Frogmoor). \n(It ‘inherited’ stock from the old scrapstore Wycombe Resource Zone\, in Cressex\, which was run by the Council)
URL:https://www.wycombefoe.org.uk/event/scrapstore-refresh-every-saturday-2-2-2-2-3-2-2-2-2-2-5-3-4/
END:VEVENT
BEGIN:VEVENT
DTSTART;TZID=Europe/London:20230807T183000
DTEND;TZID=Europe/London:20230807T190000
DTSTAMP:20260424T002910
CREATED:20220608T085815Z
LAST-MODIFIED:20230823T140252Z
UID:6075-1691433000-1691434800@www.wycombefoe.org.uk
SUMMARY:'Wycombe Environment' group (NO MEETING IN AUG)
DESCRIPTION:Wycombe Environment (WE) is part of the Environment and Climate Change sub-group of the High Wycombe Community Board – itself part of Buckinghamshire County Council. WE is not a forum for discussion\, but for action\, to cut carbon and boost biodiversity. \nOn most Mondays\, the group meets weekly for half an hour by Zoom on Mondays at 6.30 pm. If you would like to join\, please email hwcb@buckinghamshire.gov.uk\, with ‘WE’ in the subject line. \nIt was setup 10th Feb 2021. \n 
URL:https://www.wycombefoe.org.uk/event/wycombe-environment-group-meeting-most-mondays-2-2-2-2-2-4-2-5-2/
END:VEVENT
BEGIN:VEVENT
DTSTART;TZID=Europe/London:20230809T133000
DTEND;TZID=Europe/London:20230809T163000
DTSTAMP:20260424T002910
CREATED:20220608T084910Z
LAST-MODIFIED:20230610T205156Z
UID:6053-1691587800-1691598600@www.wycombefoe.org.uk
SUMMARY:Scrapstore 'Refresh'
DESCRIPTION:The scrap store (Refresh) is run by Wycombe Environment Centre and is located in the Chiltern Shopping Centre (Frogmoor). \n(It ‘inherited’ stock from the old scrapstore Wycombe Resource Zone\, in Cressex\, which was run by the Council)
URL:https://www.wycombefoe.org.uk/event/scrapstore-refresh-every-saturday-2-2-2-2-3-2-2-2-2-2-2-2-2-5-4-2/
END:VEVENT
BEGIN:VEVENT
DTSTART;TZID=Europe/London:20230810T100000
DTEND;TZID=Europe/London:20230810T130000
DTSTAMP:20260424T002910
CREATED:20160409T161011Z
LAST-MODIFIED:20230610T204206Z
UID:6041-1691661600-1691672400@www.wycombefoe.org.uk
SUMMARY:Chiltern Rangers Conservation
DESCRIPTION:Most Thursdays the Chiltern Rangers run a volunteer conservation group which is open to all.\nCome along and meet the group at Wycombe Rye Lido Car Park and keep fit while helping to take care of your local environment at woodlands. \nTools\, gloves and hot drinks are provided. Please wear stout footwear and appropriate clothing suitable for outdoors activities and the weather. If you would like to get involved then please contact them –  info@chilternrangers.co.uk \nMore events are on their website. \n 
URL:https://www.wycombefoe.org.uk/event/conservation-volunteering-every-thursday-of-the-month-25-4-4-4-3-3-2-2-2-2-2-2-2-2-2-2-3-2-2-2-2-2-2-2-2-2-2-2-2-2-2-2-2-2-3-2-2-2-2-2-2-2-2-2-2-5-2-4-3/
LOCATION:Wycombe Lido Swimming pool\, The Rye \, HighWycombe\, United Kingdom
ORGANIZER;CN="Chiltern rangers":MAILTO:info@chilternrangers.co.uk
END:VEVENT
BEGIN:VEVENT
DTSTART;TZID=Europe/London:20230812T100000
DTEND;TZID=Europe/London:20230812T130000
DTSTAMP:20260424T002910
CREATED:20211004T140652Z
LAST-MODIFIED:20230725T094036Z
UID:6072-1691834400-1691845200@www.wycombefoe.org.uk
SUMMARY:Wycombe Repair Café CANCELLED DUE TO HOLIDAYS
DESCRIPTION:Wycombe Repair Café is run by volunteers and organised by Wycombe Environment community group. The Repair Café is located in All Saints Parish Church in the centre of High Wycombe. Bring your broken household items (mechanical\, textile or small electrical) and we may be able to repair it. Either way\, there will be no charge (except if a new part is required)\, although any donations will be very welcome. \nEvery 2nd Saturday of the month\, in High Wycombe.\n(note also that there are other Repair Cafes nearby\, eg in Marlow and Hazlemere)
URL:https://www.wycombefoe.org.uk/event/repair-cafe-2-2-2-2-2-2-2-2-2-2-2-2-2-2-2-2-2-2-2-2-2-3-2/
LOCATION:Church Street\, Church Street\, High Wycombe\, HP11 2DE\, United Kingdom
END:VEVENT
BEGIN:VEVENT
DTSTART;TZID=Europe/London:20230812T100000
DTEND;TZID=Europe/London:20230812T160000
DTSTAMP:20260424T002910
CREATED:20220608T084910Z
LAST-MODIFIED:20230610T205132Z
UID:6052-1691834400-1691856000@www.wycombefoe.org.uk
SUMMARY:Scrapstore 'Refresh'
DESCRIPTION:The scrap store (Refresh) is run by Wycombe Environment Centre and is located in the Chiltern Shopping Centre (Frogmoor). \n(It ‘inherited’ stock from the old scrapstore Wycombe Resource Zone\, in Cressex\, which was run by the Council)
URL:https://www.wycombefoe.org.uk/event/scrapstore-refresh-every-saturday-2-2-2-2-3-2-2-2-2-2-5-3-2-2/
END:VEVENT
BEGIN:VEVENT
DTSTART;TZID=Europe/London:20230816T133000
DTEND;TZID=Europe/London:20230816T163000
DTSTAMP:20260424T002910
CREATED:20220608T084910Z
LAST-MODIFIED:20230610T205741Z
UID:6068-1692192600-1692203400@www.wycombefoe.org.uk
SUMMARY:Scrapstore 'Refresh'
DESCRIPTION:The scrap store (Refresh) is run by Wycombe Environment Centre and is located in the Chiltern Shopping Centre (Frogmoor). \n(It ‘inherited’ stock from the old scrapstore Wycombe Resource Zone\, in Cressex\, which was run by the Council)
URL:https://www.wycombefoe.org.uk/event/scrapstore-refresh-every-saturday-2-2-2-2-3-2-2-2-2-2-2-2-2-5-4-2-2/
END:VEVENT
BEGIN:VEVENT
DTSTART;TZID=Europe/London:20230817T100000
DTEND;TZID=Europe/London:20230817T130000
DTSTAMP:20260424T002910
CREATED:20160409T161011Z
LAST-MODIFIED:20230610T204238Z
UID:6042-1692266400-1692277200@www.wycombefoe.org.uk
SUMMARY:Chiltern Rangers Conservation
DESCRIPTION:Most Thursdays the Chiltern Rangers run a volunteer conservation group which is open to all.\nCome along and meet the group at Wycombe Rye Lido Car Park and keep fit while helping to take care of your local environment at woodlands. \nTools\, gloves and hot drinks are provided. Please wear stout footwear and appropriate clothing suitable for outdoors activities and the weather. If you would like to get involved then please contact them –  info@chilternrangers.co.uk \nMore events are on their website. \n 
URL:https://www.wycombefoe.org.uk/event/conservation-volunteering-every-thursday-of-the-month-25-4-4-4-3-3-2-2-2-2-2-2-2-2-2-2-3-2-2-2-2-2-2-2-2-2-2-2-2-2-2-2-2-2-3-2-2-2-2-2-2-2-2-2-2-5-2-4-4/
LOCATION:Wycombe Lido Swimming pool\, The Rye \, HighWycombe\, United Kingdom
ORGANIZER;CN="Chiltern rangers":MAILTO:info@chilternrangers.co.uk
END:VEVENT
BEGIN:VEVENT
DTSTART;TZID=Europe/London:20230819T100000
DTEND;TZID=Europe/London:20230819T160000
DTSTAMP:20260424T002910
CREATED:20220608T084910Z
LAST-MODIFIED:20230610T205257Z
UID:6054-1692439200-1692460800@www.wycombefoe.org.uk
SUMMARY:Scrapstore 'Refresh'
DESCRIPTION:The scrap store (Refresh) is run by Wycombe Environment Centre and is located in the Chiltern Shopping Centre (Frogmoor). \n(It ‘inherited’ stock from the old scrapstore Wycombe Resource Zone\, in Cressex\, which was run by the Council)
URL:https://www.wycombefoe.org.uk/event/scrapstore-refresh-every-saturday-2-2-2-2-3-2-2-2-2-2-5-4-2/
END:VEVENT
BEGIN:VEVENT
DTSTART;VALUE=DATE:20230820
DTEND;VALUE=DATE:20230825
DTSTAMP:20260424T002910
CREATED:20210220T170813Z
LAST-MODIFIED:20230820T114101Z
UID:5668-1692489600-1692921599@www.wycombefoe.org.uk
SUMMARY:Water week (Conference)
DESCRIPTION:World Water Week is the leading conference on global water issues\, held every year since 1991. A non-profit event\, co-created with leading organizations\, World Water Week attracts a diverse mix of participants from many professional backgrounds and every corner of the world. Developing solutions to the world’s greatest water-related challenges\, with topics ranging from food security and health to agriculture\, technology\, biodiversity\, and the climate crisis.  \nStarting in August\, 5days. Worldwide.
URL:https://www.wycombefoe.org.uk/event/water-week-2-2/
END:VEVENT
BEGIN:VEVENT
DTSTART;TZID=Europe/London:20230823T133000
DTEND;TZID=Europe/London:20230823T163000
DTSTAMP:20260424T002910
CREATED:20220608T084910Z
LAST-MODIFIED:20230610T205821Z
UID:6070-1692797400-1692808200@www.wycombefoe.org.uk
SUMMARY:Scrapstore 'Refresh'
DESCRIPTION:The scrap store (Refresh) is run by Wycombe Environment Centre and is located in the Chiltern Shopping Centre (Frogmoor). \n(It ‘inherited’ stock from the old scrapstore Wycombe Resource Zone\, in Cressex\, which was run by the Council)
URL:https://www.wycombefoe.org.uk/event/scrapstore-refresh-every-saturday-2-2-2-2-3-2-2-2-2-2-2-2-2-5-4-2-2-2/
END:VEVENT
BEGIN:VEVENT
DTSTART;TZID=Europe/London:20230824T100000
DTEND;TZID=Europe/London:20230824T130000
DTSTAMP:20260424T002910
CREATED:20160409T161011Z
LAST-MODIFIED:20230610T204258Z
UID:6043-1692871200-1692882000@www.wycombefoe.org.uk
SUMMARY:Chiltern Rangers Conservation
DESCRIPTION:Most Thursdays the Chiltern Rangers run a volunteer conservation group which is open to all.\nCome along and meet the group at Wycombe Rye Lido Car Park and keep fit while helping to take care of your local environment at woodlands. \nTools\, gloves and hot drinks are provided. Please wear stout footwear and appropriate clothing suitable for outdoors activities and the weather. If you would like to get involved then please contact them –  info@chilternrangers.co.uk \nMore events are on their website. \n 
URL:https://www.wycombefoe.org.uk/event/conservation-volunteering-every-thursday-of-the-month-25-4-4-4-3-3-2-2-2-2-2-2-2-2-2-2-3-2-2-2-2-2-2-2-2-2-2-2-2-2-2-2-2-2-3-2-2-2-2-2-2-2-2-2-2-5-2-3-2/
LOCATION:Wycombe Lido Swimming pool\, The Rye \, HighWycombe\, United Kingdom
ORGANIZER;CN="Chiltern rangers":MAILTO:info@chilternrangers.co.uk
END:VEVENT
BEGIN:VEVENT
DTSTART;TZID=Europe/London:20230826T100000
DTEND;TZID=Europe/London:20230826T160000
DTSTAMP:20260424T002910
CREATED:20220608T084910Z
LAST-MODIFIED:20230610T205459Z
UID:6058-1693044000-1693065600@www.wycombefoe.org.uk
SUMMARY:Scrapstore 'Refresh'
DESCRIPTION:The scrap store (Refresh) is run by Wycombe Environment Centre and is located in the Chiltern Shopping Centre (Frogmoor). \n(It ‘inherited’ stock from the old scrapstore Wycombe Resource Zone\, in Cressex\, which was run by the Council)
URL:https://www.wycombefoe.org.uk/event/scrapstore-refresh-every-saturday-2-2-2-2-3-2-2-2-2-2-5-2-2/
END:VEVENT
BEGIN:VEVENT
DTSTART;TZID=Europe/London:20230830T133000
DTEND;TZID=Europe/London:20230830T163000
DTSTAMP:20260424T002910
CREATED:20220608T084910Z
LAST-MODIFIED:20230725T091725Z
UID:6153-1693402200-1693413000@www.wycombefoe.org.uk
SUMMARY:Scrapstore 'Refresh'
DESCRIPTION:The scrap store (Refresh) is run by Wycombe Environment Centre and is located in the Chiltern Shopping Centre (Frogmoor). \n(It ‘inherited’ stock from the old scrapstore Wycombe Resource Zone\, in Cressex\, which was run by the Council)
URL:https://www.wycombefoe.org.uk/event/scrapstore-refresh-every-saturday-2-2-2-2-3-2-2-2-2-2-2-2-2-5-4-2-2-2-2/
END:VEVENT
BEGIN:VEVENT
DTSTART;TZID=Europe/London:20230831T080000
DTEND;TZID=Europe/London:20230831T170000
DTSTAMP:20260424T002910
CREATED:20230803T211446Z
LAST-MODIFIED:20230803T211446Z
UID:6239-1693468800-1693501200@www.wycombefoe.org.uk
SUMMARY:Climate cafe
DESCRIPTION:Climate Cafe (no web presence)\nSocial get-together in the Front Room Cafe (Castle St\, Wycombe)\nContact Toby on 7827 797340 to join their Whats App group. \nLast Thursday of the month.
URL:https://www.wycombefoe.org.uk/event/climate-cafe/
END:VEVENT
BEGIN:VEVENT
DTSTART;TZID=Europe/London:20230831T100000
DTEND;TZID=Europe/London:20230831T130000
DTSTAMP:20260424T002910
CREATED:20160409T161011Z
LAST-MODIFIED:20230610T204327Z
UID:6044-1693476000-1693486800@www.wycombefoe.org.uk
SUMMARY:Chiltern Rangers Conservation
DESCRIPTION:Most Thursdays the Chiltern Rangers run a volunteer conservation group which is open to all.\nCome along and meet the group at Wycombe Rye Lido Car Park and keep fit while helping to take care of your local environment at woodlands. \nTools\, gloves and hot drinks are provided. Please wear stout footwear and appropriate clothing suitable for outdoors activities and the weather. If you would like to get involved then please contact them –  info@chilternrangers.co.uk \nMore events are on their website. \n 
URL:https://www.wycombefoe.org.uk/event/conservation-volunteering-every-thursday-of-the-month-25-4-4-4-3-3-2-2-2-2-2-2-2-2-2-2-3-2-2-2-2-2-2-2-2-2-2-2-2-2-2-2-2-2-3-2-2-2-2-2-2-2-2-2-2-5-2-2-2/
LOCATION:Wycombe Lido Swimming pool\, The Rye \, HighWycombe\, United Kingdom
ORGANIZER;CN="Chiltern rangers":MAILTO:info@chilternrangers.co.uk
END:VEVENT
BEGIN:VEVENT
DTSTART;VALUE=DATE:20230901
DTEND;VALUE=DATE:20230902
DTSTAMP:20260424T002910
CREATED:20170301T100115Z
LAST-MODIFIED:20230714T091126Z
UID:6132-1693526400-1693612799@www.wycombefoe.org.uk
SUMMARY:OTHER ECO GROUPS & EVENTS
DESCRIPTION:Click links below… \nList of environmental events in the Wycombe area\nThis is a more detailed listing of individual events. It is a pinned post on the Facebook page of Wycombe Env Centre. \nList of environmental organisations in the Wycombe area\nAnother way to find out re events. Click on the link to the organisation’s website and search for ‘what’s on’\, events or similar.\n \n  \n 
URL:https://www.wycombefoe.org.uk/event/note-other-local-event-listings-10-2-2-8-4-2-3-2-2-2-2-2-2-2-2-2-2-3-2-2-2-2-2-2-2-2-2-2-2-2-2-2-2-2-2-2-2-2-2-2-2-2-2-2-2-2-2-2-2-2-2-2-2-2-2-2-2-2-2-2-2-2-2-2-2/
END:VEVENT
BEGIN:VEVENT
DTSTART;TZID=Europe/London:20230902T100000
DTEND;TZID=Europe/London:20230902T160000
DTSTAMP:20260424T002910
CREATED:20220608T084910Z
LAST-MODIFIED:20230726T104859Z
UID:6152-1693648800-1693670400@www.wycombefoe.org.uk
SUMMARY:Scrapstore 'Refresh' EVERY SATURDAY
DESCRIPTION:Refresh Wycombe is a wonderful scrap store based in the Chiltern Shopping Centre\, right here in the heart of High Wycombe. Their aim is to encourage you to Reduce\, Reuse\, Recycle and Create. They have a huge selection of surplus and unwanted stock all donated by local businesses and individuals. You may be a crafter\, a teacher\, an artist or a maker. They have fantastic fabrics\, textiles\, haberdashery items\, cards\, papers\, foils\, and shelves full of materials just waiting for you to give it a second life and use it on your next project. They are open to everyone\, so come and visit us every Saturday between 10am and 4pm and Wednesday between 1:30pm and 4:30pm. They are just next door to Primark inside the Chiltern Shopping Centre.\n\nPlease follow them on Social Media to get all the latest news.\nFacebook – Refreshwycombe\nInstagram – @refreshwycombe\nWebsite – www.refreshwycombe.org
URL:https://www.wycombefoe.org.uk/event/scrapstore-refresh-every-saturday-2-2-2-2-3-2-2-2-2-2-5-2-2-2/
END:VEVENT
BEGIN:VEVENT
DTSTART;TZID=Europe/London:20230904T183000
DTEND;TZID=Europe/London:20230904T190000
DTSTAMP:20260424T002910
CREATED:20220608T085815Z
LAST-MODIFIED:20230803T155500Z
UID:6161-1693852200-1693854000@www.wycombefoe.org.uk
SUMMARY:'Wycombe Environment' group (NO MEETING)
DESCRIPTION:Wycombe Environment (WE) is part of the Environment and Climate Change sub-group of the High Wycombe Community Board – itself part of Buckinghamshire County Council. WE is not a forum for discussion\, but for action\, to cut carbon and boost biodiversity. \nOn most Mondays\, the group meets weekly for half an hour by Zoom on Mondays at 6.30 pm. If you would like to join\, please email hwcb@buckinghamshire.gov.uk\, with ‘WE’ in the subject line. \nIt was setup 10th Feb 2021. \n 
URL:https://www.wycombefoe.org.uk/event/wycombe-environment-group-meeting-most-mondays-2-2-2-2-2-4-2-4-2-2/
END:VEVENT
BEGIN:VEVENT
DTSTART;TZID=Europe/London:20230906T133000
DTEND;TZID=Europe/London:20230906T163000
DTSTAMP:20260424T002910
CREATED:20220608T084910Z
LAST-MODIFIED:20230726T105030Z
UID:6057-1694007000-1694017800@www.wycombefoe.org.uk
SUMMARY:Scrapstore 'Refresh' EVERY WEDNESDAY!
DESCRIPTION:Refresh Wycombe is a wonderful scrap store based in the Chiltern Shopping Centre\, right here in the heart of High Wycombe. Our aim is to encourage you to Reduce\, Reuse\, Recycle and Create. We have a huge selection of surplus and unwanted stock all donated by local businesses and individuals. You may be a crafter\, a teacher\, an artist or a maker. We have fantastic fabrics\, textiles\, haberdashery items\, cards\, papers\, foils\, and shelves full of materials just waiting for you to give it a second life and use it on your next project. We are open to everyone\, so come and visit us every Saturday between 10am and 4pm and Wednesday between 1:30pm and 4:30pm. We’re just next door to Primark inside the Chiltern Shopping Centre.\n\nPlease follow us on Social Media to get all the latest news.\nFacebook – Refreshwycombe\nInstagram – @refreshwycombe\nWebsite – www.refreshwycombe.org
URL:https://www.wycombefoe.org.uk/event/scrapstore-refresh-every-saturday-2-2-2-2-3-2-2-2-2-2-2-2-2-5-2-2/
LOCATION:Chilterns Shopping Centre\, Unit 8\, Chilterns Shopping Centre\, Frogmoor\, High Wycombe\, HP13 5ES\, United Kingdom
END:VEVENT
BEGIN:VEVENT
DTSTART;TZID=Europe/London:20230906T193000
DTEND;TZID=Europe/London:20230906T210000
DTSTAMP:20260424T002910
CREATED:20170129T143413Z
LAST-MODIFIED:20230701T114916Z
UID:6098-1694028600-1694034000@www.wycombefoe.org.uk
SUMMARY:Wycombe FoE Monthly Meeting
DESCRIPTION:Format of meeting (Zoom and/or Physical location).\nAgenda will be published a few days beforehand on our Home page – www.wycombefoe.org.uk. \nNon-members please email us at wycombefoe@yahoo.co.uk for a Zoom invitation.\nWe welcome new input and faces\, so let’s hear from you. \n 
URL:https://www.wycombefoe.org.uk/event/wycombe-friends-of-the-earth-monthly-meeting-23-6-2-2-2-3-3-2-3-2-2-2-2-2-2-2-2-2-2-2-2-2-3-3-2-2-2-2-2-3-2-2-2-2-2-2-2-2-2-2-2-2-2-2-4-2-2-2-2-2-2-2/
END:VEVENT
BEGIN:VEVENT
DTSTART;VALUE=DATE:20230907
DTEND;VALUE=DATE:20230908
DTSTAMP:20260424T002910
CREATED:20230615T085907Z
LAST-MODIFIED:20230615T090239Z
UID:6092-1694044800-1694131199@www.wycombefoe.org.uk
SUMMARY:UN Clean Air Day (Worldwide)
DESCRIPTION:UN Clean Air Day (Worldwide) \nThe United Nations have designated a day to raise awareness of the importance of clean air.\nWorldwide\, every 7th Sept (note: UK Clean Air Day is on 3rd Thursday of June) \nThe quality of our air affects us in two ways: \nHealth impact: tiny\, invisible particles of pollution penetrate deep into our lungs\, bloodstream and bodies. These pollutants are responsible for about one-third of deaths from stroke\, chronic respiratory disease\, and lung cancer\, as well as one quarter of deaths from heart attack. Ground-level ozone\, produced from the interaction of many different pollutants in sunlight\, is also a cause of asthma and chronic respiratory illnesses. \nClimate impact: short-lived climate pollutants (SLCPs) are among those pollutants most linked with both health effects and near-term warming of the planet. They persist in the atmosphere for as little as a few days or up to a few decades\, so reducing them can have an almost immediate health and climate benefits for those living in places where levels fall.
URL:https://www.wycombefoe.org.uk/event/un-clean-air-day-worldwide/
END:VEVENT
END:VCALENDAR