BEGIN:VCALENDAR
VERSION:2.0
PRODID:-//Wycombe Friends of the Earth - ECPv6.15.17//NONSGML v1.0//EN
CALSCALE:GREGORIAN
METHOD:PUBLISH
X-WR-CALNAME:Wycombe Friends of the Earth
X-ORIGINAL-URL:https://www.wycombefoe.org.uk
X-WR-CALDESC:Events for Wycombe Friends of the Earth
REFRESH-INTERVAL;VALUE=DURATION:PT1H
X-Robots-Tag:noindex
X-PUBLISHED-TTL:PT1H
BEGIN:VTIMEZONE
TZID:Europe/London
BEGIN:DAYLIGHT
TZOFFSETFROM:+0000
TZOFFSETTO:+0100
TZNAME:BST
DTSTART:20150329T010000
END:DAYLIGHT
BEGIN:STANDARD
TZOFFSETFROM:+0100
TZOFFSETTO:+0000
TZNAME:GMT
DTSTART:20151025T010000
END:STANDARD
BEGIN:DAYLIGHT
TZOFFSETFROM:+0000
TZOFFSETTO:+0100
TZNAME:BST
DTSTART:20160327T010000
END:DAYLIGHT
BEGIN:STANDARD
TZOFFSETFROM:+0100
TZOFFSETTO:+0000
TZNAME:GMT
DTSTART:20161030T010000
END:STANDARD
BEGIN:DAYLIGHT
TZOFFSETFROM:+0000
TZOFFSETTO:+0100
TZNAME:BST
DTSTART:20170326T010000
END:DAYLIGHT
BEGIN:STANDARD
TZOFFSETFROM:+0100
TZOFFSETTO:+0000
TZNAME:GMT
DTSTART:20171029T010000
END:STANDARD
END:VTIMEZONE
BEGIN:VEVENT
DTSTART;VALUE=DATE:20160608
DTEND;VALUE=DATE:20160609
DTSTAMP:20260422T225745
CREATED:20160406T145038Z
LAST-MODIFIED:20160406T145038Z
UID:1470-1465344000-1465430399@www.wycombefoe.org.uk
SUMMARY:Oceans day
DESCRIPTION:World Oceans Day is the United Nations-recognized day of ocean celebration and action. \nWorldwide. Every 8th June.
URL:https://www.wycombefoe.org.uk/event/oceans-day/
END:VEVENT
BEGIN:VEVENT
DTSTART;VALUE=DATE:20160611
DTEND;VALUE=DATE:20160620
DTSTAMP:20260422T225745
CREATED:20160406T150318Z
LAST-MODIFIED:20160406T150853Z
UID:1471-1465603200-1466380799@www.wycombefoe.org.uk
SUMMARY:Bike week
DESCRIPTION:Bike Week is an annual opportunity to promote cycling\, and show how cycling can easily be part of everyday life by encouraging ‘everyday cycling for everyone’. Demonstrating the social\, health and environmental benefits of cycling\, the week aims to get people to give cycling a go all over the UK\, whether this be for fun\, as a means of getting around to work or school\, the local shops or just to visit friends. \nSee website for events near you. \nEvery 2nd Saturday of June. UK. \n 
URL:https://www.wycombefoe.org.uk/event/bike-week/
END:VEVENT
BEGIN:VEVENT
DTSTART;VALUE=DATE:20160617
DTEND;VALUE=DATE:20160618
DTSTAMP:20260422T225745
CREATED:20160406T151650Z
LAST-MODIFIED:20160406T151650Z
UID:1474-1466121600-1466207999@www.wycombefoe.org.uk
SUMMARY:Combating desertification day
DESCRIPTION:World day to combat desertification. \n​There is probably no greater issue than land in the post-2015 Sustainable Development Goals that touches everyone. From the food we eat\, to the clothes we wear and the houses we live – it all stems from land resources. In order to “leave no one behind” as proclaimed in the new Sustainable Development Goals\, achieving land degradation neutrality needs to be in the forefront to meet our requirements and develop sustainability. \nEvery 17th June. Worldwide.
URL:https://www.wycombefoe.org.uk/event/combating-desertification-day/
END:VEVENT
BEGIN:VEVENT
DTSTART;VALUE=DATE:20160618
DTEND;VALUE=DATE:20160619
DTSTAMP:20260422T225745
CREATED:20160505T194821Z
LAST-MODIFIED:20160505T195145Z
UID:1547-1466208000-1466294399@www.wycombefoe.org.uk
SUMMARY:Revive the Wye event at Wooburn fete
DESCRIPTION:Promotional event for Revive the Wye. \nFor more details about this event and other events\, use contact form at \nwww.revivethewye.org.uk/contact-us/ \nYou can also enquire about practical conservation sessions. \n  \n 
URL:https://www.wycombefoe.org.uk/event/revive-the-wye-event-at-wooburn-fete/
LOCATION:Unnamed Venue\, High Wycombe
END:VEVENT
BEGIN:VEVENT
DTSTART;TZID=Europe/London:20160622T200000
DTEND;TZID=Europe/London:20160622T220000
DTSTAMP:20260422T225745
CREATED:20160520T075705Z
LAST-MODIFIED:20160520T083020Z
UID:1572-1466625600-1466632800@www.wycombefoe.org.uk
SUMMARY:Low Carbon Chilterns AGM
DESCRIPTION:The Low Carbon Chilterns Cooperative (LCCC) is a company working towards increasing renewable technologies and low carbon behaviour in the community. \nThe LCCC invites you to their Annual General Meeting at the Friends Meeting House\, 25 London Road\, High Wycombe. They will be reporting on LCCC’s progress during the year and discussing the current opportunities. Refreshments provided.
URL:https://www.wycombefoe.org.uk/event/low-carbon-chilterns-agm/
LOCATION:Friends Meeting House\, 25 London Road\, High Wycombe\, HP11 1BJ
ORGANIZER;CN="Low Carbon Chilterns Cooperative":MAILTO:hello@lowcarbonchilterns.org
END:VEVENT
BEGIN:VEVENT
DTSTART;VALUE=DATE:20160701
DTEND;VALUE=DATE:20160702
DTSTAMP:20260422T225745
CREATED:20160507T183127Z
LAST-MODIFIED:20160507T183127Z
UID:1554-1467331200-1467417599@www.wycombefoe.org.uk
SUMMARY:Note - other local event listings
DESCRIPTION:Note for using this calendar. \nSome local environmental organisations list their own events. \nClick on the link to their websites below and search for ‘what’s on’ or ‘events’: \nWycombe Environment Centre \nHigh Wycombe Beekeepers \nWycombe Wildlife Group \nMarlow in Transition \nAmersham in Transition \nAnd see… \nFood shops and markets selling local produce \nUK Friends of the Earth
URL:https://www.wycombefoe.org.uk/event/note-other-local-event-listings-2/
END:VEVENT
BEGIN:VEVENT
DTSTART;TZID=Europe/London:20160706T193000
DTEND;TZID=Europe/London:20160706T213000
DTSTAMP:20260422T225745
CREATED:20160407T190509Z
LAST-MODIFIED:20160407T190509Z
UID:1490-1467833400-1467840600@www.wycombefoe.org.uk
SUMMARY:Wycombe Friends of the Earth - Monthly Meeting
DESCRIPTION:Everyone is welcome to come along for a cup of tea and chat. \nEmail us at  wycombefoe@yahoo.co.uk for more info.
URL:https://www.wycombefoe.org.uk/event/wycombe-friends-of-the-earth-monthly-meeting-8/
LOCATION:Friends Meeting House\, 25 London Road\, High Wycombe\, HP11 1BJ
END:VEVENT
BEGIN:VEVENT
DTSTART;TZID=Europe/London:20160707T100000
DTEND;TZID=Europe/London:20160707T130000
DTSTAMP:20260422T225745
CREATED:20160407T190259Z
LAST-MODIFIED:20160407T190259Z
UID:1488-1467885600-1467896400@www.wycombefoe.org.uk
SUMMARY:Conservation volunteering - EVERY Thursday of the month
DESCRIPTION:Every Thursday the Chiltern Rangers run a volunteer conservation group which is open to all. Come along and meet the group at Wycombe Rye Lido Car Park and keep fit while helping to take care of your local environment at woodlands. \nTools\, gloves and hot drinks are provided. Please wear stout footwear and appropriate clothing suitable for outdoors activities and the weather. If you would like to get involved then please contact us. \ninfo@chilternrangers.co.uk
URL:https://www.wycombefoe.org.uk/event/conservation-volunteering-every-thursday-of-the-month/
LOCATION:Wycombe Lido Swimming pool\, The Rye \, HighWycombe\, United Kingdom
ORGANIZER;CN="Chiltern rangers":MAILTO:info@chilternrangers.co.uk
END:VEVENT
BEGIN:VEVENT
DTSTART;VALUE=DATE:20160711
DTEND;VALUE=DATE:20160712
DTSTAMP:20260422T225745
CREATED:20160502T174950Z
LAST-MODIFIED:20160502T174950Z
UID:1540-1468195200-1468281599@www.wycombefoe.org.uk
SUMMARY:World population day
DESCRIPTION:In 1989\, the Governing Council of the United Nations Development Programme recommended that 11 July be observed by the international community as World Population Day\, a day to focus attention on the urgency and importance of population issues.\n\nWorldwide\, every 11th July.\n\nFor events local to High Wycombe email populationmatters.highwycombe@gmail.com\nFor events further afield see www.populationmatters.org.
URL:https://www.wycombefoe.org.uk/event/world-population-day/
END:VEVENT
BEGIN:VEVENT
DTSTART;VALUE=DATE:20160801
DTEND;VALUE=DATE:20160802
DTSTAMP:20260422T225745
CREATED:20160507T183601Z
LAST-MODIFIED:20160507T183601Z
UID:1555-1470009600-1470095999@www.wycombefoe.org.uk
SUMMARY:Note - other local event listings
DESCRIPTION:Note for using this calendar. \nSome local environmental organisations list their own events. \nClick on the link to their websites below and search for ‘what’s on’ or ‘events’: \nWycombe Environment Centre \nHigh Wycombe Beekeepers \nWycombe Wildlife Group \nMarlow in Transition \nAmersham in Transition \nAnd see… \nFood shops and markets selling local produce \nUK Friends of the Earth
URL:https://www.wycombefoe.org.uk/event/note-other-local-event-listings-3/
END:VEVENT
BEGIN:VEVENT
DTSTART;TZID=Europe/London:20160803T193000
DTEND;TZID=Europe/London:20160803T213000
DTSTAMP:20260422T225745
CREATED:20160410T133336Z
LAST-MODIFIED:20160802T105839Z
UID:1517-1470252600-1470259800@www.wycombefoe.org.uk
SUMMARY:Wycombe Friends of the Earth - Monthly Meeting
DESCRIPTION:Everyone is welcome to come along for a cup of tea and chat. \nEmail us at  wycombefoe@yahoo.co.uk for more info.
URL:https://www.wycombefoe.org.uk/event/wycombe-friends-of-the-earth-monthly-meeting-or-social/
LOCATION:Friends Meeting House\, 25 London Road\, High Wycombe\, HP11 1BJ
END:VEVENT
BEGIN:VEVENT
DTSTART;TZID=Europe/London:20160804T100000
DTEND;TZID=Europe/London:20160804T130000
DTSTAMP:20260422T225745
CREATED:20160407T190412Z
LAST-MODIFIED:20160407T190412Z
UID:1489-1470304800-1470315600@www.wycombefoe.org.uk
SUMMARY:Conservation volunteering - EVERY Thursday of the month
DESCRIPTION:Every Thursday the Chiltern Rangers run a volunteer conservation group which is open to all. Come along and meet the group at Wycombe Rye Lido Car Park and keep fit while helping to take care of your local environment at woodlands. \nTools\, gloves and hot drinks are provided. Please wear stout footwear and appropriate clothing suitable for outdoors activities and the weather. If you would like to get involved then please contact us. \ninfo@chilternrangers.co.uk
URL:https://www.wycombefoe.org.uk/event/conservation-volunteering-every-thursday-of-the-month-9/
LOCATION:Wycombe Lido Swimming pool\, The Rye \, HighWycombe\, United Kingdom
ORGANIZER;CN="Chiltern rangers":MAILTO:info@chilternrangers.co.uk
END:VEVENT
BEGIN:VEVENT
DTSTART;VALUE=DATE:20160901
DTEND;VALUE=DATE:20160902
DTSTAMP:20260422T225745
CREATED:20160507T183627Z
LAST-MODIFIED:20160826T170648Z
UID:1556-1472688000-1472774399@www.wycombefoe.org.uk
SUMMARY:Note - other local event listings
DESCRIPTION:Note for using this calendar. \nSome local environmental organisations list their own events. \nClick on the link to their websites below and search for ‘what’s on’ or ‘events’: \nWycombe Environment Centre \nHigh Wycombe Beekeepers \nWycombe Wildlife Group \nRevive the Wye \nMarlow in Transition \nAmersham in Transition \nAmersham in Transition \nChinnor and Thame Friends of the Earth \n  \nAnd see… \nFood shops and markets selling local produce \nUK Friends of the Earth
URL:https://www.wycombefoe.org.uk/event/note-other-local-event-listings-4/
END:VEVENT
BEGIN:VEVENT
DTSTART;VALUE=DATE:20160901
DTEND;VALUE=DATE:20161001
DTSTAMP:20260422T225745
CREATED:20160502T193812Z
LAST-MODIFIED:20160621T142346Z
UID:1543-1472688000-1475279999@www.wycombefoe.org.uk
SUMMARY:Superhomes open days
DESCRIPTION:Superhomes are homes which have decreased their energy usage by more than 60%. \nSome owners open their doors and provide a free tour of their home. \nTo book a slot with a local superhome go to  www.superhomes.org.uk \nThere are 2 superhomes in High Wycombe and one in Marlow.
URL:https://www.wycombefoe.org.uk/event/superhomes-open-days-2/
END:VEVENT
BEGIN:VEVENT
DTSTART;TZID=Europe/London:20160901T100000
DTEND;TZID=Europe/London:20160901T130000
DTSTAMP:20260422T225745
CREATED:20160409T160137Z
LAST-MODIFIED:20160409T160137Z
UID:1495-1472724000-1472734800@www.wycombefoe.org.uk
SUMMARY:Conservation volunteering - EVERY Thursday of the month
DESCRIPTION:Every Thursday the Chiltern Rangers run a volunteer conservation group which is open to all. Come along and meet the group at Wycombe Rye Lido Car Park and keep fit while helping to take care of your local environment at woodlands. \nTools\, gloves and hot drinks are provided. Please wear stout footwear and appropriate clothing suitable for outdoors activities and the weather. If you would like to get involved then please contact us. \ninfo@chilternrangers.co.uk
URL:https://www.wycombefoe.org.uk/event/conservation-volunteering-every-thursday-of-the-month-10/
LOCATION:Wycombe Lido Swimming pool\, The Rye \, HighWycombe\, United Kingdom
ORGANIZER;CN="Chiltern rangers":MAILTO:info@chilternrangers.co.uk
END:VEVENT
BEGIN:VEVENT
DTSTART;TZID=Europe/London:20160907T193000
DTEND;TZID=Europe/London:20160907T213000
DTSTAMP:20260422T225745
CREATED:20160410T133420Z
LAST-MODIFIED:20160410T133420Z
UID:1518-1473276600-1473283800@www.wycombefoe.org.uk
SUMMARY:Wycombe Friends of the Earth - Monthly Meeting
DESCRIPTION:Everyone is welcome to come along for a cup of tea and chat. \nEmail us at  wycombefoe@yahoo.co.uk for more info.
URL:https://www.wycombefoe.org.uk/event/wycombe-friends-of-the-earth-monthly-meeting-9/
LOCATION:Friends Meeting House\, 25 London Road\, High Wycombe\, HP11 1BJ
END:VEVENT
BEGIN:VEVENT
DTSTART;TZID=Europe/London:20160909T100000
DTEND;TZID=Europe/London:20160909T160000
DTSTAMP:20260422T225745
CREATED:20160621T140654Z
LAST-MODIFIED:20160621T140654Z
UID:1606-1473415200-1473436800@www.wycombefoe.org.uk
SUMMARY:Superhome in High Wycombe - open
DESCRIPTION:To contact this superhome go to \nhttp://www.superhomes.org.uk/113 \nand select the ‘Contact’ tab.
URL:https://www.wycombefoe.org.uk/event/superhome-in-high-wycombe-open/
END:VEVENT
BEGIN:VEVENT
DTSTART;TZID=Europe/London:20160911T110000
DTEND;TZID=Europe/London:20160911T170000
DTSTAMP:20260422T225745
CREATED:20160502T175634Z
LAST-MODIFIED:20160906T141615Z
UID:1542-1473591600-1473613200@www.wycombefoe.org.uk
SUMMARY:Pann Mill Open day
DESCRIPTION:Enjoy a walk round the Rye and stop in on Pann Mill for cake/tea/coffee and browse the stands. \nFlour made in Pann Mill is usually on sale (dependent on water levels). \nWycombe Friends of the Earth and the local beekeepers organisation often have a stall. \nEvery second Sunday in September. Coincides with the Sunday of National heritage week.
URL:https://www.wycombefoe.org.uk/event/pann-mill-open-day-2/
LOCATION:Pann Mill\, The Rye (nr Busy Bees nursery)\, High Wycombe\, HP11 1BJ\, United Kingdom
END:VEVENT
BEGIN:VEVENT
DTSTART;VALUE=DATE:20160912
DTEND;VALUE=DATE:20160919
DTSTAMP:20260422T225745
CREATED:20160601T151032Z
LAST-MODIFIED:20160601T151032Z
UID:1594-1473638400-1474243199@www.wycombefoe.org.uk
SUMMARY:Recycle week
DESCRIPTION:The aim of the week is to encourage people to think about all those items that often get forgotten about when recycling at home. And to encourage people to recycle more\, waste less and take up the challenge for sustainable living. WRAP (the organisers) will be working with Zero Waste Week (5 – 9 Sept) and Keep Britain Tidy’s Waste less\, Live more Week (19 – 25 Sept) to link activities and messages across the whole month.
URL:https://www.wycombefoe.org.uk/event/recycle-week/
ORGANIZER;CN="WRAP":MAILTO:http://www.wrap.org.uk/help/contact
END:VEVENT
BEGIN:VEVENT
DTSTART;VALUE=DATE:20160916
DTEND;VALUE=DATE:20160917
DTSTAMP:20260422T225745
CREATED:20160601T151917Z
LAST-MODIFIED:20160601T151917Z
UID:1597-1473984000-1474070399@www.wycombefoe.org.uk
SUMMARY:Ozone layer day
DESCRIPTION:UN international Day for the Preservation of the Ozone Layer. \nWorldwide\, every 16th September.
URL:https://www.wycombefoe.org.uk/event/ozone-layer-day/
END:VEVENT
BEGIN:VEVENT
DTSTART;VALUE=DATE:20160917
DTEND;VALUE=DATE:20161003
DTSTAMP:20260422T225745
CREATED:20160601T152745Z
LAST-MODIFIED:20160601T152745Z
UID:1598-1474070400-1475452799@www.wycombefoe.org.uk
SUMMARY:British food fortnight
DESCRIPTION:Held in the autumn at the same time as harvest festival\, British Food Fortnight is the biggest annual\, national celebration of British food and drink. It was established in the wake of the Foot and Mouth crisis\, in response to the fact that\, though there are numerous food initiatives\, projects and events taking place across Britain\, there was no overall flagship event to bring them to the public’s attention. \nEvents in Britain. (Starting from third Saturday in Sept\, ending after two weeks on a Sunday)
URL:https://www.wycombefoe.org.uk/event/british-food-fortnight/
ORGANIZER;CN="Love British Food":MAILTO:http://www.lovebritishfood.co.uk/
END:VEVENT
BEGIN:VEVENT
DTSTART;VALUE=DATE:20160919
DTEND;VALUE=DATE:20160926
DTSTAMP:20260422T225745
CREATED:20160802T132840Z
LAST-MODIFIED:20160802T132840Z
UID:1644-1474243200-1474847999@www.wycombefoe.org.uk
SUMMARY:Waste less live more week
DESCRIPTION:Waste less\, Live more Week brings together organisations and people from all over the country to take part in activities which are good for us and good for the environment. Waste less\, Live more is an approach to life. It’s about rethinking how we live and making changes to reduce our environmental impact whilst improving the health and happiness of ourselves and each other. \nEvery September\, in the UK
URL:https://www.wycombefoe.org.uk/event/waste-less-live-more-week/
END:VEVENT
BEGIN:VEVENT
DTSTART;VALUE=DATE:20160922
DTEND;VALUE=DATE:20160923
DTSTAMP:20260422T225745
CREATED:20160601T153314Z
LAST-MODIFIED:20160601T153314Z
UID:1600-1474502400-1474588799@www.wycombefoe.org.uk
SUMMARY:Car free day
DESCRIPTION:On 22 September people from around the world get together in the streets\, intersections\, and neighbourhood blocks to remind the world that we don’t have to accept our car-dominated society. \n(Worldwide\, every 22 September)
URL:https://www.wycombefoe.org.uk/event/car-free-day/
END:VEVENT
BEGIN:VEVENT
DTSTART;VALUE=DATE:20161001
DTEND;VALUE=DATE:20161002
DTSTAMP:20260422T225745
CREATED:20160507T183654Z
LAST-MODIFIED:20161004T101935Z
UID:1557-1475280000-1475366399@www.wycombefoe.org.uk
SUMMARY:Note - other local event listings
DESCRIPTION:Note for using this calendar. \nSome local environmental organisations list their own events. \nClick on the link to their websites below and search for ‘what’s on’ or ‘events’: \nAmersham in Transition \nChiltern Rangers \nChinnor and Thame Friends of the Earth \nHigh Wycombe Beekeepers \nMarlow in Transition \nRevive the Wye \nWycombe Environment Centre \nWycombe Wildlife Group \nAnd see… \nFood shops and markets selling local produce \nUK Friends of the Earth
URL:https://www.wycombefoe.org.uk/event/note-other-local-event-listings-5/
END:VEVENT
BEGIN:VEVENT
DTSTART;TZID=Europe/London:20161005T193000
DTEND;TZID=Europe/London:20161005T213000
DTSTAMP:20260422T225745
CREATED:20160410T133442Z
LAST-MODIFIED:20160805T090454Z
UID:1519-1475695800-1475703000@www.wycombefoe.org.uk
SUMMARY:Wycombe Friends of the Earth - Monthly Meeting (10 year anniversary)
DESCRIPTION:Everyone is welcome to come along for a cup of tea and chat. \nThis month WFoE celebrate 10 years of environmental campaigning in Wycombe District. \nEmail us at  wycombefoe@yahoo.co.uk for more info.
URL:https://www.wycombefoe.org.uk/event/wycombe-friends-of-the-earth-monthly-meeting-10/
LOCATION:Friends Meeting House\, 25 London Road\, High Wycombe\, HP11 1BJ
END:VEVENT
BEGIN:VEVENT
DTSTART;TZID=Europe/London:20161006T100000
DTEND;TZID=Europe/London:20161006T130000
DTSTAMP:20260422T225745
CREATED:20160409T160214Z
LAST-MODIFIED:20160409T160214Z
UID:1496-1475748000-1475758800@www.wycombefoe.org.uk
SUMMARY:Conservation volunteering - EVERY Thursday of the month
DESCRIPTION:Every Thursday the Chiltern Rangers run a volunteer conservation group which is open to all. Come along and meet the group at Wycombe Rye Lido Car Park and keep fit while helping to take care of your local environment at woodlands. \nTools\, gloves and hot drinks are provided. Please wear stout footwear and appropriate clothing suitable for outdoors activities and the weather. If you would like to get involved then please contact us. \ninfo@chilternrangers.co.uk
URL:https://www.wycombefoe.org.uk/event/conservation-volunteering-every-thursday-of-the-month-11/
LOCATION:Wycombe Lido Swimming pool\, The Rye \, HighWycombe\, United Kingdom
ORGANIZER;CN="Chiltern rangers":MAILTO:info@chilternrangers.co.uk
END:VEVENT
BEGIN:VEVENT
DTSTART;VALUE=DATE:20161008
DTEND;VALUE=DATE:20161017
DTSTAMP:20260422T225745
CREATED:20160826T173155Z
LAST-MODIFIED:20160826T173300Z
UID:1668-1475884800-1476662399@www.wycombefoe.org.uk
SUMMARY:Climate coalition campaign 'For the love of...'
DESCRIPTION:People all over the UK will be organising events in their local areas\, and we’d love you to be involved. \nWe’ll be seeing nature walks\, tea parties\, classic lobbies\, community energy visits and all sorts of other events to start those key conversations about climate change. All this will either involve MPs or be showcased to them\, so that politicians see\, feel and hear how much their constituents care about what we could lose to climate change. \nSo it’s time to get thinking! What can you do in your area to start that conversation with your local MP? \nSign up to let us know if you’re interested in attending or organising an event\, and for more information.
URL:https://www.wycombefoe.org.uk/event/climate-coalition-campaign-for-the-love-of-week-of-action/
END:VEVENT
BEGIN:VEVENT
DTSTART;TZID=Europe/London:20161008T103000
DTEND;TZID=Europe/London:20161008T170000
DTSTAMP:20260422T225745
CREATED:20160802T141837Z
LAST-MODIFIED:20160926T214833Z
UID:1647-1475922600-1475946000@www.wycombefoe.org.uk
SUMMARY:Population Matters AGM and Conference
DESCRIPTION:Population Matters is the leading population charity in the UK. It aims to raise awareness of population size and its impact on consumption\, climate change and resource deficiency. \nPopulation Matters Annual General Meeting and Conference 2016 – book now to secure a place. \nIt will be held at the Academy Conference Centre\, Holiday Inn Regent’s Park\, Carburton Street\, London W1W 5EE (nearest tube: Great Portland Street) on Saturday 8 October 2016. Details of the venue can be found here. Attendance is free and you are welcome to attend one or both parts of the day. For more information and if you would like to attend\, please visit www.populationmatters.org/agm-2016/. \nThe morning — with tea/coffee from 10.30am\, and then commencing at 11.00am — is the business section\, comprising corporate reporting and approvals requirements\, together with the presentation of Awards. You can choose to attend this morning session or not. \n\n\n\n\n\n\n\n\nThe afternoon session comprises presentations and discussions. It will commence with a talk from Professor Diana Coole (Birkbeck\, University of London) entitled: ‘What’s the problem with population stabilisation?’ \nFollowing questions\, there will be a presentation marking our 25th anniversary\, and some short presentations on our activities and plans. \nThis will be followed by discussion sessions\, with audience participation\, on specific topics chosen by members. \nThese will finish by 5pm\, following which those who wish to will be cordially invited to repair to the upstairs bar. \nYour local group is in High Wycombe.\nContact them on highwycombegroup@populationmatters.org.
URL:https://www.wycombefoe.org.uk/event/population-matters-agm-and-conference/
LOCATION:Holiday Inn Regent’s park\, London\, United Kingdom
ORGANIZER;CN="Population Matters":MAILTO:enquiries@populationmatters.org
END:VEVENT
BEGIN:VEVENT
DTSTART;VALUE=DATE:20161101
DTEND;VALUE=DATE:20161102
DTSTAMP:20260422T225745
CREATED:20161004T102139Z
LAST-MODIFIED:20161004T102139Z
UID:1684-1477958400-1478044799@www.wycombefoe.org.uk
SUMMARY:Note - other local event listings
DESCRIPTION:Note for using this calendar. \nSome local environmental organisations list their own events. \nClick on the link to their websites below and search for ‘what’s on’ or ‘events’: \nAmersham in Transition \nChiltern Rangers \nChinnor and Thame Friends of the Earth \nHigh Wycombe Beekeepers \nMarlow in Transition \nRevive the Wye \nWycombe Environment Centre \nWycombe Wildlife Group \nAnd see… \nFood shops and markets selling local produce \nUK Friends of the Earth
URL:https://www.wycombefoe.org.uk/event/note-other-local-event-listings-8/
END:VEVENT
BEGIN:VEVENT
DTSTART;VALUE=DATE:20161101
DTEND;VALUE=DATE:20161102
DTSTAMP:20260422T225745
CREATED:20161102T141400Z
LAST-MODIFIED:20161102T141400Z
UID:1722-1477958400-1478044799@www.wycombefoe.org.uk
SUMMARY:Vegan day
DESCRIPTION:World vegan day.
URL:https://www.wycombefoe.org.uk/event/vegan-day/
END:VEVENT
END:VCALENDAR