BEGIN:VCALENDAR
VERSION:2.0
PRODID:-//Wycombe Friends of the Earth - ECPv6.15.17//NONSGML v1.0//EN
CALSCALE:GREGORIAN
METHOD:PUBLISH
X-WR-CALNAME:Wycombe Friends of the Earth
X-ORIGINAL-URL:https://www.wycombefoe.org.uk
X-WR-CALDESC:Events for Wycombe Friends of the Earth
REFRESH-INTERVAL;VALUE=DURATION:PT1H
X-Robots-Tag:noindex
X-PUBLISHED-TTL:PT1H
BEGIN:VTIMEZONE
TZID:Europe/London
BEGIN:DAYLIGHT
TZOFFSETFROM:+0000
TZOFFSETTO:+0100
TZNAME:BST
DTSTART:20230326T010000
END:DAYLIGHT
BEGIN:STANDARD
TZOFFSETFROM:+0100
TZOFFSETTO:+0000
TZNAME:GMT
DTSTART:20231029T010000
END:STANDARD
BEGIN:DAYLIGHT
TZOFFSETFROM:+0000
TZOFFSETTO:+0100
TZNAME:BST
DTSTART:20240331T010000
END:DAYLIGHT
BEGIN:STANDARD
TZOFFSETFROM:+0100
TZOFFSETTO:+0000
TZNAME:GMT
DTSTART:20241027T010000
END:STANDARD
BEGIN:DAYLIGHT
TZOFFSETFROM:+0000
TZOFFSETTO:+0100
TZNAME:BST
DTSTART:20250330T010000
END:DAYLIGHT
BEGIN:STANDARD
TZOFFSETFROM:+0100
TZOFFSETTO:+0000
TZNAME:GMT
DTSTART:20251026T010000
END:STANDARD
BEGIN:DAYLIGHT
TZOFFSETFROM:+0000
TZOFFSETTO:+0100
TZNAME:BST
DTSTART:20260329T010000
END:DAYLIGHT
BEGIN:STANDARD
TZOFFSETFROM:+0100
TZOFFSETTO:+0000
TZNAME:GMT
DTSTART:20261025T010000
END:STANDARD
END:VTIMEZONE
BEGIN:VEVENT
DTSTART;TZID=Europe/London:20250407T183000
DTEND;TZID=Europe/London:20250407T190000
DTSTAMP:20260422T232321
CREATED:20220608T085815Z
LAST-MODIFIED:20250203T124244Z
UID:7045-1744050600-1744052400@www.wycombefoe.org.uk
SUMMARY:'Wycombe Env Projects' meeting - MOST MONDAYS
DESCRIPTION:Wycombe Environment Projects (WEP) is a projects group run by the charity Wycombe Environment Centre.\nWEP is not a forum for discussion\, but for action\, to cut carbon and boost biodiversity. \nThe group meets weekly for half an hour by Zoom on most Mondays at 6.30 pm.\nIf you would like to join in\, please email penelope.trustee@refreshwycombe.org \nGroup was setup 10th Feb 2021. \n 
URL:https://www.wycombefoe.org.uk/event/wycombe-environment-group-meeting-most-mondays-2-2-2-2-2-4-2-4-2-2-2-2-3-2-2-2-2-2-2-2-2-2-2-2-2-2-2-2/
END:VEVENT
BEGIN:VEVENT
DTSTART;TZID=Europe/London:20250403T100000
DTEND;TZID=Europe/London:20250403T130000
DTSTAMP:20260422T232321
CREATED:20160409T161011Z
LAST-MODIFIED:20250203T145545Z
UID:7049-1743674400-1743685200@www.wycombefoe.org.uk
SUMMARY:Chiltern Rangers Conservation MOST THURSDAYS
DESCRIPTION:Most Thursdays the Chiltern Rangers run a volunteer conservation group which is open to all.\nCome along and meet the group at Wycombe Rye Lido Car Park and keep fit while helping to take care of your local environment at woodlands. \nTools\, gloves and hot drinks are provided. Please wear stout footwear and appropriate clothing suitable for outdoors activities and the weather. If you would like to get involved then please contact them –  info@chilternrangers.co.uk \nCheck their website for details and more events. \n 
URL:https://www.wycombefoe.org.uk/event/conservation-volunteering-every-thursday-of-the-month-25-4-4-4-3-3-2-2-2-2-2-2-2-2-2-2-3-2-2-2-2-2-2-2-2-2-2-2-2-2-2-2-2-2-3-2-2-2-2-2-2-2-2-2-2-5-2-2-2-2-2-2-2-2-2-2-2-2-2-2-2-2-2-2-2-2-2-2-2/
LOCATION:Wycombe Lido Swimming pool\, The Rye \, HighWycombe\, United Kingdom
ORGANIZER;CN="Chiltern rangers":MAILTO:info@chilternrangers.co.uk
END:VEVENT
BEGIN:VEVENT
DTSTART;TZID=Europe/London:20250402T193000
DTEND;TZID=Europe/London:20250402T210000
DTSTAMP:20260422T232322
CREATED:20170129T143413Z
LAST-MODIFIED:20250203T124352Z
UID:7047-1743622200-1743627600@www.wycombefoe.org.uk
SUMMARY:Wycombe FoE Monthly Meeting
DESCRIPTION:Format of meeting (Zoom and/or Physical location).\nAgenda will be published a few days beforehand on our Home page – www.wycombefoe.org.uk. \nNon-members please email us at wycombefoe@yahoo.co.uk for a Zoom invitation.\nWe welcome new input and faces\, so let’s hear from you. \n 
URL:https://www.wycombefoe.org.uk/event/wycombe-friends-of-the-earth-monthly-meeting-23-6-2-2-2-3-3-2-3-2-2-2-2-2-2-2-2-2-2-2-2-2-3-3-2-2-2-2-2-3-2-2-2-2-2-2-2-2-2-2-2-2-2-2-4-2-2-2-2-2-2-2-2-2-3-2-2-2-2-2-3-2-2-2-3-2-2-2/
END:VEVENT
BEGIN:VEVENT
DTSTART;VALUE=DATE:20250401
DTEND;VALUE=DATE:20250402
DTSTAMP:20260422T232322
CREATED:20220608T084910Z
LAST-MODIFIED:20250203T124103Z
UID:7042-1743465600-1743551999@www.wycombefoe.org.uk
SUMMARY:Re-Use Shop 'Refresh' EVERY DAY EXCEPT Monday
DESCRIPTION:Open Tues-Thurs 12-4\,  Fri-Sat 10-4  &  Sun 12-4. \nRefresh Wycombe is a wonderful scrap store based in the Chiltern Shopping Centre\, right here in the heart of High Wycombe. Our aim is to encourage you to Reduce\, Reuse\, Recycle and Create. We have a huge selection of surplus and unwanted stock all donated by local businesses and individuals. You may be a crafter\, a teacher\, an artist or a maker. We have fantastic fabrics\, textiles\, haberdashery items\, cards\, papers\, foils\, and shelves full of materials just waiting for you to give it a second life and use it on your next project. We are open to everyone and located near the Primark entrance inside the Chiltern Shopping Centre. \n\n\nPlease follow us on Social Media to get all the latest news.\nFacebook – Refreshwycombe\nInstagram – @refreshwycombe\nWebsite – www.refreshwycombe.org
URL:https://www.wycombefoe.org.uk/event/scrapstore-refresh-every-saturday-2-2-2-2-3-2-2-2-2-2-2-2-2-5-2-2-2-2-2-3-2-2-2-2-2-2-2-2-2-2-2-2-2-2-2/
LOCATION:Chilterns Shopping Centre\, Unit 8\, Chilterns Shopping Centre\, Frogmoor\, High Wycombe\, HP13 5ES\, United Kingdom
END:VEVENT
BEGIN:VEVENT
DTSTART;VALUE=DATE:20250401
DTEND;VALUE=DATE:20250402
DTSTAMP:20260422T232322
CREATED:20170301T100115Z
LAST-MODIFIED:20250203T123908Z
UID:7040-1743465600-1743551999@www.wycombefoe.org.uk
SUMMARY:OTHER ECO GROUPS & EVENTS
DESCRIPTION:Click links below… \nList of environmental events in the Wycombe area\nThis is a more detailed listing of individual events. It is a pinned post on the Facebook page of Wycombe Env Centre. \nList of environmental organisations in the Wycombe area\nAnother way to find out re events. Click on the link to the organisation’s website and search for ‘what’s on’\, events or similar.\n \n  \n 
URL:https://www.wycombefoe.org.uk/event/note-other-local-event-listings-10-2-2-8-4-2-3-2-2-2-2-2-2-2-2-2-2-3-2-2-2-2-2-2-2-2-2-2-2-2-2-2-2-2-2-2-2-2-2-2-2-2-2-2-2-2-2-2-2-2-2-2-2-2-2-2-2-2-2-2-2-2-2-2-2-2-2-2-2-2-2-2-2-2-2-2-2-2-2-2-2-2-2-2/
END:VEVENT
BEGIN:VEVENT
DTSTART;TZID=Europe/London:20250322T203000
DTEND;TZID=Europe/London:20250322T213000
DTSTAMP:20260422T232322
CREATED:20161207T162630Z
LAST-MODIFIED:20250114T103917Z
UID:7017-1742675400-1742679000@www.wycombefoe.org.uk
SUMMARY:Earth Hour
DESCRIPTION:Earth Hour is an annual event where hundreds of millions of people switch off their lights for one hour (8.30-9.30pm) to show they care about our planet. Discover a new world without electricity… \nLast (or 4th) Saturday of March. Worldwide.
URL:https://www.wycombefoe.org.uk/event/earth-hour-3-2-2-2-2-2-2-2-2/
END:VEVENT
BEGIN:VEVENT
DTSTART;VALUE=DATE:20250322
DTEND;VALUE=DATE:20250323
DTSTAMP:20260422T232322
CREATED:20190108T155359Z
LAST-MODIFIED:20250114T103738Z
UID:7015-1742601600-1742687999@www.wycombefoe.org.uk
SUMMARY:Water Day
DESCRIPTION:Organised by United Nations. \nWorldwide. \nEvery 22 March.
URL:https://www.wycombefoe.org.uk/event/water-day-3-2-2-2-2-2-2/
END:VEVENT
BEGIN:VEVENT
DTSTART;VALUE=DATE:20250321
DTEND;VALUE=DATE:20250322
DTSTAMP:20260422T232322
CREATED:20161207T163025Z
LAST-MODIFIED:20250114T103655Z
UID:7013-1742515200-1742601599@www.wycombefoe.org.uk
SUMMARY:Forestry Day
DESCRIPTION:International day of forests. Organised by United Nations. \nWorldwide. \nEvery 21st March.
URL:https://www.wycombefoe.org.uk/event/forestry-day-2-2-2-2-2-2-2-2-2/
END:VEVENT
BEGIN:VEVENT
DTSTART;VALUE=DATE:20250317
DTEND;VALUE=DATE:20250324
DTSTAMP:20260422T232322
CREATED:20230303T171057Z
LAST-MODIFIED:20250201T111014Z
UID:7002-1742169600-1742774399@www.wycombefoe.org.uk
SUMMARY:Food Waste Action Week
DESCRIPTION:The campaign aims to increase citizens’ confidence in ‘using up leftovers’ by promoting a range of skills that can be easily adopted but potentially have the greatest impact on reducing food waste in the home. \nIn first half of March (or mid March)\, UK
URL:https://www.wycombefoe.org.uk/event/food-waste-action-week-2-2/
ORGANIZER;CN="WRAP":MAILTO:http://www.wrap.org.uk/help/contact
END:VEVENT
BEGIN:VEVENT
DTSTART;TZID=Europe/London:20250308T100000
DTEND;TZID=Europe/London:20250308T130000
DTSTAMP:20260422T232322
CREATED:20211004T140652Z
LAST-MODIFIED:20250114T103533Z
UID:7010-1741428000-1741438800@www.wycombefoe.org.uk
SUMMARY:Wycombe Repair Café
DESCRIPTION:The Wycombe Repair Café is a project run by the charity Wycombe Environment Centre. The Repair Café is located in All Saints Parish Church in the centre of High Wycombe. Bring your broken household items (mechanical\, textile or small electrical) and we may be able to repair it. Either way\, there will be no charge (except if a new part is required)\, although any donations will be very welcome. \nEvery 2nd Saturday of the month\, in High Wycombe.\n(note also that there are other Repair Cafes nearby\, eg in Flackwell Heath\, Marlow and Hazlemere)
URL:https://www.wycombefoe.org.uk/event/repair-cafe-2-2-2-2-2-2-2-2-2-2-2-2-2-2-2-2-2-2-2-2-2-3-2-3-2-2-2-2-2-2-2-2-2-2-2-2-3-2-2-2/
LOCATION:Church Street\, Church Street\, High Wycombe\, HP11 2DE\, United Kingdom
END:VEVENT
BEGIN:VEVENT
DTSTART;TZID=Europe/London:20250306T100000
DTEND;TZID=Europe/London:20250306T130000
DTSTAMP:20260422T232322
CREATED:20160409T161011Z
LAST-MODIFIED:20250114T103224Z
UID:7008-1741255200-1741266000@www.wycombefoe.org.uk
SUMMARY:Chiltern Rangers Conservation MOST THURSDAYS
DESCRIPTION:Most Thursdays the Chiltern Rangers run a volunteer conservation group which is open to all.\nCome along and meet the group at Wycombe Rye Lido Car Park and keep fit while helping to take care of your local environment at woodlands. \nTools\, gloves and hot drinks are provided. Please wear stout footwear and appropriate clothing suitable for outdoors activities and the weather. If you would like to get involved then please contact them –  info@chilternrangers.co.uk \nCheck their website for details and more events. \n 
URL:https://www.wycombefoe.org.uk/event/conservation-volunteering-every-thursday-of-the-month-25-4-4-4-3-3-2-2-2-2-2-2-2-2-2-2-3-2-2-2-2-2-2-2-2-2-2-2-2-2-2-2-2-2-3-2-2-2-2-2-2-2-2-2-2-5-2-2-2-2-2-2-2-2-2-2-2-2-2-2-2-2-2-2-2-2-2-2/
LOCATION:Wycombe Lido Swimming pool\, The Rye \, HighWycombe\, United Kingdom
ORGANIZER;CN="Chiltern rangers":MAILTO:info@chilternrangers.co.uk
END:VEVENT
BEGIN:VEVENT
DTSTART;TZID=Europe/London:20250305T193000
DTEND;TZID=Europe/London:20250305T210000
DTSTAMP:20260422T232322
CREATED:20170129T143413Z
LAST-MODIFIED:20250114T103116Z
UID:7006-1741203000-1741208400@www.wycombefoe.org.uk
SUMMARY:Wycombe FoE Monthly Meeting
DESCRIPTION:Format of meeting (Zoom and/or Physical location).\nAgenda will be published a few days beforehand on our Home page – www.wycombefoe.org.uk. \nNon-members please email us at wycombefoe@yahoo.co.uk for a Zoom invitation.\nWe welcome new input and faces\, so let’s hear from you. \n 
URL:https://www.wycombefoe.org.uk/event/wycombe-friends-of-the-earth-monthly-meeting-23-6-2-2-2-3-3-2-3-2-2-2-2-2-2-2-2-2-2-2-2-2-3-3-2-2-2-2-2-3-2-2-2-2-2-2-2-2-2-2-2-2-2-2-4-2-2-2-2-2-2-2-2-2-3-2-2-2-2-2-3-2-2-2-3-2-2/
END:VEVENT
BEGIN:VEVENT
DTSTART;TZID=Europe/London:20250303T183000
DTEND;TZID=Europe/London:20250303T190000
DTSTAMP:20260422T232322
CREATED:20220608T085815Z
LAST-MODIFIED:20250114T103016Z
UID:7004-1741026600-1741028400@www.wycombefoe.org.uk
SUMMARY:'Wycombe Env Projects' meeting - MOST MONDAYS
DESCRIPTION:Wycombe Environment Projects (WEP) is a projects group run by the charity Wycombe Environment Centre.\nWEP is not a forum for discussion\, but for action\, to cut carbon and boost biodiversity. \nThe group meets weekly for half an hour by Zoom on most Mondays at 6.30 pm.\nIf you would like to join in\, please email penelope.trustee@refreshwycombe.org \nGroup was setup 10th Feb 2021. \n 
URL:https://www.wycombefoe.org.uk/event/wycombe-environment-group-meeting-most-mondays-2-2-2-2-2-4-2-4-2-2-2-2-3-2-2-2-2-2-2-2-2-2-2-2-2-2-2/
END:VEVENT
BEGIN:VEVENT
DTSTART;VALUE=DATE:20250303
DTEND;VALUE=DATE:20250304
DTSTAMP:20260422T232322
CREATED:20161212T195416Z
LAST-MODIFIED:20250114T102650Z
UID:7000-1740960000-1741046399@www.wycombefoe.org.uk
SUMMARY:Wildlife day
DESCRIPTION:World wildlife day. \nIn 2013\, at its 68th session\, the United Nations General Assembly (UNGA) decided to proclaim 3 March\, the day of signature of the Convention on International Trade in Endangered Species of Wild Fauna and Flora (CITES)\, as UN World Wildlife Day to celebrate and raise awareness of the world’s wild animals and plants. The UNGA resolution also designated the CITES Secretariat as the facilitator for the global observance of this special day for wildlife on the UN calendar. \nEvery 3 March. Worldwide.
URL:https://www.wycombefoe.org.uk/event/wildlife-day-2-2-2-2-2-2-2-2/
END:VEVENT
BEGIN:VEVENT
DTSTART;VALUE=DATE:20250301
DTEND;VALUE=DATE:20250302
DTSTAMP:20260422T232322
CREATED:20220608T084910Z
LAST-MODIFIED:20250114T102529Z
UID:6998-1740787200-1740873599@www.wycombefoe.org.uk
SUMMARY:Re-Use Shop 'Refresh' EVERY DAY EXCEPT Monday
DESCRIPTION:Open Tues-Thurs 12-4\, Fri-Sat 10-4 & Sun 12-4. \nRefresh Wycombe is a wonderful scrap store based in the Chiltern Shopping Centre\, right here in the heart of High Wycombe. Our aim is to encourage you to Reduce\, Reuse\, Recycle and Create. We have a huge selection of surplus and unwanted stock all donated by local businesses and individuals. You may be a crafter\, a teacher\, an artist or a maker. We have fantastic fabrics\, textiles\, haberdashery items\, cards\, papers\, foils\, and shelves full of materials just waiting for you to give it a second life and use it on your next project. We are open to everyone and located near the Primark entrance inside the Chiltern Shopping Centre. \n\n\nPlease follow us on Social Media to get all the latest news.\nFacebook – Refreshwycombe\nInstagram – @refreshwycombe\nWebsite – www.refreshwycombe.org
URL:https://www.wycombefoe.org.uk/event/scrapstore-refresh-every-saturday-2-2-2-2-3-2-2-2-2-2-2-2-2-5-2-2-2-2-2-3-2-2-2-2-2-2-2-2-2-2-2-2-2-2/
LOCATION:Chilterns Shopping Centre\, Unit 8\, Chilterns Shopping Centre\, Frogmoor\, High Wycombe\, HP13 5ES\, United Kingdom
END:VEVENT
BEGIN:VEVENT
DTSTART;VALUE=DATE:20250301
DTEND;VALUE=DATE:20250302
DTSTAMP:20260422T232322
CREATED:20170301T100115Z
LAST-MODIFIED:20250114T102413Z
UID:6996-1740787200-1740873599@www.wycombefoe.org.uk
SUMMARY:OTHER ECO GROUPS & EVENTS
DESCRIPTION:Click links below… \nList of environmental events in the Wycombe area\nThis is a more detailed listing of individual events. It is a pinned post on the Facebook page of Wycombe Env Centre. \nList of environmental organisations in the Wycombe area\nAnother way to find out re events. Click on the link to the organisation’s website and search for ‘what’s on’\, events or similar.\n \n  \n 
URL:https://www.wycombefoe.org.uk/event/note-other-local-event-listings-10-2-2-8-4-2-3-2-2-2-2-2-2-2-2-2-2-3-2-2-2-2-2-2-2-2-2-2-2-2-2-2-2-2-2-2-2-2-2-2-2-2-2-2-2-2-2-2-2-2-2-2-2-2-2-2-2-2-2-2-2-2-2-2-2-2-2-2-2-2-2-2-2-2-2-2-2-2-2-2-2-2-2/
END:VEVENT
BEGIN:VEVENT
DTSTART;TZID=Europe/London:20250208T100000
DTEND;TZID=Europe/London:20250208T130000
DTSTAMP:20260422T232322
CREATED:20211004T140652Z
LAST-MODIFIED:20241130T194604Z
UID:6962-1739008800-1739019600@www.wycombefoe.org.uk
SUMMARY:Wycombe Repair Café
DESCRIPTION:The Wycombe Repair Café is a project run by the charity Wycombe Environment Centre. The Repair Café is located in All Saints Parish Church in the centre of High Wycombe. Bring your broken household items (mechanical\, textile or small electrical) and we may be able to repair it. Either way\, there will be no charge (except if a new part is required)\, although any donations will be very welcome. \nEvery 2nd Saturday of the month\, in High Wycombe.\n(note also that there are other Repair Cafes nearby\, eg in Flackwell Heath\, Marlow and Hazlemere)
URL:https://www.wycombefoe.org.uk/event/repair-cafe-2-2-2-2-2-2-2-2-2-2-2-2-2-2-2-2-2-2-2-2-2-3-2-3-2-2-2-2-2-2-2-2-2-2-2-2-3-2-2/
LOCATION:Church Street\, Church Street\, High Wycombe\, HP11 2DE\, United Kingdom
END:VEVENT
BEGIN:VEVENT
DTSTART;TZID=Europe/London:20250206T100000
DTEND;TZID=Europe/London:20250206T130000
DTSTAMP:20260422T232322
CREATED:20160409T161011Z
LAST-MODIFIED:20241130T193951Z
UID:6954-1738836000-1738846800@www.wycombefoe.org.uk
SUMMARY:Chiltern Rangers Conservation MOST THURSDAYS
DESCRIPTION:Most Thursdays the Chiltern Rangers run a volunteer conservation group which is open to all.\nCome along and meet the group at Wycombe Rye Lido Car Park and keep fit while helping to take care of your local environment at woodlands. \nTools\, gloves and hot drinks are provided. Please wear stout footwear and appropriate clothing suitable for outdoors activities and the weather. If you would like to get involved then please contact them –  info@chilternrangers.co.uk \nCheck their website for details and more events. \n 
URL:https://www.wycombefoe.org.uk/event/conservation-volunteering-every-thursday-of-the-month-25-4-4-4-3-3-2-2-2-2-2-2-2-2-2-2-3-2-2-2-2-2-2-2-2-2-2-2-2-2-2-2-2-2-3-2-2-2-2-2-2-2-2-2-2-5-2-2-2-2-2-2-2-2-2-2-2-2-2-2-2-2-2-2-2-2-2/
LOCATION:Wycombe Lido Swimming pool\, The Rye \, HighWycombe\, United Kingdom
ORGANIZER;CN="Chiltern rangers":MAILTO:info@chilternrangers.co.uk
END:VEVENT
BEGIN:VEVENT
DTSTART;TZID=Europe/London:20250205T193000
DTEND;TZID=Europe/London:20250205T210000
DTSTAMP:20260422T232322
CREATED:20170129T143413Z
LAST-MODIFIED:20241130T194414Z
UID:6960-1738783800-1738789200@www.wycombefoe.org.uk
SUMMARY:Wycombe FoE Monthly Meeting
DESCRIPTION:Format of meeting (Zoom and/or Physical location).\nAgenda will be published a few days beforehand on our Home page – www.wycombefoe.org.uk. \nNon-members please email us at wycombefoe@yahoo.co.uk for a Zoom invitation.\nWe welcome new input and faces\, so let’s hear from you. \n 
URL:https://www.wycombefoe.org.uk/event/wycombe-friends-of-the-earth-monthly-meeting-23-6-2-2-2-3-3-2-3-2-2-2-2-2-2-2-2-2-2-2-2-2-3-3-2-2-2-2-2-3-2-2-2-2-2-2-2-2-2-2-2-2-2-2-4-2-2-2-2-2-2-2-2-2-3-2-2-2-2-2-3-2-2-2-3-2/
END:VEVENT
BEGIN:VEVENT
DTSTART;TZID=Europe/London:20250203T183000
DTEND;TZID=Europe/London:20250203T190000
DTSTAMP:20260422T232322
CREATED:20220608T085815Z
LAST-MODIFIED:20241130T194259Z
UID:6958-1738607400-1738609200@www.wycombefoe.org.uk
SUMMARY:'Wycombe Env Projects' meeting - MOST MONDAYS
DESCRIPTION:Wycombe Environment Projects (WEP) is a projects group run by the charity Wycombe Environment Centre.\nWEP is not a forum for discussion\, but for action\, to cut carbon and boost biodiversity. \nThe group meets weekly for half an hour by Zoom on most Mondays at 6.30 pm.\nIf you would like to join in\, please email penelope.trustee@refreshwycombe.org \nGroup was setup 10th Feb 2021. \n 
URL:https://www.wycombefoe.org.uk/event/wycombe-environment-group-meeting-most-mondays-2-2-2-2-2-4-2-4-2-2-2-2-3-2-2-2-2-2-2-2-2-2-2-2-2-2/
END:VEVENT
BEGIN:VEVENT
DTSTART;VALUE=DATE:20250201
DTEND;VALUE=DATE:20250202
DTSTAMP:20260422T232322
CREATED:20220608T084910Z
LAST-MODIFIED:20250114T102024Z
UID:6956-1738368000-1738454399@www.wycombefoe.org.uk
SUMMARY:Re-Use Shop 'Refresh' EVERY DAY EXCEPT Monday
DESCRIPTION:Open Tues-Thurs 12-4\, Fri-Sat 10-4 & Sun 12-4. \nRefresh Wycombe is a wonderful scrap store based in the Chiltern Shopping Centre\, right here in the heart of High Wycombe. Our aim is to encourage you to Reduce\, Reuse\, Recycle and Create. We have a huge selection of surplus and unwanted stock all donated by local businesses and individuals. You may be a crafter\, a teacher\, an artist or a maker. We have fantastic fabrics\, textiles\, haberdashery items\, cards\, papers\, foils\, and shelves full of materials just waiting for you to give it a second life and use it on your next project. We are open to everyone and located near the Primark entrance inside the Chiltern Shopping Centre. \n\n\nPlease follow us on Social Media to get all the latest news.\nFacebook – Refreshwycombe\nInstagram – @refreshwycombe\nWebsite – www.refreshwycombe.org
URL:https://www.wycombefoe.org.uk/event/scrapstore-refresh-every-saturday-2-2-2-2-3-2-2-2-2-2-2-2-2-5-2-2-2-2-2-3-2-2-2-2-2-2-2-2-2-2-2-2-2/
LOCATION:Chilterns Shopping Centre\, Unit 8\, Chilterns Shopping Centre\, Frogmoor\, High Wycombe\, HP13 5ES\, United Kingdom
END:VEVENT
BEGIN:VEVENT
DTSTART;VALUE=DATE:20250201
DTEND;VALUE=DATE:20250202
DTSTAMP:20260422T232322
CREATED:20170301T100115Z
LAST-MODIFIED:20241130T190549Z
UID:6952-1738368000-1738454399@www.wycombefoe.org.uk
SUMMARY:OTHER ECO GROUPS & EVENTS
DESCRIPTION:Click links below… \nList of environmental events in the Wycombe area\nThis is a more detailed listing of individual events. It is a pinned post on the Facebook page of Wycombe Env Centre. \nList of environmental organisations in the Wycombe area\nAnother way to find out re events. Click on the link to the organisation’s website and search for ‘what’s on’\, events or similar.\n \n  \n 
URL:https://www.wycombefoe.org.uk/event/note-other-local-event-listings-10-2-2-8-4-2-3-2-2-2-2-2-2-2-2-2-2-3-2-2-2-2-2-2-2-2-2-2-2-2-2-2-2-2-2-2-2-2-2-2-2-2-2-2-2-2-2-2-2-2-2-2-2-2-2-2-2-2-2-2-2-2-2-2-2-2-2-2-2-2-2-2-2-2-2-2-2-2-2-2-2-2/
END:VEVENT
BEGIN:VEVENT
DTSTART;TZID=Europe/London:20250112T130000
DTEND;TZID=Europe/London:20250112T140000
DTSTAMP:20260422T232322
CREATED:20241217T202526Z
LAST-MODIFIED:20241217T202526Z
UID:6982-1736686800-1736690400@www.wycombefoe.org.uk
SUMMARY:Steve Morton memorial walk
DESCRIPTION:We will meet at 1PM by the Children’s playground on Coates Lane (see map link below) and walk around Hughenden Manor (est. walking time 1 -1.5hr). We will end the walk at the Manor Cafe – optional to stay with us for a cuppa and/snack.\nMap: https://www.google.com/…/data=!3m1!4b1!4m6!3m5…
URL:https://www.wycombefoe.org.uk/event/steve-morton-memorial-walk-2/
ORGANIZER;CN="Wycombe Friends of the Earth":MAILTO:wycombefoe@yahoo.co.uk
END:VEVENT
BEGIN:VEVENT
DTSTART;TZID=Europe/London:20250111T100000
DTEND;TZID=Europe/London:20250111T130000
DTSTAMP:20260422T232322
CREATED:20211004T140652Z
LAST-MODIFIED:20241130T111936Z
UID:6945-1736589600-1736600400@www.wycombefoe.org.uk
SUMMARY:Wycombe Repair Café
DESCRIPTION:The Wycombe Repair Café is a project run by the charity Wycombe Environment Centre. The Repair Café is located in All Saints Parish Church in the centre of High Wycombe. Bring your broken household items (mechanical\, textile or small electrical) and we may be able to repair it. Either way\, there will be no charge (except if a new part is required)\, although any donations will be very welcome. \nEvery 2nd Saturday of the month\, in High Wycombe.\n(note also that there are other Repair Cafes nearby\, eg in Flackwell Heath\, Marlow and Hazlemere)
URL:https://www.wycombefoe.org.uk/event/repair-cafe-2-2-2-2-2-2-2-2-2-2-2-2-2-2-2-2-2-2-2-2-2-3-2-3-2-2-2-2-2-2-2-2-2-2-2-2-3-2/
LOCATION:Church Street\, Church Street\, High Wycombe\, HP11 2DE\, United Kingdom
END:VEVENT
BEGIN:VEVENT
DTSTART;TZID=Europe/London:20250108T193000
DTEND;TZID=Europe/London:20250108T210000
DTSTAMP:20260422T232322
CREATED:20170129T143413Z
LAST-MODIFIED:20241002T191018Z
UID:6921-1736364600-1736370000@www.wycombefoe.org.uk
SUMMARY:Wycombe FoE Monthly Meeting
DESCRIPTION:Format of meeting (Zoom and/or Physical location).\nAgenda will be published a few days beforehand on our Home page – www.wycombefoe.org.uk. \nNon-members please email us at wycombefoe@yahoo.co.uk for a Zoom invitation.\nWe welcome new input and faces\, so let’s hear from you. \n 
URL:https://www.wycombefoe.org.uk/event/wycombe-friends-of-the-earth-monthly-meeting-23-6-2-2-2-3-3-2-3-2-2-2-2-2-2-2-2-2-2-2-2-2-3-3-2-2-2-2-2-3-2-2-2-2-2-2-2-2-2-2-2-2-2-2-4-2-2-2-2-2-2-2-2-2-3-2-2-2-2-2-3-2-2-2-3/
END:VEVENT
BEGIN:VEVENT
DTSTART;TZID=Europe/London:20250107T133000
DTEND;TZID=Europe/London:20250107T163000
DTSTAMP:20260422T232322
CREATED:20220608T084910Z
LAST-MODIFIED:20241130T111644Z
UID:6942-1736256600-1736267400@www.wycombefoe.org.uk
SUMMARY:Re-Use Shop 'Refresh' EVERY DAY EXCEPT Monday
DESCRIPTION:Open Tues-Thurs 12-4\, Fri-Sat 10-4 & Sun 12-4. \nRefresh Wycombe is a wonderful scrap store based in the Chiltern Shopping Centre\, right here in the heart of High Wycombe. Our aim is to encourage you to Reduce\, Reuse\, Recycle and Create. We have a huge selection of surplus and unwanted stock all donated by local businesses and individuals. You may be a crafter\, a teacher\, an artist or a maker. We have fantastic fabrics\, textiles\, haberdashery items\, cards\, papers\, foils\, and shelves full of materials just waiting for you to give it a second life and use it on your next project. We are open to everyone and located near the Primark entrance inside the Chiltern Shopping Centre. \n\n\nPlease follow us on Social Media to get all the latest news.\nFacebook – Refreshwycombe\nInstagram – @refreshwycombe\nWebsite – www.refreshwycombe.org
URL:https://www.wycombefoe.org.uk/event/scrapstore-refresh-every-saturday-2-2-2-2-3-2-2-2-2-2-2-2-2-5-2-2-2-2-2-3-2-2-2-2-2-2-2-2-2-2-2-2/
LOCATION:Chilterns Shopping Centre\, Unit 8\, Chilterns Shopping Centre\, Frogmoor\, High Wycombe\, HP13 5ES\, United Kingdom
END:VEVENT
BEGIN:VEVENT
DTSTART;TZID=Europe/London:20250106T183000
DTEND;TZID=Europe/London:20250106T190000
DTSTAMP:20260422T232322
CREATED:20220608T085815Z
LAST-MODIFIED:20241130T112200Z
UID:6947-1736188200-1736190000@www.wycombefoe.org.uk
SUMMARY:'Wycombe Env Projects' meeting - MOST MONDAYS
DESCRIPTION:Wycombe Environment Projects (WEP) is a projects group run by the charity Wycombe Environment Centre.\nWEP is not a forum for discussion\, but for action\, to cut carbon and boost biodiversity. \nThe group meets weekly for half an hour by Zoom on most Mondays at 6.30 pm.\nIf you would like to join in\, please email penelope.trustee@refreshwycombe.org \nGroup was setup 10th Feb 2021. \n 
URL:https://www.wycombefoe.org.uk/event/wycombe-environment-group-meeting-most-mondays-2-2-2-2-2-4-2-4-2-2-2-2-3-2-2-2-2-2-2-2-2-2-2-2-2/
END:VEVENT
BEGIN:VEVENT
DTSTART;TZID=Europe/London:20250102T100000
DTEND;TZID=Europe/London:20250102T130000
DTSTAMP:20260422T232322
CREATED:20160409T161011Z
LAST-MODIFIED:20241130T190010Z
UID:6940-1735812000-1735822800@www.wycombefoe.org.uk
SUMMARY:Chiltern Rangers Conservation MOST THURSDAYS
DESCRIPTION:Most Thursdays the Chiltern Rangers run a volunteer conservation group which is open to all.\nCome along and meet the group at Wycombe Rye Lido Car Park and keep fit while helping to take care of your local environment at woodlands. \nTools\, gloves and hot drinks are provided. Please wear stout footwear and appropriate clothing suitable for outdoors activities and the weather. If you would like to get involved then please contact them –  info@chilternrangers.co.uk \nCheck their website for details and more events. \n 
URL:https://www.wycombefoe.org.uk/event/conservation-volunteering-every-thursday-of-the-month-25-4-4-4-3-3-2-2-2-2-2-2-2-2-2-2-3-2-2-2-2-2-2-2-2-2-2-2-2-2-2-2-2-2-3-2-2-2-2-2-2-2-2-2-2-5-2-2-2-2-2-2-2-2-2-2-2-2-2-2-2-2-2-2-2-2/
LOCATION:Wycombe Lido Swimming pool\, The Rye \, HighWycombe\, United Kingdom
ORGANIZER;CN="Chiltern rangers":MAILTO:info@chilternrangers.co.uk
END:VEVENT
BEGIN:VEVENT
DTSTART;VALUE=DATE:20250101
DTEND;VALUE=DATE:20250102
DTSTAMP:20260422T232322
CREATED:20170301T100115Z
LAST-MODIFIED:20241130T111006Z
UID:6938-1735689600-1735775999@www.wycombefoe.org.uk
SUMMARY:OTHER ECO GROUPS & EVENTS
DESCRIPTION:Click links below… \nList of environmental events in the Wycombe area\nThis is a more detailed listing of individual events. It is a pinned post on the Facebook page of Wycombe Env Centre. \nList of environmental organisations in the Wycombe area\nAnother way to find out re events. Click on the link to the organisation’s website and search for ‘what’s on’\, events or similar.\n \n  \n 
URL:https://www.wycombefoe.org.uk/event/note-other-local-event-listings-10-2-2-8-4-2-3-2-2-2-2-2-2-2-2-2-2-3-2-2-2-2-2-2-2-2-2-2-2-2-2-2-2-2-2-2-2-2-2-2-2-2-2-2-2-2-2-2-2-2-2-2-2-2-2-2-2-2-2-2-2-2-2-2-2-2-2-2-2-2-2-2-2-2-2-2-2-2-2-2-2/
END:VEVENT
BEGIN:VEVENT
DTSTART;TZID=Europe/London:20241223T080000
DTEND;TZID=Europe/London:20241223T170000
DTSTAMP:20260422T232322
CREATED:20231222T155546Z
LAST-MODIFIED:20240921T142930Z
UID:6913-1734940800-1734973200@www.wycombefoe.org.uk
SUMMARY:Steve Morton remembrance day
DESCRIPTION:Steve Morton passed away on 23rd December 2022.\nHe was a committed environmentalist and hardworking WFoE coordinator. He left a large gap in the local eco community and is sorely missed.
URL:https://www.wycombefoe.org.uk/event/steve-morton-remembrance-day-2/
END:VEVENT
END:VCALENDAR