BEGIN:VCALENDAR
VERSION:2.0
PRODID:-//Wycombe Friends of the Earth - ECPv6.15.17//NONSGML v1.0//EN
CALSCALE:GREGORIAN
METHOD:PUBLISH
X-WR-CALNAME:Wycombe Friends of the Earth
X-ORIGINAL-URL:https://www.wycombefoe.org.uk
X-WR-CALDESC:Events for Wycombe Friends of the Earth
REFRESH-INTERVAL;VALUE=DURATION:PT1H
X-Robots-Tag:noindex
X-PUBLISHED-TTL:PT1H
BEGIN:VTIMEZONE
TZID:Europe/London
BEGIN:DAYLIGHT
TZOFFSETFROM:+0000
TZOFFSETTO:+0100
TZNAME:BST
DTSTART:20220327T010000
END:DAYLIGHT
BEGIN:STANDARD
TZOFFSETFROM:+0100
TZOFFSETTO:+0000
TZNAME:GMT
DTSTART:20221030T010000
END:STANDARD
BEGIN:DAYLIGHT
TZOFFSETFROM:+0000
TZOFFSETTO:+0100
TZNAME:BST
DTSTART:20230326T010000
END:DAYLIGHT
BEGIN:STANDARD
TZOFFSETFROM:+0100
TZOFFSETTO:+0000
TZNAME:GMT
DTSTART:20231029T010000
END:STANDARD
BEGIN:DAYLIGHT
TZOFFSETFROM:+0000
TZOFFSETTO:+0100
TZNAME:BST
DTSTART:20240331T010000
END:DAYLIGHT
BEGIN:STANDARD
TZOFFSETFROM:+0100
TZOFFSETTO:+0000
TZNAME:GMT
DTSTART:20241027T010000
END:STANDARD
END:VTIMEZONE
BEGIN:VEVENT
DTSTART;TZID=Europe/London:20230626T183000
DTEND;TZID=Europe/London:20230626T190000
DTSTAMP:20260424T004857
CREATED:20220608T085815Z
LAST-MODIFIED:20230406T173520Z
UID:5845-1687804200-1687806000@www.wycombefoe.org.uk
SUMMARY:'Wycombe Environment' group meeting
DESCRIPTION:Wycombe Environment (WE) is part of the Environment and Climate Change sub-group of the High Wycombe Community Board – itself part of Buckinghamshire County Council. WE is not a forum for discussion\, but for action\, to cut carbon and boost biodiversity. \nOn most Mondays\, the group meets weekly for half an hour by Zoom on Mondays at 6.30 pm. If you would like to join\, please email hwcb@buckinghamshire.gov.uk\, with ‘WE’ in the subject line. \nIt was setup 10th Feb 2021. \n 
URL:https://www.wycombefoe.org.uk/event/wycombe-environment-group-meeting-most-mondays-2-2-2-2-2-4/
END:VEVENT
BEGIN:VEVENT
DTSTART;TZID=Europe/London:20230624T100000
DTEND;TZID=Europe/London:20230624T160000
DTSTAMP:20260424T004857
CREATED:20220608T084910Z
LAST-MODIFIED:20230406T172915Z
UID:5870-1687600800-1687622400@www.wycombefoe.org.uk
SUMMARY:Scrapstore 'Refresh'
DESCRIPTION:The scrap store (Refresh) is run by Wycombe Environment Centre and is located in the Chiltern Shopping Centre (Frogmoor). \n(It ‘inherited’ stock from the old scrapstore Wycombe Resource Zone\, in Cressex\, which was run by the Council)
URL:https://www.wycombefoe.org.uk/event/scrapstore-refresh-every-saturday-2-2-2-2-3-2-2-2-2-2-5/
END:VEVENT
BEGIN:VEVENT
DTSTART;TZID=Europe/London:20230624T000000
DTEND;TZID=Europe/London:20230702T235900
DTSTAMP:20260424T004857
CREATED:20210220T170120Z
LAST-MODIFIED:20230601T102238Z
UID:5839-1687564800-1688342340@www.wycombefoe.org.uk
SUMMARY:London Climate Action Week
DESCRIPTION:London Climate Action Week (LCAW) is an annual event bringing together world leading array of climate professionals and communities. \nLCAW has become the largest independent climate change event in Europe. It aims to influence and shape global climate action but is also rooted in the reality of London as a global City. LCAW aims to be a catalyst to help London accelerate its transformation towards a net zero\, equitable and resilient future. \nStarting 4th Sat in June. London.
URL:https://www.wycombefoe.org.uk/event/london-climate-action-week-2-2/
END:VEVENT
BEGIN:VEVENT
DTSTART;TZID=Europe/London:20230622T100000
DTEND;TZID=Europe/London:20230622T130000
DTSTAMP:20260424T004857
CREATED:20160409T161011Z
LAST-MODIFIED:20230406T172109Z
UID:5851-1687428000-1687438800@www.wycombefoe.org.uk
SUMMARY:Chiltern Rangers Conservation
DESCRIPTION:Most Thursdays the Chiltern Rangers run a volunteer conservation group which is open to all.\nCome along and meet the group at Wycombe Rye Lido Car Park and keep fit while helping to take care of your local environment at woodlands. \nTools\, gloves and hot drinks are provided. Please wear stout footwear and appropriate clothing suitable for outdoors activities and the weather. If you would like to get involved then please contact them –  info@chilternrangers.co.uk \nMore events are on their website. \n 
URL:https://www.wycombefoe.org.uk/event/conservation-volunteering-every-thursday-of-the-month-25-4-4-4-3-3-2-2-2-2-2-2-2-2-2-2-3-2-2-2-2-2-2-2-2-2-2-2-2-2-2-2-2-2-3-2-2-2-2-2-2-2-2-2-2-4/
LOCATION:Wycombe Lido Swimming pool\, The Rye \, HighWycombe\, United Kingdom
ORGANIZER;CN="Chiltern rangers":MAILTO:info@chilternrangers.co.uk
END:VEVENT
BEGIN:VEVENT
DTSTART;VALUE=DATE:20230622
DTEND;VALUE=DATE:20230623
DTSTAMP:20260424T004857
CREATED:20200606T175334Z
LAST-MODIFIED:20230406T165242Z
UID:5837-1687392000-1687478399@www.wycombefoe.org.uk
SUMMARY:Rainforest day
DESCRIPTION:A collaborative effort to raise awareness and encourage action to save one of Earth’s most precious resources\, our rainforests. \nWorldwide\, every 22 June.
URL:https://www.wycombefoe.org.uk/event/rainforest-day-2-2-2/
END:VEVENT
BEGIN:VEVENT
DTSTART;TZID=Europe/London:20230621T133000
DTEND;TZID=Europe/London:20230621T163000
DTSTAMP:20260424T004857
CREATED:20220608T084910Z
LAST-MODIFIED:20230601T091849Z
UID:5864-1687354200-1687365000@www.wycombefoe.org.uk
SUMMARY:Scrapstore 'Refresh'
DESCRIPTION:The scrap store (Refresh) is run by Wycombe Environment Centre and is located in the Chiltern Shopping Centre (Frogmoor). \n(It ‘inherited’ stock from the old scrapstore Wycombe Resource Zone\, in Cressex\, which was run by the Council)
URL:https://www.wycombefoe.org.uk/event/scrapstore-refresh-every-saturday-2-2-2-2-3-2-2-2-2-2-2-2-2-3/
END:VEVENT
BEGIN:VEVENT
DTSTART;TZID=Europe/London:20230619T183000
DTEND;TZID=Europe/London:20230619T190000
DTSTAMP:20260424T004857
CREATED:20220608T085815Z
LAST-MODIFIED:20230406T173600Z
UID:5844-1687199400-1687201200@www.wycombefoe.org.uk
SUMMARY:'Wycombe Environment' group meeting
DESCRIPTION:Wycombe Environment (WE) is part of the Environment and Climate Change sub-group of the High Wycombe Community Board – itself part of Buckinghamshire County Council. WE is not a forum for discussion\, but for action\, to cut carbon and boost biodiversity. \nOn most Mondays the group meets weekly for half an hour by Zoom on Mondays at 6.30 pm. If you would like to join\, please email hwcb@buckinghamshire.gov.uk\, with ‘WE’ in the subject line. \nIt was setup 10th Feb 2021. \n 
URL:https://www.wycombefoe.org.uk/event/wycombe-environment-group-meeting-most-mondays-2-2-2-2-2-3/
END:VEVENT
BEGIN:VEVENT
DTSTART;TZID=Europe/London:20230617T100000
DTEND;TZID=Europe/London:20230617T160000
DTSTAMP:20260424T004857
CREATED:20220608T084910Z
LAST-MODIFIED:20230406T172847Z
UID:5869-1686996000-1687017600@www.wycombefoe.org.uk
SUMMARY:Scrapstore 'Refresh'
DESCRIPTION:The scrap store (Refresh) is run by Wycombe Environment Centre and is located in the Chiltern Shopping Centre (Frogmoor). \n(It ‘inherited’ stock from the old scrapstore Wycombe Resource Zone\, in Cressex\, which was run by the Council)
URL:https://www.wycombefoe.org.uk/event/scrapstore-refresh-every-saturday-2-2-2-2-3-2-2-2-2-2-4/
END:VEVENT
BEGIN:VEVENT
DTSTART;TZID=Europe/London:20230617T100000
DTEND;TZID=Europe/London:20230617T150000
DTSTAMP:20260424T004857
CREATED:20230604T085551Z
LAST-MODIFIED:20230604T085706Z
UID:6013-1686996000-1687014000@www.wycombefoe.org.uk
SUMMARY:Wellbeing Festival (WFoE stall)
DESCRIPTION:Visit our stall at the High Wycombe on Saturday 17th June\, 10am-3pm\, outside All Saints Church in the centre of High Wycombe.
URL:https://www.wycombefoe.org.uk/event/wellbeing-festival-stall/
END:VEVENT
BEGIN:VEVENT
DTSTART;VALUE=DATE:20230617
DTEND;VALUE=DATE:20230618
DTSTAMP:20260424T004857
CREATED:20160406T151650Z
LAST-MODIFIED:20230406T165115Z
UID:5834-1686960000-1687046399@www.wycombefoe.org.uk
SUMMARY:Desertification and Drought day
DESCRIPTION:United Nations day to combat desertification and drought. \n​There is probably no greater issue than land in the post-2015 Sustainable Development Goals that touches everyone. From the food we eat\, to the clothes we wear and the houses we live – it all stems from land resources. In order to “leave no one behind” as proclaimed in the new Sustainable Development Goals\, achieving land degradation neutrality needs to be in the forefront to meet our requirements and develop sustainability. \nEvery 17th June. Worldwide.
URL:https://www.wycombefoe.org.uk/event/combating-desertification-day-2-2-2-2-2-2-2/
END:VEVENT
BEGIN:VEVENT
DTSTART;VALUE=DATE:20230616
DTEND;VALUE=DATE:20230617
DTSTAMP:20260424T004857
CREATED:20220616T195429Z
LAST-MODIFIED:20230406T164755Z
UID:5832-1686873600-1686959999@www.wycombefoe.org.uk
SUMMARY:Refill Day
DESCRIPTION:World Refill Day is a global campaign to prevent plastic pollution and help people live with less waste. \nAlong with our planet-protecting partners\, and thousands of everyday activists around the world\, we’re calling on businesses\, brands and governments to join the refill and reuse revolution and help make single-use plastic a thing of the past. \nAs a global movement\, we have the power to create a wave of change. By choosing to reuse\, we’re saving millions of pieces of plastic and sending a message to the rest of the world that the solutions to plastic pollution and the climate crisis are there – and together we can keep our environment\, oceans\, cities and communities plastic-free for the future. \nWorldwide\, every 16th June.
URL:https://www.wycombefoe.org.uk/event/refill-day-2/
END:VEVENT
BEGIN:VEVENT
DTSTART;TZID=Europe/London:20230615T100000
DTEND;TZID=Europe/London:20230615T130000
DTSTAMP:20260424T004857
CREATED:20160409T161011Z
LAST-MODIFIED:20230406T172135Z
UID:5850-1686823200-1686834000@www.wycombefoe.org.uk
SUMMARY:Chiltern Rangers Conservation
DESCRIPTION:Most Thursdays the Chiltern Rangers run a volunteer conservation group which is open to all.\nCome along and meet the group at Wycombe Rye Lido Car Park and keep fit while helping to take care of your local environment at woodlands. \nTools\, gloves and hot drinks are provided. Please wear stout footwear and appropriate clothing suitable for outdoors activities and the weather. If you would like to get involved then please contact them –  info@chilternrangers.co.uk \nMore events are on their website. \n 
URL:https://www.wycombefoe.org.uk/event/conservation-volunteering-every-thursday-of-the-month-25-4-4-4-3-3-2-2-2-2-2-2-2-2-2-2-3-2-2-2-2-2-2-2-2-2-2-2-2-2-2-2-2-2-3-2-2-2-2-2-2-2-2-2-2-3/
LOCATION:Wycombe Lido Swimming pool\, The Rye \, HighWycombe\, United Kingdom
ORGANIZER;CN="Chiltern rangers":MAILTO:info@chilternrangers.co.uk
END:VEVENT
BEGIN:VEVENT
DTSTART;VALUE=DATE:20230615
DTEND;VALUE=DATE:20230616
DTSTAMP:20260424T004857
CREATED:20211119T144723Z
LAST-MODIFIED:20230406T132445Z
UID:5828-1686787200-1686873599@www.wycombefoe.org.uk
SUMMARY:Anniversary of Wycombe Food Hub
DESCRIPTION:Wycombe Food Hub was founded on 15th June 2020 as a Non-profit group. \n(it later became a CIC on 6th Aug 2020)
URL:https://www.wycombefoe.org.uk/event/founding-of-wycombe-food-hub-as-nonprofit-group-2/
END:VEVENT
BEGIN:VEVENT
DTSTART;VALUE=DATE:20230615
DTEND;VALUE=DATE:20230616
DTSTAMP:20260424T004857
CREATED:20180311T133450Z
LAST-MODIFIED:20230615T090019Z
UID:5830-1686787200-1686873599@www.wycombefoe.org.uk
SUMMARY:Clean air day (UK)
DESCRIPTION:Clean Air Day is a chance for the UK to come together and improve air quality through collective action. \nFind out more about air pollution and how it can impact your health. \n3rd Thursday of June\, UK
URL:https://www.wycombefoe.org.uk/event/clean-air-day-2-2-2-2-2-2/
END:VEVENT
BEGIN:VEVENT
DTSTART;TZID=Europe/London:20230614T183000
DTEND;TZID=Europe/London:20230614T193000
DTSTAMP:20260424T004857
CREATED:20230609T085520Z
LAST-MODIFIED:20230609T085630Z
UID:6028-1686767400-1686771000@www.wycombefoe.org.uk
SUMMARY:Env & Climate Change Action Group meeting
DESCRIPTION:There will be an Environment & Climate Change Action Group meeting on Wednesday 14th\nJune 6:30 – 7:30pm at The Salvation Army\, Frogmoor\, High Wycombe\, HP13 5DG. All\ninvited.
URL:https://www.wycombefoe.org.uk/event/environment-climate-change-action-group-meeting/
END:VEVENT
BEGIN:VEVENT
DTSTART;TZID=Europe/London:20230614T133000
DTEND;TZID=Europe/London:20230614T163000
DTSTAMP:20260424T004857
CREATED:20220608T084910Z
LAST-MODIFIED:20230601T091808Z
UID:5863-1686749400-1686760200@www.wycombefoe.org.uk
SUMMARY:Scrapstore 'Refresh'
DESCRIPTION:The scrap store (Refresh) is run by Wycombe Environment Centre and is located in the Chiltern Shopping Centre (Frogmoor). \n(It ‘inherited’ stock from the old scrapstore Wycombe Resource Zone\, in Cressex\, which was run by the Council)
URL:https://www.wycombefoe.org.uk/event/scrapstore-refresh-every-saturday-2-2-2-2-3-2-2-2-2-2-2-2-2-2/
END:VEVENT
BEGIN:VEVENT
DTSTART;TZID=Europe/London:20230612T183000
DTEND;TZID=Europe/London:20230612T190000
DTSTAMP:20260424T004857
CREATED:20220608T085815Z
LAST-MODIFIED:20230406T173304Z
UID:5843-1686594600-1686596400@www.wycombefoe.org.uk
SUMMARY:'Wycombe Environment' group meeting
DESCRIPTION:Wycombe Environment (WE) is part of the Environment and Climate Change sub-group of the High Wycombe Community Board – itself part of Buckinghamshire County Council. WE is not a forum for discussion\, but for action\, to cut carbon and boost biodiversity. \nIt meets weekly for half an hour by Zoom on most Mondays at 6.30 pm. If you would like to join\, please email hwcb@buckinghamshire.gov.uk\, with ‘WE’ in the subject line. \nIt was setup 10th Feb 2021. \n 
URL:https://www.wycombefoe.org.uk/event/wycombe-environment-group-meeting-most-mondays-2-2-2-2-2-2/
END:VEVENT
BEGIN:VEVENT
DTSTART;TZID=Europe/London:20230610T100000
DTEND;TZID=Europe/London:20230610T160000
DTSTAMP:20260424T004857
CREATED:20220608T084910Z
LAST-MODIFIED:20230406T172819Z
UID:5867-1686391200-1686412800@www.wycombefoe.org.uk
SUMMARY:Scrapstore 'Refresh'
DESCRIPTION:The scrap store (Refresh) is run by Wycombe Environment Centre and is located in the Chiltern Shopping Centre (Frogmoor). \n(It ‘inherited’ stock from the old scrapstore Wycombe Resource Zone\, in Cressex\, which was run by the Council)
URL:https://www.wycombefoe.org.uk/event/scrapstore-refresh-every-saturday-2-2-2-2-3-2-2-2-2-2-3/
END:VEVENT
BEGIN:VEVENT
DTSTART;TZID=Europe/London:20230610T100000
DTEND;TZID=Europe/London:20230610T133000
DTSTAMP:20260424T004857
CREATED:20230604T085343Z
LAST-MODIFIED:20230604T085739Z
UID:6010-1686391200-1686403800@www.wycombefoe.org.uk
SUMMARY:Climate action day
DESCRIPTION:Come and see us in Amersham at the Climate Action Day and Ecofest outside St Michael’s and All Angels Church\, Sycamore Road\, Amersham\, on Saturday 10th June 10am-1.30pm. \n 
URL:https://www.wycombefoe.org.uk/event/climate-action-day/
END:VEVENT
BEGIN:VEVENT
DTSTART;TZID=Europe/London:20230610T100000
DTEND;TZID=Europe/London:20230610T130000
DTSTAMP:20260424T004857
CREATED:20211004T140652Z
LAST-MODIFIED:20230406T132304Z
UID:5826-1686391200-1686402000@www.wycombefoe.org.uk
SUMMARY:Wycombe Repair Café
DESCRIPTION:Wycombe Repair Café is run by volunteers and organised by Wycombe Environment community group. The Repair Café is located in All Saints Parish Church in the centre of High Wycombe. Bring your broken household items (mechanical\, textile or small electrical) and we may be able to repair it. Either way\, there will be no charge (except if a new part is required)\, although any donations will be very welcome. \nEvery 2nd Saturday of the month\, in High Wycombe.\n(note also that there are other Repair Cafes nearby\, eg in Marlow and Hazlemere)
URL:https://www.wycombefoe.org.uk/event/repair-cafe-2-2-2-2-2-2-2-2-2-2-2-2-2-2-2-2-2-2-2-2-2/
LOCATION:Church Street\, Church Street\, High Wycombe\, HP11 2DE\, United Kingdom
END:VEVENT
BEGIN:VEVENT
DTSTART;TZID=Europe/London:20230608T100000
DTEND;TZID=Europe/London:20230608T130000
DTSTAMP:20260424T004857
CREATED:20160409T161011Z
LAST-MODIFIED:20230406T172204Z
UID:5849-1686218400-1686229200@www.wycombefoe.org.uk
SUMMARY:Chiltern Rangers Conservation
DESCRIPTION:Most Thursdays the Chiltern Rangers run a volunteer conservation group which is open to all.\nCome along and meet the group at Wycombe Rye Lido Car Park and keep fit while helping to take care of your local environment at woodlands. \nTools\, gloves and hot drinks are provided. Please wear stout footwear and appropriate clothing suitable for outdoors activities and the weather. If you would like to get involved then please contact them –  info@chilternrangers.co.uk \nMore events are on their website. \n 
URL:https://www.wycombefoe.org.uk/event/conservation-volunteering-every-thursday-of-the-month-25-4-4-4-3-3-2-2-2-2-2-2-2-2-2-2-3-2-2-2-2-2-2-2-2-2-2-2-2-2-2-2-2-2-3-2-2-2-2-2-2-2-2-2-2-2/
LOCATION:Wycombe Lido Swimming pool\, The Rye \, HighWycombe\, United Kingdom
ORGANIZER;CN="Chiltern rangers":MAILTO:info@chilternrangers.co.uk
END:VEVENT
BEGIN:VEVENT
DTSTART;VALUE=DATE:20230608
DTEND;VALUE=DATE:20230609
DTSTAMP:20260424T004857
CREATED:20160406T145038Z
LAST-MODIFIED:20230405T124641Z
UID:5816-1686182400-1686268799@www.wycombefoe.org.uk
SUMMARY:Oceans day
DESCRIPTION:World Oceans Day is the United Nations’ recognized day of ocean celebration and action. \nWorldwide. Every 8th June.
URL:https://www.wycombefoe.org.uk/event/oceans-day-2-2-2-2-2-2-2/
END:VEVENT
BEGIN:VEVENT
DTSTART;TZID=Europe/London:20230607T193000
DTEND;TZID=Europe/London:20230607T210000
DTSTAMP:20260424T004857
CREATED:20170129T143413Z
LAST-MODIFIED:20230405T095011Z
UID:5805-1686166200-1686171600@www.wycombefoe.org.uk
SUMMARY:Wycombe FoE Monthly Meeting
DESCRIPTION:Format of meeting (Zoom and/or Physical location).\nAgenda will be published a few days beforehand on our Home page – www.wycombefoe.org.uk. \nNonmembers please email us at wycombefoe@yahoo.co.uk for a Zoom invitation.\nWe welcome new input and faces\, so lets hear from you. \n 
URL:https://www.wycombefoe.org.uk/event/wycombe-friends-of-the-earth-monthly-meeting-23-6-2-2-2-3-3-2-3-2-2-2-2-2-2-2-2-2-2-2-2-2-3-3-2-2-2-2-2-3-2-2-2-2-2-2-2-2-2-2-2-2-2-2-4-2-2-2-2/
END:VEVENT
BEGIN:VEVENT
DTSTART;TZID=Europe/London:20230607T133000
DTEND;TZID=Europe/London:20230607T163000
DTSTAMP:20260424T004857
CREATED:20220608T084910Z
LAST-MODIFIED:20230601T091740Z
UID:5865-1686144600-1686155400@www.wycombefoe.org.uk
SUMMARY:Scrapstore 'Refresh'
DESCRIPTION:The scrap store (Refresh) is run by Wycombe Environment Centre and is located in the Chiltern Shopping Centre (Frogmoor). \n(It ‘inherited’ stock from the old scrapstore Wycombe Resource Zone\, in Cressex\, which was run by the Council)
URL:https://www.wycombefoe.org.uk/event/scrapstore-refresh-every-saturday-2-2-2-2-3-2-2-2-2-2-2-2-2-4/
END:VEVENT
BEGIN:VEVENT
DTSTART;TZID=Europe/London:20230605T183000
DTEND;TZID=Europe/London:20230605T190000
DTSTAMP:20260424T004857
CREATED:20220608T085815Z
LAST-MODIFIED:20230406T173445Z
UID:5841-1685989800-1685991600@www.wycombefoe.org.uk
SUMMARY:'Wycombe Environment' group meeting
DESCRIPTION:Wycombe Environment (WE) is part of the Environment and Climate Change sub-group of the High Wycombe Community Board – itself part of Buckinghamshire County Council. WE is not a forum for discussion\, but for action\, to cut carbon and boost biodiversity. \nOn most Mondays the group meets weekly for half an hour by Zoom on Mondays at 6.30 pm. If you would like to join\, please email hwcb@buckinghamshire.gov.uk\, with ‘WE’ in the subject line. \nIt was setup 10th Feb 2021. \n 
URL:https://www.wycombefoe.org.uk/event/wycombe-environment-group-meeting-most-mondays-2-2-2-2-2/
END:VEVENT
BEGIN:VEVENT
DTSTART;VALUE=DATE:20230605
DTEND;VALUE=DATE:20230612
DTSTAMP:20260424T004857
CREATED:20160406T150318Z
LAST-MODIFIED:20230405T124532Z
UID:5814-1685923200-1686527999@www.wycombefoe.org.uk
SUMMARY:Bike week
DESCRIPTION:Bike Week\, delivered by Cycling UK\, is an annual celebration to showcase cycling. Thousands of people all over the UK enjoy the simple pleasure of riding a bike. \nSearch the website for events near you. \nStarting every last Sunday in May or first Monday in June. UK. \n 
URL:https://www.wycombefoe.org.uk/event/bike-week-2-2-2-2-2-2/
END:VEVENT
BEGIN:VEVENT
DTSTART;VALUE=DATE:20230605
DTEND;VALUE=DATE:20230606
DTSTAMP:20260424T004857
CREATED:20160406T140538Z
LAST-MODIFIED:20230405T124228Z
UID:5812-1685923200-1686009599@www.wycombefoe.org.uk
SUMMARY:Environment Day
DESCRIPTION:United Nations World Environment Day is a day for encouraging worldwide awareness and action for the protection of our environment. Since it began in 1974\, it has grown to become a global platform for public outreach that is widely celebrated in over 100 countries. \nAbove all\, it is the ‘people’s day’ for doing something to take care of the Earth or become an agent of change. That ‘something’ can be focused locally\, nationally or globally; it can be a solo action or involve a crowd. \nSee website for events and more information. \nWorldwide. Every 5th June.
URL:https://www.wycombefoe.org.uk/event/environment-day-2-2-2-2-2-2/
END:VEVENT
BEGIN:VEVENT
DTSTART;TZID=Europe/London:20230603T100000
DTEND;TZID=Europe/London:20230603T160000
DTSTAMP:20260424T004857
CREATED:20220608T084910Z
LAST-MODIFIED:20230406T173017Z
UID:5818-1685786400-1685808000@www.wycombefoe.org.uk
SUMMARY:Scrapstore 'Refresh'
DESCRIPTION:The scrap store (Refresh) is run by Wycombe Environment Centre and is located in the Chiltern Shopping Centre (Frogmoor). \n(It ‘inherited’ stock from the old scrapstore Wycombe Resource Zone\, in Cressex\, which was run by the Council)
URL:https://www.wycombefoe.org.uk/event/scrapstore-refresh-every-saturday-2-2-2-2-3-2-2-2-2-2-6/
END:VEVENT
BEGIN:VEVENT
DTSTART;VALUE=DATE:20230603
DTEND;VALUE=DATE:20230604
DTSTAMP:20260424T004857
CREATED:20210220T165326Z
LAST-MODIFIED:20230405T124013Z
UID:5810-1685750400-1685836799@www.wycombefoe.org.uk
SUMMARY:Bicycle day
DESCRIPTION:The bicycle is a simple\, affordable\, reliable\, clean and environmentally fit sustainable means of transportation. Active transport is not only healthy\, but also cost-effective for shorter distances. \nEvery 3rd June. Worldwide.
URL:https://www.wycombefoe.org.uk/event/bicycle-day-2-2/
END:VEVENT
BEGIN:VEVENT
DTSTART;TZID=Europe/London:20230601T100000
DTEND;TZID=Europe/London:20230601T130000
DTSTAMP:20260424T004857
CREATED:20160409T161011Z
LAST-MODIFIED:20230406T172230Z
UID:5807-1685613600-1685624400@www.wycombefoe.org.uk
SUMMARY:Chiltern Rangers Conservation
DESCRIPTION:Most Thursdays the Chiltern Rangers run a volunteer conservation group which is open to all.\nCome along and meet the group at Wycombe Rye Lido Car Park and keep fit while helping to take care of your local environment at woodlands. \nTools\, gloves and hot drinks are provided. Please wear stout footwear and appropriate clothing suitable for outdoors activities and the weather. If you would like to get involved then please contact them –  info@chilternrangers.co.uk \nMore events are on their website. \n 
URL:https://www.wycombefoe.org.uk/event/conservation-volunteering-every-thursday-of-the-month-25-4-4-4-3-3-2-2-2-2-2-2-2-2-2-2-3-2-2-2-2-2-2-2-2-2-2-2-2-2-2-2-2-2-3-2-2-2-2-2-2-2-2-2-2/
LOCATION:Wycombe Lido Swimming pool\, The Rye \, HighWycombe\, United Kingdom
ORGANIZER;CN="Chiltern rangers":MAILTO:info@chilternrangers.co.uk
END:VEVENT
END:VCALENDAR