BEGIN:VCALENDAR
VERSION:2.0
PRODID:-//Wycombe Friends of the Earth - ECPv6.15.17//NONSGML v1.0//EN
CALSCALE:GREGORIAN
METHOD:PUBLISH
X-WR-CALNAME:Wycombe Friends of the Earth
X-ORIGINAL-URL:https://www.wycombefoe.org.uk
X-WR-CALDESC:Events for Wycombe Friends of the Earth
REFRESH-INTERVAL;VALUE=DURATION:PT1H
X-Robots-Tag:noindex
X-PUBLISHED-TTL:PT1H
BEGIN:VTIMEZONE
TZID:Europe/London
BEGIN:DAYLIGHT
TZOFFSETFROM:+0000
TZOFFSETTO:+0100
TZNAME:BST
DTSTART:20200329T010000
END:DAYLIGHT
BEGIN:STANDARD
TZOFFSETFROM:+0100
TZOFFSETTO:+0000
TZNAME:GMT
DTSTART:20201025T010000
END:STANDARD
BEGIN:DAYLIGHT
TZOFFSETFROM:+0000
TZOFFSETTO:+0100
TZNAME:BST
DTSTART:20210328T010000
END:DAYLIGHT
BEGIN:STANDARD
TZOFFSETFROM:+0100
TZOFFSETTO:+0000
TZNAME:GMT
DTSTART:20211031T010000
END:STANDARD
BEGIN:DAYLIGHT
TZOFFSETFROM:+0000
TZOFFSETTO:+0100
TZNAME:BST
DTSTART:20220327T010000
END:DAYLIGHT
BEGIN:STANDARD
TZOFFSETFROM:+0100
TZOFFSETTO:+0000
TZNAME:GMT
DTSTART:20221030T010000
END:STANDARD
BEGIN:DAYLIGHT
TZOFFSETFROM:+0000
TZOFFSETTO:+0100
TZNAME:BST
DTSTART:20230326T010000
END:DAYLIGHT
BEGIN:STANDARD
TZOFFSETFROM:+0100
TZOFFSETTO:+0000
TZNAME:GMT
DTSTART:20231029T010000
END:STANDARD
END:VTIMEZONE
BEGIN:VEVENT
DTSTART;VALUE=DATE:20210916
DTEND;VALUE=DATE:20210917
DTSTAMP:20260424T094001
CREATED:20160601T151917Z
LAST-MODIFIED:20210725T162628Z
UID:4969-1631750400-1631836799@www.wycombefoe.org.uk
SUMMARY:Ozone layer day
DESCRIPTION:UN international Day for the Preservation of the Ozone Layer. \nWorldwide\, every 16th September.
URL:https://www.wycombefoe.org.uk/event/ozone-layer-day-2-2-2-2-2/
CATEGORIES:Uptodate for 2017,Uptodate for 2018
END:VEVENT
BEGIN:VEVENT
DTSTART;VALUE=DATE:20210918
DTEND;VALUE=DATE:20210927
DTSTAMP:20260424T094001
CREATED:20210615T073246Z
LAST-MODIFIED:20210615T073400Z
UID:4906-1631923200-1632700799@www.wycombefoe.org.uk
SUMMARY:Great Big Green Week
DESCRIPTION:In September communities across the country will join together for the Great Big Green Week. It will be the biggest event for climate and nature ever in the UK\, and everyone’s invited. \nEvents will range from art installations\, to concerts to community stalls\, to climate cafes\, and everything in between; hosted by teachers\, bus drivers\, sport clubs\, artists\, community groups\, places of worship\, builders and anyone who cares about climate change. \nUK\, every September.
URL:https://www.wycombefoe.org.uk/event/great-big-green-week/
END:VEVENT
BEGIN:VEVENT
DTSTART;VALUE=DATE:20210920
DTEND;VALUE=DATE:20210927
DTSTAMP:20260424T094001
CREATED:20160601T151032Z
LAST-MODIFIED:20210725T163539Z
UID:4973-1632096000-1632700799@www.wycombefoe.org.uk
SUMMARY:Recycle week
DESCRIPTION:The aim of the week is to encourage people to think about all those items that often get forgotten about when recycling at home. And to encourage people to recycle more\, waste less and take up the challenge for sustainable living. \nFrom third (or fourth) Monday in September\, to Sunday. \n 
URL:https://www.wycombefoe.org.uk/event/recycle-week-2-2-2-2-2/
CATEGORIES:Uptodate for 2018
END:VEVENT
BEGIN:VEVENT
DTSTART;VALUE=DATE:20210921
DTEND;VALUE=DATE:20210922
DTSTAMP:20260424T094001
CREATED:20200606T180738Z
LAST-MODIFIED:20210725T162952Z
UID:4971-1632182400-1632268799@www.wycombefoe.org.uk
SUMMARY:Zero emissions day
DESCRIPTION:The Global 24 hour Moratorium on the use of Fossil Fuels. \nWorldwide\, every 21 September
URL:https://www.wycombefoe.org.uk/event/zero-emissions-day-2/
END:VEVENT
BEGIN:VEVENT
DTSTART;VALUE=DATE:20210922
DTEND;VALUE=DATE:20210923
DTSTAMP:20260424T094001
CREATED:20160601T153314Z
LAST-MODIFIED:20210923T110926Z
UID:5003-1632268800-1632355199@www.wycombefoe.org.uk
SUMMARY:Car free day
DESCRIPTION:On 22 September people from around the world get together in the streets\, intersections\, and neighbourhood blocks to remind the world that we don’t have to accept our car-dominated society. \n(Worldwide\, every 22 September)
URL:https://www.wycombefoe.org.uk/event/car-free-day-2-2-2/
END:VEVENT
BEGIN:VEVENT
DTSTART;VALUE=DATE:20210926
DTEND;VALUE=DATE:20210927
DTSTAMP:20260424T094001
CREATED:20190601T170342Z
LAST-MODIFIED:20210725T163952Z
UID:4975-1632614400-1632700799@www.wycombefoe.org.uk
SUMMARY:World Contraception Day
DESCRIPTION:The annual worldwide campaign centres around a vision where every pregnancy is wanted. Launched in 2007\, WCD’s mission is to improve awareness of contraception and to enable young people to make informed choices on their sexual and reproductive health. \nFrom a sustainability and climate change viewpoint this is also important because having one fewer child has a similar impact as going vegan\, not flying\, not driving or not using fossil fuels. \nWorldwide\, every 26th September.
URL:https://www.wycombefoe.org.uk/event/world-contraception-day-2-2/
END:VEVENT
BEGIN:VEVENT
DTSTART;VALUE=DATE:20211001
DTEND;VALUE=DATE:20211002
DTSTAMP:20260424T094001
CREATED:20170131T113143Z
LAST-MODIFIED:20210220T172842Z
UID:4369-1633046400-1633132799@www.wycombefoe.org.uk
SUMMARY:Vegetarian day
DESCRIPTION:To raise awareness of the benefits of a vegetarian diet in terms of ethics\, health and environmental sustainability. \nWorldwide\, every 1st October.
URL:https://www.wycombefoe.org.uk/event/vegetarian-day-2-2-2/
END:VEVENT
BEGIN:VEVENT
DTSTART;VALUE=DATE:20211001
DTEND;VALUE=DATE:20211002
DTSTAMP:20260424T094001
CREATED:20170301T100115Z
LAST-MODIFIED:20210924T112113Z
UID:5005-1633046400-1633132799@www.wycombefoe.org.uk
SUMMARY:OTHER ECO GROUPS & EVENTS
DESCRIPTION:Click link below… \nList of environmental organisations in the Wycombe area \nFor events\, click on the link to their websites and search for ‘what’s on’ or similar.
URL:https://www.wycombefoe.org.uk/event/note-other-local-event-listings-10-2-2-8-4-2-3-2-2-2-2-2-2-2-2-2-2-3-2-2-2-2-2-2-2-2-2-2-2-2-2-2-2-2-2-2-2-2-2-2-2-2/
END:VEVENT
BEGIN:VEVENT
DTSTART;VALUE=DATE:20211001
DTEND;VALUE=DATE:20211002
DTSTAMP:20260424T094001
CREATED:20171209T175321Z
LAST-MODIFIED:20200423T110828Z
UID:3901-1633046400-1633132799@www.wycombefoe.org.uk
SUMMARY:Projections of UK population to be published in October
DESCRIPTION:Every two years\, the Office for National Statistics (ONS) publishes projections for the UK population. \nThe number of people expected to be living in the UK is one of the factors determining how many houses/schools/roads need to be built\, as well as how much greenhouse gas will be emitted.
URL:https://www.wycombefoe.org.uk/event/estimates-of-uk-population-published-in-june-2-2/
END:VEVENT
BEGIN:VEVENT
DTSTART;VALUE=DATE:20211004
DTEND;VALUE=DATE:20211005
DTSTAMP:20260424T094001
CREATED:20160802T134335Z
LAST-MODIFIED:20210924T112652Z
UID:5011-1633305600-1633391999@www.wycombefoe.org.uk
SUMMARY:Animal welfare day
DESCRIPTION:The aim of Animal welfare day is to raise the status of animals in order to improve welfare standards around the globe. To achieve this\, they encourage animal welfare organisations\, community groups\, youth and children’s clubs\, businesses and individuals to organise events in celebration of World Animal Day. \nWorldwide\, every 4th Oct.
URL:https://www.wycombefoe.org.uk/event/animal-welfare-day-2-2-2-2/
END:VEVENT
BEGIN:VEVENT
DTSTART;VALUE=DATE:20211004
DTEND;VALUE=DATE:20211005
DTSTAMP:20260424T094001
CREATED:20190814T092204Z
LAST-MODIFIED:20210924T112521Z
UID:5009-1633305600-1633391999@www.wycombefoe.org.uk
SUMMARY:'No disposable cup' day
DESCRIPTION:Founded by councillor Ed Gemmell in 2019 (4 October is the feast day of St Francis of Assisi who it the patron saint of the environment) \nThe aim is to…\n1. get everyone not to use a disposable cup for one day while raising awareness of the massive waste problem caused by disposable cups \n2. get disposable cups withdrawn or banned completely \n3. help in the battle against global heating and climate change. \nEvery 4th Oct\, worldwide.
URL:https://www.wycombefoe.org.uk/event/no-disposable-cup-day-2-2/
END:VEVENT
BEGIN:VEVENT
DTSTART;VALUE=DATE:20211006
DTEND;VALUE=DATE:20211007
DTSTAMP:20260424T094001
CREATED:20200606T181020Z
LAST-MODIFIED:20210924T113501Z
UID:5013-1633478400-1633564799@www.wycombefoe.org.uk
SUMMARY:Energy efficiency day
DESCRIPTION:But efficiency is year-round. Save Money. Cut Carbon. Breathe Easier. \nWorldwide\, every 7th October.
URL:https://www.wycombefoe.org.uk/event/energy-efficiency-day-2/
END:VEVENT
BEGIN:VEVENT
DTSTART;TZID=Europe/London:20211006T193000
DTEND;TZID=Europe/London:20211006T210000
DTSTAMP:20260424T094001
CREATED:20170129T143413Z
LAST-MODIFIED:20210924T112210Z
UID:5006-1633548600-1633554000@www.wycombefoe.org.uk
SUMMARY:Wycombe FoE Monthly Meeting
DESCRIPTION:Format of meeting (Zoom and Physical location)\nWe welcome new input and faces\, so lets hear from you. \n 
URL:https://www.wycombefoe.org.uk/event/wycombe-friends-of-the-earth-monthly-meeting-23-6-2-2-2-3-3-2-3-2-2-2-2-2-2-2-2-2-2-2-2-2-3-3-2-2-2-2-2-3-2-2/
END:VEVENT
BEGIN:VEVENT
DTSTART;TZID=Europe/London:20211009T100000
DTEND;TZID=Europe/London:20211009T130000
DTSTAMP:20260424T094001
CREATED:20211004T140652Z
LAST-MODIFIED:20211004T140848Z
UID:5050-1633773600-1633784400@www.wycombefoe.org.uk
SUMMARY:Repair Café
DESCRIPTION:A Repair Café\, run by volunteers and organised by Wycombe Environment\, is now operating in High Wycombe\n(All Saints Parish Church in the centre of High Wycombe). Bring your broken household items that you cannot get done commercially (mechanical\, electrical or textile) and you may be able to get them repaired.\nThere will be no charge (except if a new part is required)\, although any donations will be welcome. \nEvery 2nd Saturday of the month\, in High Wycombe.\n(note also that there are other Repair Cafes in Bucks\, eg in Marlow)
URL:https://www.wycombefoe.org.uk/event/repair-cafe-2/
END:VEVENT
BEGIN:VEVENT
DTSTART;VALUE=DATE:20211016
DTEND;VALUE=DATE:20211017
DTSTAMP:20260424T094001
CREATED:20160409T154554Z
LAST-MODIFIED:20210926T084114Z
UID:5015-1634342400-1634428799@www.wycombefoe.org.uk
SUMMARY:World Food Day
DESCRIPTION:Food day is celebrated in the worldwide in honor of the date of the founding of the Food and Agriculture Organization of the United Nations in 1945. \nEvery 16th October\, worldwide.
URL:https://www.wycombefoe.org.uk/event/food-day-2-2-2-2/
END:VEVENT
BEGIN:VEVENT
DTSTART;VALUE=DATE:20211101
DTEND;VALUE=DATE:20211102
DTSTAMP:20260424T094001
CREATED:20170301T100115Z
LAST-MODIFIED:20210926T084425Z
UID:5019-1635724800-1635811199@www.wycombefoe.org.uk
SUMMARY:OTHER ECO GROUPS & EVENTS
DESCRIPTION:Click link below… \nList of environmental organisations in the Wycombe area \nFor events\, click on the link to their websites and search for ‘what’s on’ or similar.
URL:https://www.wycombefoe.org.uk/event/note-other-local-event-listings-10-2-2-8-4-2-3-2-2-2-2-2-2-2-2-2-2-3-2-2-2-2-2-2-2-2-2-2-2-2-2-2-2-2-2-2-2-2-2-2-2-2-2/
END:VEVENT
BEGIN:VEVENT
DTSTART;TZID=Europe/London:20211103T193000
DTEND;TZID=Europe/London:20211103T210000
DTSTAMP:20260424T094001
CREATED:20170129T143413Z
LAST-MODIFIED:20210926T084342Z
UID:5017-1635967800-1635973200@www.wycombefoe.org.uk
SUMMARY:Wycombe FoE Monthly Meeting
DESCRIPTION:Format of meeting TBD (Zoom and/or Physical location)\nWe welcome new input and faces\, so lets hear from you. \n 
URL:https://www.wycombefoe.org.uk/event/wycombe-friends-of-the-earth-monthly-meeting-23-6-2-2-2-3-3-2-3-2-2-2-2-2-2-2-2-2-2-2-2-2-3-3-2-2-2-2-2-3-2-2-2/
END:VEVENT
BEGIN:VEVENT
DTSTART;VALUE=DATE:20211106
DTEND;VALUE=DATE:20211107
DTSTAMP:20260424T094001
CREATED:20160409T183503Z
LAST-MODIFIED:20210926T084528Z
UID:5021-1636156800-1636243199@www.wycombefoe.org.uk
SUMMARY:Prevention of environmental exploitation in armed conflict
DESCRIPTION:Worldwide\, every 6th of November.
URL:https://www.wycombefoe.org.uk/event/prevention-of-environmental-exploitation-in-armed-conflict-4-2-2-2-2/
END:VEVENT
BEGIN:VEVENT
DTSTART;TZID=Europe/London:20211106T110000
DTEND;TZID=Europe/London:20211106T150000
DTSTAMP:20260424T094001
CREATED:20211115T164434Z
LAST-MODIFIED:20211115T164434Z
UID:5100-1636196400-1636210800@www.wycombefoe.org.uk
SUMMARY:Global Day of Action
DESCRIPTION:Join Wycombe Friends of the Earth and other green groups on Wycombe High Street / White Hart Street from 11:00 am to 3:00 pm (at least) this Saturday\, 06 November\, to find out about the climate emergency\, what you can do to help\, and how you can send an urgent message directly to COP26 in Glasgow.\n\nTime is running out to save the planet we love. We need to act now!
URL:https://www.wycombefoe.org.uk/event/global-day-of-action/
END:VEVENT
BEGIN:VEVENT
DTSTART;VALUE=DATE:20211107
DTEND;VALUE=DATE:20211108
DTSTAMP:20260424T094001
CREATED:20190422T150313Z
LAST-MODIFIED:20190422T150810Z
UID:3892-1636243200-1636329599@www.wycombefoe.org.uk
SUMMARY:Anniversary of Low Carbon Chilterns (10 years)
DESCRIPTION:LCCC is a ‘bone fide cooperative’\, registered by the FSA as IPS No. 31454R on\n7 November 2011. We are a member owned and run\, not-for-profit\, community organisation helping the community to save energy and generate its own clean power.
URL:https://www.wycombefoe.org.uk/event/anniversary-of-low-carbon-chilterns-7-nov-2011-2/
ORGANIZER;CN="Low Carbon Chilterns Cooperative":MAILTO:hello@lowcarbonchilterns.org
END:VEVENT
BEGIN:VEVENT
DTSTART;TZID=Europe/London:20211113T100000
DTEND;TZID=Europe/London:20211113T130000
DTSTAMP:20260424T094001
CREATED:20211004T140652Z
LAST-MODIFIED:20211004T141810Z
UID:5053-1636797600-1636808400@www.wycombefoe.org.uk
SUMMARY:Repair Café
DESCRIPTION:A Repair Café\, run by volunteers and organised by Wycombe Environment\, is now operating in High Wycombe\n(All Saints Parish Church in the centre of High Wycombe). Bring your broken household items that you cannot get done commercially (mechanical\, electrical or textile) and you may be able to get them repaired.\nThere will be no charge (except if a new part is required)\, although any donations will be welcome. \nEvery 2nd Saturday of the month\, in High Wycombe.\n(note also that there are other Repair Cafes in Bucks\, eg in Marlow)
URL:https://www.wycombefoe.org.uk/event/repair-cafe-2-2/
END:VEVENT
BEGIN:VEVENT
DTSTART;VALUE=DATE:20211121
DTEND;VALUE=DATE:20211122
DTSTAMP:20260424T094001
CREATED:20160409T182508Z
LAST-MODIFIED:20210926T095523Z
UID:5023-1637452800-1637539199@www.wycombefoe.org.uk
SUMMARY:Fisheries Day
DESCRIPTION:World Fisheries day is celebrated every year throughout the world by the fisherfolk communities. Fishing communities worldwide celebrate this day through rallies\, workshops\, public meetings\, cultural programs\, dramas\, exhibition\, music show\, and demonstrations to highlight the importance of maintaining the world’s fisheries.\nwww.gdrc.org/doyourbit/21_11-fisheries-day.html \nWorldwide Event (every 21 November).
URL:https://www.wycombefoe.org.uk/event/fisheries-day-3-2-2-2-2/
END:VEVENT
BEGIN:VEVENT
DTSTART;VALUE=DATE:20211126
DTEND;VALUE=DATE:20211127
DTSTAMP:20260424T094001
CREATED:20160409T183128Z
LAST-MODIFIED:20210926T095722Z
UID:5025-1637884800-1637971199@www.wycombefoe.org.uk
SUMMARY:Buy Nothing Day
DESCRIPTION:It’s a day where you challenge yourself\, your family and friends to switch off from shopping and tune into life. The rules are simple\, for 24 hours you will detox from shopping and anyone can take part provided they spend a day without spending! \nEvery fourth Friday in November\, worldwide. \nwww.buynothingday.co.uk
URL:https://www.wycombefoe.org.uk/event/buy-nothing-day-3-2-2-2-2/
LOCATION:A WorldWide Event
END:VEVENT
BEGIN:VEVENT
DTSTART;VALUE=DATE:20211127
DTEND;VALUE=DATE:20211206
DTSTAMP:20260424T094001
CREATED:20160802T144150Z
LAST-MODIFIED:20210926T100258Z
UID:5027-1637971200-1638748799@www.wycombefoe.org.uk
SUMMARY:Tree week
DESCRIPTION:National Tree Week is the UK’s largest tree celebration annually launching the start of the winter tree planting season. It is a great chance for communities to do something positive for their local treescape. Each year\, The Tree Council’s member organisations such as voluntary bodies and local authorities\, up to 200 schools and community groups\, our 8\,000 Tree Wardens and many others\, support the initiative by setting up fun\, worthwhile and accessible events\, inspiring upward of a quarter of a million people to get their hands dirty and together plant around a million trees. \nUK\, 4th Saturday in November\, to Sunday in a week.
URL:https://www.wycombefoe.org.uk/event/tree-week-2-2-2-2/
END:VEVENT
BEGIN:VEVENT
DTSTART;TZID=Europe/London:20211128T150000
DTEND;TZID=Europe/London:20211128T154000
DTSTAMP:20260424T094001
CREATED:20211120T212720Z
LAST-MODIFIED:20211120T212720Z
UID:5116-1638111600-1638114000@www.wycombefoe.org.uk
SUMMARY:Population Matters High Wycombe AGM
DESCRIPTION:Population Matters HW are having an AGM on Sunday 28th Nov\, 3pm. All welcome! To get a Zoom link please email highwycombegroup@populationmatters.org.
URL:https://www.wycombefoe.org.uk/event/population-matters-high-wycombe-agm/
END:VEVENT
BEGIN:VEVENT
DTSTART;VALUE=DATE:20211201
DTEND;VALUE=DATE:20211202
DTSTAMP:20260424T094001
CREATED:20170301T100115Z
LAST-MODIFIED:20211129T110812Z
UID:5030-1638316800-1638403199@www.wycombefoe.org.uk
SUMMARY:OTHER ECO GROUPS & EVENTS
DESCRIPTION:Click links below… \nList of environmental organisations in the Wycombe area\nFor events\, click on the link to their websites and search for ‘what’s on’ or similar.\n \nList of environmental events (maintained by Wycombe Environment Centre)\nThis is basically a pinned post on their Facebook page.
URL:https://www.wycombefoe.org.uk/event/note-other-local-event-listings-10-2-2-8-4-2-3-2-2-2-2-2-2-2-2-2-2-3-2-2-2-2-2-2-2-2-2-2-2-2-2-2-2-2-2-2-2-2-2-2-2-2-2-2/
END:VEVENT
BEGIN:VEVENT
DTSTART;TZID=Europe/London:20211201T193000
DTEND;TZID=Europe/London:20211201T210000
DTSTAMP:20260424T094001
CREATED:20170129T143413Z
LAST-MODIFIED:20211120T211929Z
UID:5032-1638387000-1638392400@www.wycombefoe.org.uk
SUMMARY:Wycombe FoE Monthly Meeting (Xmas 'edition')
DESCRIPTION:Format of meeting TBD (Zoom and/or Physical location)\nWe welcome new input and faces\, so lets hear from you. \n 
URL:https://www.wycombefoe.org.uk/event/wycombe-friends-of-the-earth-monthly-meeting-23-6-2-2-2-3-3-2-3-2-2-2-2-2-2-2-2-2-2-2-2-2-3-3-2-2-2-2-2-3-2-2-2-2/
END:VEVENT
BEGIN:VEVENT
DTSTART;VALUE=DATE:20211205
DTEND;VALUE=DATE:20211206
DTSTAMP:20260424T094001
CREATED:20200606T181534Z
LAST-MODIFIED:20210926T180520Z
UID:5034-1638662400-1638748799@www.wycombefoe.org.uk
SUMMARY:Soil day
DESCRIPTION:To focus attention on the importance of healthy soil and advocating for the sustainable management of soil resources. \nWorldwide\, every 5th December.
URL:https://www.wycombefoe.org.uk/event/soil-day-2/
END:VEVENT
BEGIN:VEVENT
DTSTART;TZID=Europe/London:20211211T100000
DTEND;TZID=Europe/London:20211211T130000
DTSTAMP:20260424T094001
CREATED:20211004T140652Z
LAST-MODIFIED:20211004T141916Z
UID:5055-1639216800-1639227600@www.wycombefoe.org.uk
SUMMARY:Repair Café
DESCRIPTION:A Repair Café\, run by volunteers and organised by Wycombe Environment\, is now operating in High Wycombe\n(All Saints Parish Church in the centre of High Wycombe). Bring your broken household items that you cannot get done commercially (mechanical\, electrical or textile) and you may be able to get them repaired.\nThere will be no charge (except if a new part is required)\, although any donations will be welcome. \nEvery 2nd Saturday of the month\, in High Wycombe.\n(note also that there are other Repair Cafes in Bucks\, eg in Marlow)
URL:https://www.wycombefoe.org.uk/event/repair-cafe-2-2-2/
END:VEVENT
BEGIN:VEVENT
DTSTART;VALUE=DATE:20220101
DTEND;VALUE=DATE:20220102
DTSTAMP:20260424T094001
CREATED:20170301T100115Z
LAST-MODIFIED:20211129T110749Z
UID:5070-1640995200-1641081599@www.wycombefoe.org.uk
SUMMARY:OTHER ECO GROUPS & EVENTS
DESCRIPTION:Click links below… \nList of environmental organisations in the Wycombe area\nFor events\, click on the link to their websites and search for ‘what’s on’ or similar.\n \nList of environmental events (maintained by Wycombe Environment Centre)\nThis is basically a pinned post on their Facebook page. \n 
URL:https://www.wycombefoe.org.uk/event/note-other-local-event-listings-10-2-2-8-4-2-3-2-2-2-2-2-2-2-2-2-2-3-2-2-2-2-2-2-2-2-2-2-2-2-2-2-2-2-2-2-2-2-2-2-2-2-2-2-2/
END:VEVENT
END:VCALENDAR