BEGIN:VCALENDAR
VERSION:2.0
PRODID:-//Wycombe Friends of the Earth - ECPv6.15.17//NONSGML v1.0//EN
CALSCALE:GREGORIAN
METHOD:PUBLISH
X-ORIGINAL-URL:https://www.wycombefoe.org.uk
X-WR-CALDESC:Events for Wycombe Friends of the Earth
REFRESH-INTERVAL;VALUE=DURATION:PT1H
X-Robots-Tag:noindex
X-PUBLISHED-TTL:PT1H
BEGIN:VTIMEZONE
TZID:Europe/London
BEGIN:DAYLIGHT
TZOFFSETFROM:+0000
TZOFFSETTO:+0100
TZNAME:BST
DTSTART:20210328T010000
END:DAYLIGHT
BEGIN:STANDARD
TZOFFSETFROM:+0100
TZOFFSETTO:+0000
TZNAME:GMT
DTSTART:20211031T010000
END:STANDARD
BEGIN:DAYLIGHT
TZOFFSETFROM:+0000
TZOFFSETTO:+0100
TZNAME:BST
DTSTART:20220327T010000
END:DAYLIGHT
BEGIN:STANDARD
TZOFFSETFROM:+0100
TZOFFSETTO:+0000
TZNAME:GMT
DTSTART:20221030T010000
END:STANDARD
BEGIN:DAYLIGHT
TZOFFSETFROM:+0000
TZOFFSETTO:+0100
TZNAME:BST
DTSTART:20230326T010000
END:DAYLIGHT
BEGIN:STANDARD
TZOFFSETFROM:+0100
TZOFFSETTO:+0000
TZNAME:GMT
DTSTART:20231029T010000
END:STANDARD
END:VTIMEZONE
BEGIN:VEVENT
DTSTART;TZID=Europe/London:20220710T110000
DTEND;TZID=Europe/London:20220710T170000
DTSTAMP:20260425T142814
CREATED:20170129T151310Z
LAST-MODIFIED:20220607T155859Z
UID:5385-1657450800-1657472400@www.wycombefoe.org.uk
SUMMARY:Pann Mill Open day
DESCRIPTION:Enjoy a walk round the Rye and stop in on Pann Mill for cake/tea/coffee and view the variety of stands. \nFlour made in Pann Mill is usually on sale (dependent on water levels). \nPossible environmental stalls: High Wycombe Beekeepers (sale of locally produced honey) \nUsually on second Sunday of July. \n 
URL:https://www.wycombefoe.org.uk/event/pann-mill-open-day-4-2-2-2-2-2/
LOCATION:Pann Mill\, The Rye (nr Busy Bees nursery)\, High Wycombe\, HP11 1BJ\, United Kingdom
END:VEVENT
BEGIN:VEVENT
DTSTART;VALUE=DATE:20220711
DTEND;VALUE=DATE:20220712
DTSTAMP:20260425T142814
CREATED:20160502T175327Z
LAST-MODIFIED:20220607T155541Z
UID:5383-1657497600-1657583999@www.wycombefoe.org.uk
SUMMARY:World population day
DESCRIPTION:In 1989\, the Governing Council of the United Nations Development Programme recommended that 11 July be observed by the international community as World Population Day\, a day to focus attention on the urgency and importance of population issues.\n\nWorldwide\, every 11th July.\n\nFor events local to High Wycombe email  highwycombegroup@populationmatters.org\nFor events further afield\, see www.populationmatters.org.
URL:https://www.wycombefoe.org.uk/event/world-population-day-2-2-2-2-2-2/
END:VEVENT
BEGIN:VEVENT
DTSTART;VALUE=DATE:20220728
DTEND;VALUE=DATE:20220729
DTSTAMP:20260425T142814
CREATED:20180724T120746Z
LAST-MODIFIED:20220607T160104Z
UID:5388-1658966400-1659052799@www.wycombefoe.org.uk
SUMMARY:Earth Overshoot Day
DESCRIPTION:Earth Overshoot Day marks the date when humanity’s demand for ecological resources and services in a given year exceeds what Earth can regenerate in that year. We maintain this deficit by liquidating stocks of ecological resources and accumulating waste\, primarily carbon dioxide in the atmosphere. \nEarth Overshoot Day is hosted and calculated by Global Footprint Network\, an international think tank that coordinates research\, develops methodological standards and provides decision-makers with a menu of tools to help the human economy operate within Earth’s ecological limits. \nEvery year has different date depending on how sustainable we are; worldwide.
URL:https://www.wycombefoe.org.uk/event/earth-overshoot-day-2-2-2/
END:VEVENT
BEGIN:VEVENT
DTSTART;VALUE=DATE:20220801
DTEND;VALUE=DATE:20220802
DTSTAMP:20260425T142814
CREATED:20170301T100115Z
LAST-MODIFIED:20220607T193445Z
UID:5398-1659312000-1659398399@www.wycombefoe.org.uk
SUMMARY:OTHER ECO GROUPS & EVENTS
DESCRIPTION:Click links below… \nList of environmental events in the Wycombe area\nThis is a pinned post on the Facebook page of Wycombe Env Centre. \nList of environmental organisations in the Wycombe area\nFor events\, click on the link to their websites and search for ‘what’s on’ or similar.\n \n  \n 
URL:https://www.wycombefoe.org.uk/event/note-other-local-event-listings-10-2-2-8-4-2-3-2-2-2-2-2-2-2-2-2-2-3-2-2-2-2-2-2-2-2-2-2-2-2-2-2-2-2-2-2-2-2-2-2-2-2-2-2-2-2-2-2-2-2-2-2/
END:VEVENT
BEGIN:VEVENT
DTSTART;TZID=Europe/London:20220803T080000
DTEND;TZID=Europe/London:20220803T170000
DTSTAMP:20260425T142814
CREATED:20220711T183540Z
LAST-MODIFIED:20220711T183540Z
UID:5465-1659513600-1659546000@www.wycombefoe.org.uk
SUMMARY:Eco Show on Wycombe Sound (EVERY Wednesday)
DESCRIPTION:New Environment show on local radio “The Afternoon Show”.\nTune in to Wycombe Sound on Wednesday afternoons (1 to 4pm) to hear a lively discussion about sustainability issues.\nTo listen live go to https://listen.wycombesound.org.uk; or listen to the recording at  https://listenagain.wycombesound.org.uk/index.php/shows/Afternoons/
URL:https://www.wycombefoe.org.uk/event/eco-show-on-wycombe-sound-every-wednesday/
END:VEVENT
BEGIN:VEVENT
DTSTART;TZID=Europe/London:20220803T193000
DTEND;TZID=Europe/London:20220803T210000
DTSTAMP:20260425T142814
CREATED:20170129T143413Z
LAST-MODIFIED:20220701T104232Z
UID:5424-1659555000-1659560400@www.wycombefoe.org.uk
SUMMARY:Wycombe FoE Monthly Meeting
DESCRIPTION:Format of meeting (Zoom and/or Physical location).\nAgenda will be published a few days beforehand on our Home page – www.wycombefoe.org.uk.\nWe welcome new input and faces\, so lets hear from you. \n 
URL:https://www.wycombefoe.org.uk/event/wycombe-friends-of-the-earth-monthly-meeting-23-6-2-2-2-3-3-2-3-2-2-2-2-2-2-2-2-2-2-2-2-2-3-3-2-2-2-2-2-3-2-2-2-2-2-2-2-2-2-2-2-2/
END:VEVENT
BEGIN:VEVENT
DTSTART;TZID=Europe/London:20220804T100000
DTEND;TZID=Europe/London:20220804T130000
DTSTAMP:20260425T142814
CREATED:20160409T161011Z
LAST-MODIFIED:20220607T193351Z
UID:5395-1659607200-1659618000@www.wycombefoe.org.uk
SUMMARY:Conservation volunteering (Thursdays; check website!)
DESCRIPTION:Every Thursday the Chiltern Rangers run a volunteer conservation group which is open to all.\nCome along and meet the group at Wycombe Rye Lido Car Park and keep fit while helping to take care of your local environment at woodlands. \nTools\, gloves and hot drinks are provided. Please wear stout footwear and appropriate clothing suitable for outdoors activities and the weather. If you would like to get involved then please contact us – info@chilternrangers.co.uk \nMore events are on their website. \n 
URL:https://www.wycombefoe.org.uk/event/conservation-volunteering-every-thursday-of-the-month-25-4-4-4-3-3-2-2-2-2-2-2-2-2-2-2-3-2-2-2-2-2-2-2-2-2-2-2-2-2-2-2-2-2-3/
LOCATION:Wycombe Lido Swimming pool\, The Rye \, HighWycombe\, United Kingdom
ORGANIZER;CN="Chiltern rangers":MAILTO:info@chilternrangers.co.uk
END:VEVENT
BEGIN:VEVENT
DTSTART;TZID=Europe/London:20220806T103000
DTEND;TZID=Europe/London:20220806T123000
DTSTAMP:20260425T142814
CREATED:20220608T084910Z
LAST-MODIFIED:20220826T071847Z
UID:5409-1659781800-1659789000@www.wycombefoe.org.uk
SUMMARY:Scrapstore 'Refresh' (EVERY Saturday)
DESCRIPTION:A new scrap store (Refresh) run by Wycombe Environment Centre has opened in the Chiltern Shopping Centre (off Frogmoor). \nIt has taken the stock from the old one (Wycombe Resource Zone – which used to be run by the Council\, up at Cressex). \nIt is open every Saturday 10.30am -12.30.
URL:https://www.wycombefoe.org.uk/event/scrapstore-refresh-every-saturday-2/
END:VEVENT
BEGIN:VEVENT
DTSTART;TZID=Europe/London:20220813T100000
DTEND;TZID=Europe/London:20220813T130000
DTSTAMP:20260425T142814
CREATED:20211004T140652Z
LAST-MODIFIED:20220607T193727Z
UID:5400-1660384800-1660395600@www.wycombefoe.org.uk
SUMMARY:Wycombe Repair Café
DESCRIPTION:A Repair Café\, run by volunteers and organised by Wycombe Environment\, is operating in High Wycombe (All Saints Parish Church in the centre of High Wycombe). Bring your broken household items that you cannot fix commercially (mechanical\, textile or small electrical) and you may be able to get them repaired. There will be no charge (except if a new part is required)\, although any donations will be very welcome. \nEvery 2nd Saturday of the month\, in High Wycombe.\n(note also that there are other Repair Cafes nearby\, eg in Marlow and Hazlemere)
URL:https://www.wycombefoe.org.uk/event/repair-cafe-2-2-2-2-2-2-2-2-2-2-2/
LOCATION:Church Street\, Church Street\, High Wycombe\, HP11 2DE\, United Kingdom
END:VEVENT
BEGIN:VEVENT
DTSTART;VALUE=DATE:20220823
DTEND;VALUE=DATE:20220902
DTSTAMP:20260425T142814
CREATED:20210220T170813Z
LAST-MODIFIED:20220607T194411Z
UID:5402-1661212800-1662076799@www.wycombefoe.org.uk
SUMMARY:Water week
DESCRIPTION:Join us for an intensive week of learning and collaboration on the theme Building Resilience Faster. Together we can develop solutions to address climate change and other water-related challenges. \nStarting 4th Monday or Tuesday in August. Worldwide.
URL:https://www.wycombefoe.org.uk/event/water-week-2/
END:VEVENT
BEGIN:VEVENT
DTSTART;VALUE=DATE:20220901
DTEND;VALUE=DATE:20220902
DTSTAMP:20260425T142814
CREATED:20170301T100115Z
LAST-MODIFIED:20220701T144001Z
UID:5426-1661990400-1662076799@www.wycombefoe.org.uk
SUMMARY:OTHER ECO GROUPS & EVENTS
DESCRIPTION:Click links below… \nList of environmental events in the Wycombe area\nThis is a pinned post on the Facebook page of Wycombe Env Centre. \nList of environmental organisations in the Wycombe area\nFor events\, click on the link to their websites and search for ‘what’s on’ or similar.\n \n  \n 
URL:https://www.wycombefoe.org.uk/event/note-other-local-event-listings-10-2-2-8-4-2-3-2-2-2-2-2-2-2-2-2-2-3-2-2-2-2-2-2-2-2-2-2-2-2-2-2-2-2-2-2-2-2-2-2-2-2-2-2-2-2-2-2-2-2-2-2-2/
END:VEVENT
BEGIN:VEVENT
DTSTART;TZID=Europe/London:20220901T100000
DTEND;TZID=Europe/London:20220901T130000
DTSTAMP:20260425T142814
CREATED:20160409T161011Z
LAST-MODIFIED:20220701T144231Z
UID:5430-1662026400-1662037200@www.wycombefoe.org.uk
SUMMARY:Chiltern Rangers Conservation (Thursdays; but check their website!)
DESCRIPTION:Every Thursday the Chiltern Rangers run a volunteer conservation group which is open to all.\nCome along and meet the group at Wycombe Rye Lido Car Park and keep fit while helping to take care of your local environment at woodlands. \nTools\, gloves and hot drinks are provided. Please wear stout footwear and appropriate clothing suitable for outdoors activities and the weather. If you would like to get involved then please contact us – info@chilternrangers.co.uk \nMore events are on their website. \n 
URL:https://www.wycombefoe.org.uk/event/conservation-volunteering-every-thursday-of-the-month-25-4-4-4-3-3-2-2-2-2-2-2-2-2-2-2-3-2-2-2-2-2-2-2-2-2-2-2-2-2-2-2-2-2-3-2/
LOCATION:Wycombe Lido Swimming pool\, The Rye \, HighWycombe\, United Kingdom
ORGANIZER;CN="Chiltern rangers":MAILTO:info@chilternrangers.co.uk
END:VEVENT
BEGIN:VEVENT
DTSTART;TZID=Europe/London:20220903T103000
DTEND;TZID=Europe/London:20220903T123000
DTSTAMP:20260425T142814
CREATED:20220608T084910Z
LAST-MODIFIED:20220826T071938Z
UID:5434-1662201000-1662208200@www.wycombefoe.org.uk
SUMMARY:Scrapstore 'Refresh' (EVERY Saturday)
DESCRIPTION:A new scrap store (Refresh) run by Wycombe Environment Centre has opened in the Chiltern Shopping Centre (off Frogmoor). \nIt has taken the stock from the old one (Wycombe Resource Zone – which used to be run by the Council\, up at Cressex).
URL:https://www.wycombefoe.org.uk/event/scrapstore-refresh-every-saturday-2-2/
END:VEVENT
BEGIN:VEVENT
DTSTART;TZID=Europe/London:20220907T193000
DTEND;TZID=Europe/London:20220907T210000
DTSTAMP:20260425T142814
CREATED:20170129T143413Z
LAST-MODIFIED:20220826T070807Z
UID:5428-1662579000-1662584400@www.wycombefoe.org.uk
SUMMARY:Wycombe FoE Monthly Meeting (social in Mad Squirrel! - see Home Page)
DESCRIPTION:Format of meeting (Zoom and/or Physical location).\nAgenda will be published a few days beforehand on our Home page – www.wycombefoe.org.uk.\nWe welcome new input and faces\, so lets hear from you. \n 
URL:https://www.wycombefoe.org.uk/event/wycombe-friends-of-the-earth-monthly-meeting-23-6-2-2-2-3-3-2-3-2-2-2-2-2-2-2-2-2-2-2-2-2-3-3-2-2-2-2-2-3-2-2-2-2-2-2-2-2-2-2-2-3/
END:VEVENT
BEGIN:VEVENT
DTSTART;TZID=Europe/London:20220910T100000
DTEND;TZID=Europe/London:20220910T130000
DTSTAMP:20260425T142814
CREATED:20211004T140652Z
LAST-MODIFIED:20220701T144344Z
UID:5432-1662804000-1662814800@www.wycombefoe.org.uk
SUMMARY:Wycombe Repair Café
DESCRIPTION:A Repair Café\, run by volunteers and organised by Wycombe Environment\, is operating in High Wycombe (All Saints Parish Church in the centre of High Wycombe). Bring your broken household items that you cannot fix commercially (mechanical\, textile or small electrical) and you may be able to get them repaired. There will be no charge (except if a new part is required)\, although any donations will be very welcome. \nEvery 2nd Saturday of the month\, in High Wycombe.\n(note also that there are other Repair Cafes nearby\, eg in Marlow and Hazlemere)
URL:https://www.wycombefoe.org.uk/event/repair-cafe-2-2-2-2-2-2-2-2-2-2-2-2/
LOCATION:Church Street\, Church Street\, High Wycombe\, HP11 2DE\, United Kingdom
END:VEVENT
BEGIN:VEVENT
DTSTART;VALUE=DATE:20220911
DTEND;VALUE=DATE:20220912
DTSTAMP:20260425T142814
CREATED:20170129T151405Z
LAST-MODIFIED:20220701T224319Z
UID:5438-1662854400-1662940799@www.wycombefoe.org.uk
SUMMARY:Pann Mill Open day
DESCRIPTION:Opens 11am. Closes about 5pm. \nEnjoy a walk round the Rye and pay a visit to Pann Mill outdoor ‘cafe’ for cake/tea/coffee\, view the variety of stands\, or go into the mill itself to see how it works. \nFlour made in Pann Mill is usually on sale (dependent on water levels). \nLikely eco stalls: Wycombe Friends of the Earth and High Wycombe Beekeepers. \nUsually second Sunday. Coincides with Heritage Open Days.
URL:https://www.wycombefoe.org.uk/event/pann-mill-open-day-5-2-2-2-2-2/
LOCATION:Pann Mill\, The Rye (nr Busy Bees nursery)\, High Wycombe\, HP11 1BJ\, United Kingdom
CATEGORIES:Uptodate for 2018
END:VEVENT
BEGIN:VEVENT
DTSTART;VALUE=DATE:20220916
DTEND;VALUE=DATE:20220917
DTSTAMP:20260425T142814
CREATED:20160601T151917Z
LAST-MODIFIED:20220701T145715Z
UID:5440-1663286400-1663372799@www.wycombefoe.org.uk
SUMMARY:Ozone layer day
DESCRIPTION:UN international Day for the Preservation of the Ozone Layer. \nWorldwide\, every 16th September.
URL:https://www.wycombefoe.org.uk/event/ozone-layer-day-2-2-2-2-2-2/
CATEGORIES:Uptodate for 2017,Uptodate for 2018
END:VEVENT
BEGIN:VEVENT
DTSTART;VALUE=DATE:20220919
DTEND;VALUE=DATE:20220926
DTSTAMP:20260425T142814
CREATED:20160601T151032Z
LAST-MODIFIED:20220701T154127Z
UID:5444-1663545600-1664150399@www.wycombefoe.org.uk
SUMMARY:Recycle week
DESCRIPTION:The aim of the week is to encourage people to think about all those items that often get forgotten about when recycling at home. And to encourage people to recycle more\, waste less and take up the challenge for sustainable living. \nFrom third (or fourth) Monday in September\, to Sunday. \n 
URL:https://www.wycombefoe.org.uk/event/recycle-week-2-2-2-2-2-2/
CATEGORIES:Uptodate for 2018
END:VEVENT
BEGIN:VEVENT
DTSTART;VALUE=DATE:20220921
DTEND;VALUE=DATE:20220922
DTSTAMP:20260425T142814
CREATED:20200606T180738Z
LAST-MODIFIED:20220701T154316Z
UID:5446-1663718400-1663804799@www.wycombefoe.org.uk
SUMMARY:Zero emissions day
DESCRIPTION:The Global 24 hour Moratorium on the use of Fossil Fuels. \nWorldwide\, every 21 September
URL:https://www.wycombefoe.org.uk/event/zero-emissions-day-2-2/
END:VEVENT
BEGIN:VEVENT
DTSTART;VALUE=DATE:20220922
DTEND;VALUE=DATE:20220923
DTSTAMP:20260425T142814
CREATED:20160601T153314Z
LAST-MODIFIED:20220701T154433Z
UID:5448-1663804800-1663891199@www.wycombefoe.org.uk
SUMMARY:Car free day
DESCRIPTION:On 22 September people from around the world get together in the streets\, intersections\, and neighbourhood blocks to remind the world that we don’t have to accept our car-dominated society. \n(Worldwide\, every 22 September)
URL:https://www.wycombefoe.org.uk/event/car-free-day-2-2-2-2/
END:VEVENT
BEGIN:VEVENT
DTSTART;VALUE=DATE:20220924
DTEND;VALUE=DATE:20221003
DTSTAMP:20260425T142814
CREATED:20210615T073246Z
LAST-MODIFIED:20220701T153845Z
UID:5442-1663977600-1664755199@www.wycombefoe.org.uk
SUMMARY:Great Big Green Week
DESCRIPTION:In September communities across the country will join together for the Great Big Green Week. It will be the biggest event for climate and nature ever in the UK\, and everyone’s invited. \nEvents will range from art installations\, to concerts to community stalls\, to climate cafes\, and everything in between; hosted by teachers\, bus drivers\, sport clubs\, artists\, community groups\, places of worship\, builders and anyone who cares about climate change. \nUK\, every September (4th or last Saturday).
URL:https://www.wycombefoe.org.uk/event/great-big-green-week-2/
END:VEVENT
BEGIN:VEVENT
DTSTART;VALUE=DATE:20220926
DTEND;VALUE=DATE:20220927
DTSTAMP:20260425T142814
CREATED:20190601T170342Z
LAST-MODIFIED:20220701T154649Z
UID:5450-1664150400-1664236799@www.wycombefoe.org.uk
SUMMARY:World Contraception Day
DESCRIPTION:The annual worldwide campaign centres around a vision where every pregnancy is wanted. Launched in 2007\, WCD’s mission is to improve awareness of contraception and to enable young people to make informed choices on their sexual and reproductive health. \nFrom a sustainability and climate change viewpoint this is also important because having one fewer child has a similar impact as going vegan\, not flying\, not driving or not using fossil fuels. \nWorldwide\, every 26th September.
URL:https://www.wycombefoe.org.uk/event/world-contraception-day-2-2-2/
END:VEVENT
BEGIN:VEVENT
DTSTART;VALUE=DATE:20221001
DTEND;VALUE=DATE:20221002
DTSTAMP:20260425T142814
CREATED:20170131T113143Z
LAST-MODIFIED:20220826T083903Z
UID:5502-1664582400-1664668799@www.wycombefoe.org.uk
SUMMARY:Vegetarian day
DESCRIPTION:To raise awareness of the benefits of a vegetarian diet in terms of ethics and environmental sustainability. \nA vegetarian avoids all meat incl fish\, but eats dairy and eggs. \nWorldwide\, every 1st October.
URL:https://www.wycombefoe.org.uk/event/vegetarian-day-2-2-2-2/
END:VEVENT
BEGIN:VEVENT
DTSTART;TZID=Europe/London:20221001T100000
DTEND;TZID=Europe/London:20221001T160000
DTSTAMP:20260425T142815
CREATED:20220608T084910Z
LAST-MODIFIED:20221019T135624Z
UID:5492-1664618400-1664640000@www.wycombefoe.org.uk
SUMMARY:Scrapstore 'Refresh' (EVERY Saturday)
DESCRIPTION:A new scrap store (Refresh) run by Wycombe Environment Centre has opened in the Chiltern Shopping Centre (off Frogmoor). \nIt has taken the stock from the old one (Wycombe Resource Zone – which used to be run by the Council\, up at Cressex).
URL:https://www.wycombefoe.org.uk/event/scrapstore-refresh-every-saturday-2-2-2/
END:VEVENT
BEGIN:VEVENT
DTSTART;VALUE=DATE:20221003
DTEND;VALUE=DATE:20221004
DTSTAMP:20260425T142815
CREATED:20170301T100115Z
LAST-MODIFIED:20220930T164537Z
UID:5494-1664755200-1664841599@www.wycombefoe.org.uk
SUMMARY:OTHER ECO GROUPS & EVENTS
DESCRIPTION:Click links below… \nList of environmental events in the Wycombe area\nThis is a pinned post on the Facebook page of Wycombe Env Centre. \nList of environmental organisations in the Wycombe area\nFor events\, click on the link to their websites and search for ‘what’s on’ or similar.\n \n  \n 
URL:https://www.wycombefoe.org.uk/event/note-other-local-event-listings-10-2-2-8-4-2-3-2-2-2-2-2-2-2-2-2-2-3-2-2-2-2-2-2-2-2-2-2-2-2-2-2-2-2-2-2-2-2-2-2-2-2-2-2-2-2-2-2-2-2-2-2-2-2/
END:VEVENT
BEGIN:VEVENT
DTSTART;VALUE=DATE:20221004
DTEND;VALUE=DATE:20221005
DTSTAMP:20260425T142815
CREATED:20160802T134335Z
LAST-MODIFIED:20220826T081925Z
UID:5506-1664841600-1664927999@www.wycombefoe.org.uk
SUMMARY:Animal welfare day
DESCRIPTION:The aim of Animal welfare day is to raise the status of animals in order to improve welfare standards around the globe. To achieve this\, they encourage animal welfare organisations\, community groups\, youth and children’s clubs\, businesses and individuals to organise events in celebration of World Animal Day. \nWorldwide\, every 4th Oct.
URL:https://www.wycombefoe.org.uk/event/animal-welfare-day-2-2-2-2-2/
END:VEVENT
BEGIN:VEVENT
DTSTART;VALUE=DATE:20221004
DTEND;VALUE=DATE:20221005
DTSTAMP:20260425T142815
CREATED:20190814T092204Z
LAST-MODIFIED:20220826T081807Z
UID:5504-1664841600-1664927999@www.wycombefoe.org.uk
SUMMARY:'No disposable cup' day
DESCRIPTION:Founded by councillor Ed Gemmell in 2019 (4 October is the feast day of St Francis of Assisi who it the patron saint of the environment) \nThe aim is to…\n1. get everyone not to use a disposable cup for one day while raising awareness of the massive waste problem caused by disposable cups \n2. get disposable cups withdrawn or banned completely \n3. help in the battle against global heating and climate change. \nEvery 4th Oct\, worldwide.
URL:https://www.wycombefoe.org.uk/event/no-disposable-cup-day-2-2-2/
END:VEVENT
BEGIN:VEVENT
DTSTART;VALUE=DATE:20221005
DTEND;VALUE=DATE:20221006
DTSTAMP:20260425T142815
CREATED:20200606T181020Z
LAST-MODIFIED:20220826T082144Z
UID:5508-1664928000-1665014399@www.wycombefoe.org.uk
SUMMARY:Energy efficiency day
DESCRIPTION:But efficiency is year-round. Save Money. Cut Carbon. Breathe Easier. \nWorldwide\, every ?5th October.
URL:https://www.wycombefoe.org.uk/event/energy-efficiency-day-2-2/
END:VEVENT
BEGIN:VEVENT
DTSTART;TZID=Europe/London:20221005T193000
DTEND;TZID=Europe/London:20221005T210000
DTSTAMP:20260425T142815
CREATED:20170129T143413Z
LAST-MODIFIED:20220826T081249Z
UID:5500-1664998200-1665003600@www.wycombefoe.org.uk
SUMMARY:Wycombe FoE Monthly Meeting
DESCRIPTION:Format of meeting (Zoom and/or Physical location).\nAgenda will be published a few days beforehand on our Home page – www.wycombefoe.org.uk.\nWe welcome new input and faces\, so lets hear from you. \n 
URL:https://www.wycombefoe.org.uk/event/wycombe-friends-of-the-earth-monthly-meeting-23-6-2-2-2-3-3-2-3-2-2-2-2-2-2-2-2-2-2-2-2-2-3-3-2-2-2-2-2-3-2-2-2-2-2-2-2-2-2-2-2-2-2/
END:VEVENT
BEGIN:VEVENT
DTSTART;TZID=Europe/London:20221006T100000
DTEND;TZID=Europe/London:20221006T130000
DTSTAMP:20260425T142815
CREATED:20160409T161011Z
LAST-MODIFIED:20220826T081006Z
UID:5496-1665050400-1665061200@www.wycombefoe.org.uk
SUMMARY:Chiltern Rangers Conservation (Thursdays; but check their website!)
DESCRIPTION:Every Thursday the Chiltern Rangers run a volunteer conservation group which is open to all.\nCome along and meet the group at Wycombe Rye Lido Car Park and keep fit while helping to take care of your local environment at woodlands. \nTools\, gloves and hot drinks are provided. Please wear stout footwear and appropriate clothing suitable for outdoors activities and the weather. If you would like to get involved then please contact us – info@chilternrangers.co.uk \nMore events are on their website. \n 
URL:https://www.wycombefoe.org.uk/event/conservation-volunteering-every-thursday-of-the-month-25-4-4-4-3-3-2-2-2-2-2-2-2-2-2-2-3-2-2-2-2-2-2-2-2-2-2-2-2-2-2-2-2-2-3-2-2/
LOCATION:Wycombe Lido Swimming pool\, The Rye \, HighWycombe\, United Kingdom
ORGANIZER;CN="Chiltern rangers":MAILTO:info@chilternrangers.co.uk
END:VEVENT
END:VCALENDAR