BEGIN:VCALENDAR
VERSION:2.0
PRODID:-//Wycombe Friends of the Earth - ECPv6.15.17//NONSGML v1.0//EN
CALSCALE:GREGORIAN
METHOD:PUBLISH
X-ORIGINAL-URL:https://www.wycombefoe.org.uk
X-WR-CALDESC:Events for Wycombe Friends of the Earth
REFRESH-INTERVAL;VALUE=DURATION:PT1H
X-Robots-Tag:noindex
X-PUBLISHED-TTL:PT1H
BEGIN:VTIMEZONE
TZID:Europe/London
BEGIN:DAYLIGHT
TZOFFSETFROM:+0000
TZOFFSETTO:+0100
TZNAME:BST
DTSTART:20200329T010000
END:DAYLIGHT
BEGIN:STANDARD
TZOFFSETFROM:+0100
TZOFFSETTO:+0000
TZNAME:GMT
DTSTART:20201025T010000
END:STANDARD
BEGIN:DAYLIGHT
TZOFFSETFROM:+0000
TZOFFSETTO:+0100
TZNAME:BST
DTSTART:20210328T010000
END:DAYLIGHT
BEGIN:STANDARD
TZOFFSETFROM:+0100
TZOFFSETTO:+0000
TZNAME:GMT
DTSTART:20211031T010000
END:STANDARD
BEGIN:DAYLIGHT
TZOFFSETFROM:+0000
TZOFFSETTO:+0100
TZNAME:BST
DTSTART:20220327T010000
END:DAYLIGHT
BEGIN:STANDARD
TZOFFSETFROM:+0100
TZOFFSETTO:+0000
TZNAME:GMT
DTSTART:20221030T010000
END:STANDARD
END:VTIMEZONE
BEGIN:VEVENT
DTSTART;TZID=Europe/London:20210106T193000
DTEND;TZID=Europe/London:20210106T203000
DTSTAMP:20260423T213522
CREATED:20170129T143413Z
LAST-MODIFIED:20201220T195719Z
UID:4673-1609961400-1609965000@www.wycombefoe.org.uk
SUMMARY:Wycombe FoE Monthly Meeting (remote meeting)
DESCRIPTION:We now meet via Zoom.\nEmail us at  wycombefoe@yahoo.co.uk to get a Zoom invite.\nWe welcome new input and faces. \n 
URL:https://www.wycombefoe.org.uk/event/wycombe-friends-of-the-earth-monthly-meeting-23-6-2-2-2-3-3-2-3-2-2-2-2-2-2-2-2-2-2-2-2-2-3-3/
END:VEVENT
BEGIN:VEVENT
DTSTART;VALUE=DATE:20210201
DTEND;VALUE=DATE:20210202
DTSTAMP:20260423T213522
CREATED:20170301T100115Z
LAST-MODIFIED:20210118T112756Z
UID:4707-1612137600-1612223999@www.wycombefoe.org.uk
SUMMARY:OTHER ECO EVENTS & GROUPS
DESCRIPTION:Some local environmental organisations list their own events. \nClick on the link to their websites below and search for ‘what’s on’ or ‘events’: \nChiltern Rangers \nChinnor and Thame Friends of the Earth \nExtinction Rebellion Chilterns \nHigh Wycombe Beekeepers \nHigh Wycombe & Marlow Vegans \nPopulation Matters High Wycombe \nRevive the Wye \nWycombe for Climate Action \nWycombe Environment Centre \nWycombe Wildlife Group \nSee also… \nFood shops and markets selling LOCAL produce \nFriends of the Earth (London) \nMarlow Repair Cafe \nPopulation Matters (London) \nTen Mile Menu (local vegbox delivery)
URL:https://www.wycombefoe.org.uk/event/note-other-local-event-listings-10-2-2-8-4-2-3-2-2-2-2-2-2-2-2-2-2-3-2-2-2-2-2-2-2-2-2-2-2-2-2-2-2-2-2-2/
END:VEVENT
BEGIN:VEVENT
DTSTART;TZID=Europe/London:20210203T193000
DTEND;TZID=Europe/London:20210203T203000
DTSTAMP:20260423T213522
CREATED:20170129T143413Z
LAST-MODIFIED:20210118T112645Z
UID:4705-1612380600-1612384200@www.wycombefoe.org.uk
SUMMARY:Wycombe FoE Monthly Meeting (remote meeting)
DESCRIPTION:We now meet via Zoom.\nEmail us at  wycombefoe@yahoo.co.uk to get a Zoom invite.\nWe welcome new input and faces. \n 
URL:https://www.wycombefoe.org.uk/event/wycombe-friends-of-the-earth-monthly-meeting-23-6-2-2-2-3-3-2-3-2-2-2-2-2-2-2-2-2-2-2-2-2-3-3-2/
END:VEVENT
BEGIN:VEVENT
DTSTART;VALUE=DATE:20210210
DTEND;VALUE=DATE:20210211
DTSTAMP:20260423T213522
CREATED:20211117T194957Z
LAST-MODIFIED:20211117T194957Z
UID:5106-1612915200-1613001599@www.wycombefoe.org.uk
SUMMARY:'Wycombe Environment' group was setup
DESCRIPTION:Wycombe Environment (W.E.) is a nonprofit group of volunteers who are willing to put in some time each week to help people take practical steps to reduce their carbon dioxide and other greenhouse gas emissions\, to increase opportunities for wildlife\, and make other improvements to the environment. \n 
URL:https://www.wycombefoe.org.uk/event/wycombe-environment-group-was-setup/
END:VEVENT
BEGIN:VEVENT
DTSTART;VALUE=DATE:20210222
DTEND;VALUE=DATE:20210308
DTSTAMP:20260423T213522
CREATED:20161102T154715Z
LAST-MODIFIED:20201220T205249Z
UID:4679-1613952000-1615161599@www.wycombefoe.org.uk
SUMMARY:Fairtrade fortnight
DESCRIPTION:For two weeks each year at the end of February and start of March\, thousands of individuals\, companies and groups across the UK come together to share the stories of the people who grow our food and drinks and who grow the cotton in our clothes\, people who are often exploited and underpaid. \nLast Monday of month\, then 2 weeks till Sunday. \n  \n 
URL:https://www.wycombefoe.org.uk/event/fairtrade-fortnight-2-2-2-2-2/
END:VEVENT
BEGIN:VEVENT
DTSTART;VALUE=DATE:20210301
DTEND;VALUE=DATE:20210302
DTSTAMP:20260423T213522
CREATED:20170301T100115Z
LAST-MODIFIED:20210307T115806Z
UID:4735-1614556800-1614643199@www.wycombefoe.org.uk
SUMMARY:OTHER ECO EVENTS & GROUPS
DESCRIPTION:Some local environmental organisations list their own events. \nClick on the link to their websites below and search for ‘what’s on’ or ‘events’: \nBucks Climate Action Alliance\nAlliance of Bucks eco groups focussing on lobbying council. \nChiltern Rangers\nConservation work \nChinnor and Thame Friends of the Earth\nClosest FoE group to WFoE \nExtinction Rebellion Chilterns\nHQ in Marlow \nHigh Wycombe Beekeepers\nBeehive maintenance and Bee welfare \nHigh Wycombe & Marlow Vegans\nPromoting eating less dairy/meat \nLow Carbon Chilterns Cooperative\nInstallation of energy efficiency measures in community buildings \nMarlow CAN\nAlliance of Marlow eco groups \nMarlow Repair Cafe\nWill repair anything for a donation \nPopulation Matters High Wycombe\nPromotion of smaller families to tackle climate change \nRevive the Wye\nMaintenance of the river Wye \nWycombe for Climate Action\nFacebook/social group \nWycombe Environment Centre\nRegistered charity (currently Facebook only) \nWycombe Community Board Env & Climate Change Sub-Group\nCouncil run. \nWycombe Wildlife Group\nWildlife welfare \nSee also “Where to buy eco products” (under “Links”)
URL:https://www.wycombefoe.org.uk/event/note-other-local-event-listings-10-2-2-8-4-2-3-2-2-2-2-2-2-2-2-2-2-3-2-2-2-2-2-2-2-2-2-2-2-2-2-2-2-2-2-2-2/
END:VEVENT
BEGIN:VEVENT
DTSTART;VALUE=DATE:20210303
DTEND;VALUE=DATE:20210304
DTSTAMP:20260423T213522
CREATED:20161212T195416Z
LAST-MODIFIED:20210219T153127Z
UID:4743-1614729600-1614815999@www.wycombefoe.org.uk
SUMMARY:Wildlife day
DESCRIPTION:World wildlife day. \nOn 20 December 2013\, at its 68th session\, the United Nations General Assembly (UNGA) decided to proclaim 3 March\, the day of signature of the Convention on International Trade in Endangered Species of Wild Fauna and Flora (CITES)\, as UN World Wildlife Day to celebrate and raise awareness of the world’s wild animals and plants. The UNGA resolution also designated the CITES Secretariat as the facilitator for the global observance of this special day for wildlife on the UN calendar. \nEvery 3 March. Worldwide.
URL:https://www.wycombefoe.org.uk/event/wildlife-day-2-2-2-2/
END:VEVENT
BEGIN:VEVENT
DTSTART;TZID=Europe/London:20210303T193000
DTEND;TZID=Europe/London:20210303T203000
DTSTAMP:20260423T213522
CREATED:20170129T143413Z
LAST-MODIFIED:20210219T152846Z
UID:4741-1614799800-1614803400@www.wycombefoe.org.uk
SUMMARY:Wycombe FoE Monthly Meeting (Zoom!)
DESCRIPTION:We now meet remotely via Zoom.\nEmail us at  wycombefoe@yahoo.co.uk to get a Zoom invite.\nWhat’s bothering you in terms of the environment?\nWe welcome new input and faces. \n 
URL:https://www.wycombefoe.org.uk/event/wycombe-friends-of-the-earth-monthly-meeting-23-6-2-2-2-3-3-2-3-2-2-2-2-2-2-2-2-2-2-2-2-2-3-3-2-2/
END:VEVENT
BEGIN:VEVENT
DTSTART;TZID=Europe/London:20210304T080000
DTEND;TZID=Europe/London:20210304T170000
DTSTAMP:20260423T213522
CREATED:20210105T183705Z
LAST-MODIFIED:20210105T183705Z
UID:4692-1614844800-1614877200@www.wycombefoe.org.uk
SUMMARY:Marlow Energy Group - Anniversary
DESCRIPTION:Marlow Energy Group was registered as a Community Benefit Society on 4th March 2020. The group focusses on renewable energy retrofits on homes & schools in Marlow e.g. solar PV and heat pumps. Events are listed on their website.
URL:https://www.wycombefoe.org.uk/event/marlow-energy-group-anniversary/
END:VEVENT
BEGIN:VEVENT
DTSTART;VALUE=DATE:20210321
DTEND;VALUE=DATE:20210322
DTSTAMP:20260423T213522
CREATED:20161207T163025Z
LAST-MODIFIED:20210219T153348Z
UID:4745-1616284800-1616371199@www.wycombefoe.org.uk
SUMMARY:Forestry Day
DESCRIPTION:International day of forests. Organised by United Nations. \nWorldwide. \nEvery 21st March.
URL:https://www.wycombefoe.org.uk/event/forestry-day-2-2-2-2-2/
END:VEVENT
BEGIN:VEVENT
DTSTART;VALUE=DATE:20210321
DTEND;VALUE=DATE:20210322
DTSTAMP:20260423T213522
CREATED:20171209T180916Z
LAST-MODIFIED:20201222T115813Z
UID:2846-1616284800-1616371199@www.wycombefoe.org.uk
SUMMARY:Population census for England and Wales - in 2021
DESCRIPTION:Every 10 years the Office for national statistics (ONS) conducts a census to determine the number of people currently living in England and Wales. \nThe number of people determines the amount of development needed (e.g. houses and roads) and contributes to carbon emissions and resource scarcity (minerals\, green areas\, land for growing food etc).
URL:https://www.wycombefoe.org.uk/event/population-census-for-england-and-wales-in-2021/
END:VEVENT
BEGIN:VEVENT
DTSTART;VALUE=DATE:20210322
DTEND;VALUE=DATE:20210323
DTSTAMP:20260423T213522
CREATED:20190108T155359Z
LAST-MODIFIED:20210219T153439Z
UID:4747-1616371200-1616457599@www.wycombefoe.org.uk
SUMMARY:Water Day
DESCRIPTION:Organised by United Nations. \nWorldwide. \nEvery 22 March.
URL:https://www.wycombefoe.org.uk/event/water-day-3-2-2/
END:VEVENT
BEGIN:VEVENT
DTSTART;TZID=Europe/London:20210327T203000
DTEND;TZID=Europe/London:20210327T213000
DTSTAMP:20260423T213522
CREATED:20161207T162630Z
LAST-MODIFIED:20210219T153654Z
UID:4749-1616877000-1616880600@www.wycombefoe.org.uk
SUMMARY:Earth Hour
DESCRIPTION:Earth Hour is an annual event where hundreds of millions of people switch off their lights for one hour (8.30-9.30pm) to show they care about our planet. Discover a new world without electricity… \nLast Saturday of March. Worldwide.
URL:https://www.wycombefoe.org.uk/event/earth-hour-3-2-2-2-2/
END:VEVENT
BEGIN:VEVENT
DTSTART;VALUE=DATE:20210401
DTEND;VALUE=DATE:20210402
DTSTAMP:20260423T213522
CREATED:20170301T100115Z
LAST-MODIFIED:20210326T161847Z
UID:4780-1617235200-1617321599@www.wycombefoe.org.uk
SUMMARY:OTHER ECO EVENTS & GROUPS
DESCRIPTION:List of environmental organisations in the Wycombe area \nFor events\, click on the link to their websites and search for ‘what’s on’ or similar. \nBucks Climate Action Alliance\nAlliance of Bucks community & green groups focussing on lobbying the council. \nChiltern Rangers\nConservation and tree planting. \nChinnor and Thame Friends of the Earth\nClosest FoE group to WFoE \nExtinction Rebellion Chilterns\nCovers Wycombe\, Marlow\, Beaconsfield\, Maidenhead and more \nHigh Wycombe Beekeepers\nBeehive maintenance and Bee welfare \nHigh Wycombe & Marlow Vegans\nPromoting eating less dairy/meat \nLow Carbon Chilterns Cooperative\nEnergy efficiency measures in community buildings \nMarlow CAN\nAlliance of Marlow eco groups \nMarlow Repair Café\nRepair anything for a donation \nPopulation Matters High Wycombe\nPromotion of smaller families to tackle climate change \nRevive the Wye\nMaintenance of the river Wye and promotion of benefits to community\n(Friends of the Wye carry out Wye’s conservation work) \nWycombe for Climate Action\nFacebook/social group \nWycombe Environment Centre\nRegistered charity (Facebook only) \nWycombe Friends of the Earth\nNon-profit campaigning group covering High Wycombe and surrounding area \nWycombe Wildlife Group\nWildlife welfare \nBuckinghamshire Council Community Boards\nBuckinghamshire Council operates a system of “Community Boards” that help support community projects. See the Bucks Council website for details.
URL:https://www.wycombefoe.org.uk/event/note-other-local-event-listings-10-2-2-8-4-2-3-2-2-2-2-2-2-2-2-2-2-3-2-2-2-2-2-2-2-2-2-2-2-2-2-2-2-2-2-2-2-2/
END:VEVENT
BEGIN:VEVENT
DTSTART;TZID=Europe/London:20210407T193000
DTEND;TZID=Europe/London:20210407T203000
DTSTAMP:20260423T213522
CREATED:20170129T143413Z
LAST-MODIFIED:20210306T183904Z
UID:4782-1617823800-1617827400@www.wycombefoe.org.uk
SUMMARY:Wycombe FoE Monthly Meeting (Zoom!)
DESCRIPTION:We now meet remotely via Zoom.\nEmail us at  wycombefoe@yahoo.co.uk to get a Zoom invite.\nWe welcome new input and faces. \n 
URL:https://www.wycombefoe.org.uk/event/wycombe-friends-of-the-earth-monthly-meeting-23-6-2-2-2-3-3-2-3-2-2-2-2-2-2-2-2-2-2-2-2-2-3-3-2-2-2/
END:VEVENT
BEGIN:VEVENT
DTSTART;VALUE=DATE:20210422
DTEND;VALUE=DATE:20210423
DTSTAMP:20260423T213522
CREATED:20161207T163635Z
LAST-MODIFIED:20210306T184257Z
UID:4784-1619049600-1619135999@www.wycombefoe.org.uk
SUMMARY:Earth Day
DESCRIPTION:Celebrate our planet. Find an event near you. \nOrganised by Earth Day Network. \nWorldwide. Every 22nd April.
URL:https://www.wycombefoe.org.uk/event/earth-day-2-2-2-2-2/
CATEGORIES:Uptodate for 2019
END:VEVENT
BEGIN:VEVENT
DTSTART;VALUE=DATE:20210501
DTEND;VALUE=DATE:20210502
DTSTAMP:20260423T213522
CREATED:20170301T100115Z
LAST-MODIFIED:20230203T201552Z
UID:5322-1619827200-1619913599@www.wycombefoe.org.uk
SUMMARY:OTHER ECO EVENTS & GROUPS
DESCRIPTION:List of environmental organisations in the Wycombe area \nFor events\, click on the link to their websites and search for ‘what’s on’ or similar. \nBucks Climate Action Alliance\nAlliance of Bucks community & green groups focussing on lobbying the council. \nChiltern Rangers\nConservation and tree planting. \nChinnor and Thame Friends of the Earth\nClosest FoE group to WFoE \nExtinction Rebellion Chilterns\nCovers Wycombe\, Marlow\, Beaconsfield\, Maidenhead and more \nHigh Wycombe Beekeepers\nBeehive maintenance and Bee welfare \nHigh Wycombe & Marlow Vegans\nPromoting eating less dairy/meat \nLow Carbon Chilterns Cooperative\nEnergy efficiency measures in community buildings \nMarlow CAN\nAlliance of Marlow eco groups \nMarlow Repair Café\nRepair anything for a donation \nPopulation Matters High Wycombe\nPromotion of smaller families to tackle climate change \nRevive the Wye\nMaintenance of the river Wye and promotion of benefits to community\n(Friends of the Wye carry out Wye’s conservation work) \nWycombe for Climate Action\nFacebook/social group \nWycombe Environment Centre\nRegistered charity (Facebook only) \nWycombe Friends of the Earth\nNon-profit campaigning group covering High Wycombe and surrounding area \nWycombe Wildlife Group\nWildlife welfare \nBuckinghamshire Council Community Boards\nBuckinghamshire Council operates a system of “Community Boards” that help support community projects. See the Bucks Council website for details.
URL:https://www.wycombefoe.org.uk/event/note-other-local-event-listings-10-2-2-8-4-2-3-2-2-2-2-2-2-2-2-2-2-3-2-2-2-2-2-2-2-2-2-2-2-2-2-2-2-2-2-2-2-2-3/
END:VEVENT
BEGIN:VEVENT
DTSTART;VALUE=DATE:20210501
DTEND;VALUE=DATE:20210502
DTSTAMP:20260423T213522
CREATED:20170301T100115Z
LAST-MODIFIED:20240307T203000Z
UID:6532-1619827200-1619913599@www.wycombefoe.org.uk
SUMMARY:OTHER ECO EVENTS & GROUPS
DESCRIPTION:List of environmental organisations in the Wycombe area \nFor events\, click on the link to their websites and search for ‘what’s on’ or similar. \nBucks Climate Action Alliance\nAlliance of Bucks community & green groups focussing on lobbying the council. \nChiltern Rangers\nConservation and tree planting. \nChinnor and Thame Friends of the Earth\nClosest FoE group to WFoE \nExtinction Rebellion Chilterns\nCovers Wycombe\, Marlow\, Beaconsfield\, Maidenhead and more \nHigh Wycombe Beekeepers\nBeehive maintenance and Bee welfare \nHigh Wycombe & Marlow Vegans\nPromoting eating less dairy/meat \nLow Carbon Chilterns Cooperative\nEnergy efficiency measures in community buildings \nMarlow CAN\nAlliance of Marlow eco groups \nMarlow Repair Café\nRepair anything for a donation \nPopulation Matters High Wycombe\nPromotion of smaller families to tackle climate change \nRevive the Wye\nMaintenance of the river Wye and promotion of benefits to community\n(Friends of the Wye carry out Wye’s conservation work) \nWycombe for Climate Action\nFacebook/social group \nWycombe Environment Centre\nRegistered charity (Facebook only) \nWycombe Friends of the Earth\nNon-profit campaigning group covering High Wycombe and surrounding area \nWycombe Wildlife Group\nWildlife welfare \nBuckinghamshire Council Community Boards\nBuckinghamshire Council operates a system of “Community Boards” that help support community projects. See the Bucks Council website for details.
URL:https://www.wycombefoe.org.uk/event/note-other-local-event-listings-10-2-2-8-4-2-3-2-2-2-2-2-2-2-2-2-2-3-2-2-2-2-2-2-2-2-2-2-2-2-2-2-2-2-2-2-2-2-3-2/
END:VEVENT
BEGIN:VEVENT
DTSTART;VALUE=DATE:20210502
DTEND;VALUE=DATE:20210509
DTSTAMP:20260423T213522
CREATED:20170129T145017Z
LAST-MODIFIED:20210410T135951Z
UID:4822-1619913600-1620518399@www.wycombefoe.org.uk
SUMMARY:Compost awareness week
DESCRIPTION:Find out about the importance of composting and learn how to do it. \nFurther info in UK: www.homecomposting.org.uk and www.gardenorganic.org.uk. \nStarts every first Sunday of May\, till Saturday. Worldwide. \n 
URL:https://www.wycombefoe.org.uk/event/compost-awareness-week-2-2-2-2-2/
END:VEVENT
BEGIN:VEVENT
DTSTART;TZID=Europe/London:20210505T193000
DTEND;TZID=Europe/London:20210505T203000
DTSTAMP:20260423T213522
CREATED:20170129T143413Z
LAST-MODIFIED:20210410T140149Z
UID:4824-1620243000-1620246600@www.wycombefoe.org.uk
SUMMARY:Wycombe FoE Monthly Meeting (Zoom!)
DESCRIPTION:We now meet remotely via Zoom.\nEmail us at  wycombefoe@yahoo.co.uk to get a Zoom invite.\nWe welcome new input and faces. \n 
URL:https://www.wycombefoe.org.uk/event/wycombe-friends-of-the-earth-monthly-meeting-23-6-2-2-2-3-3-2-3-2-2-2-2-2-2-2-2-2-2-2-2-2-3-3-2-2-2-2/
END:VEVENT
BEGIN:VEVENT
DTSTART;VALUE=DATE:20210508
DTEND;VALUE=DATE:20210509
DTSTAMP:20260423T213522
CREATED:20170129T145809Z
LAST-MODIFIED:20210410T140522Z
UID:4826-1620432000-1620518399@www.wycombefoe.org.uk
SUMMARY:World Fairtrade Day
DESCRIPTION:Fair Trade is an agent for change. It is a tangible solution to poverty eradication\, a good tool for sustainable development\, and most of all Fair Trade promotes social justice. \nContact High Wycombe Fairtrade group to find out if any events/stalls are happening in your area – www.wycombefairtrade.org.uk/ \nWorldwide. Every 2nd Saturday of May. \n 
URL:https://www.wycombefoe.org.uk/event/world-fairtrade-day-2-2-2-2-2/
END:VEVENT
BEGIN:VEVENT
DTSTART;VALUE=DATE:20210510
DTEND;VALUE=DATE:20210517
DTSTAMP:20260423T213522
CREATED:20160406T132935Z
LAST-MODIFIED:20210410T145749Z
UID:4830-1620604800-1621209599@www.wycombefoe.org.uk
SUMMARY:Vegetarian week
DESCRIPTION:What we eat has a huge impact on our environment. See website for further details/events. \nUK \nEvery 2nd (or 3rd) Monday in May\, to Sunday. \n 
URL:https://www.wycombefoe.org.uk/event/vegetarian-week-2-2-2-2/
END:VEVENT
BEGIN:VEVENT
DTSTART;VALUE=DATE:20210517
DTEND;VALUE=DATE:20210518
DTSTAMP:20260423T213522
CREATED:20160217T170728Z
LAST-MODIFIED:20210410T141849Z
UID:4828-1621209600-1621295999@www.wycombefoe.org.uk
SUMMARY:Anniversary of Environment Centre (2001)
DESCRIPTION:The Wycombe Environment Centre (on Holywell Mead near the Rye) was founded in 17 May 2001 by Frances Alexander. \nDue to financial constraints it has re-located a number of times e.g. to West Wycombe Rd and to Chilterns Shopping Centre (2014-2016). \nContact details on website www.ecobuzz.org.uk/contact\nor message them via Facebook – www.facebook.com/WycombeEnvironmentCentre \n 
URL:https://www.wycombefoe.org.uk/event/anniversary-of-wycombe-environment-centre-2003-2-2-2-2/
LOCATION:Wycombe Environment Centre\, Chilterns Shopping Centre\,\, High Wycombe\, HP13 5ES
END:VEVENT
BEGIN:VEVENT
DTSTART;VALUE=DATE:20210517
DTEND;VALUE=DATE:20210522
DTSTAMP:20260423T213522
CREATED:20160406T114605Z
LAST-MODIFIED:20210410T145647Z
UID:4832-1621209600-1621641599@www.wycombefoe.org.uk
SUMMARY:Walk to school week
DESCRIPTION:Join over a million pupils and their families to celebrate walking to school. \nChallenge everyone in your school to walk every day during Walk to School Week and make a real difference to your children’s happiness and wellbeing. \nUK. \nEvery 3rd Monday of May\, till Friday.
URL:https://www.wycombefoe.org.uk/event/walk-to-school-week-2-2-2-2/
END:VEVENT
BEGIN:VEVENT
DTSTART;VALUE=DATE:20210520
DTEND;VALUE=DATE:20210521
DTSTAMP:20260423T213522
CREATED:20210220T164813Z
LAST-MODIFIED:20210220T164813Z
UID:4754-1621468800-1621555199@www.wycombefoe.org.uk
SUMMARY:Bee day
DESCRIPTION:Bees and other pollinators\, such as butterflies\, bats and hummingbirds\, are increasingly under threat from human activities. \nPollination is\, however\, a fundamental process for the survival of our ecosystems. Nearly 90% of the world’s wild flowering plant species depend\, entirely\, or at least in part\, on animal pollination\, along with more than 75% of the world’s food crops and 35% of global agricultural land. Not only do pollinators contribute directly to food security\, but they are key to conserving biodiversity. \nEvery 20th May. Worldwide.
URL:https://www.wycombefoe.org.uk/event/bee-day/
END:VEVENT
BEGIN:VEVENT
DTSTART;VALUE=DATE:20210522
DTEND;VALUE=DATE:20210523
DTSTAMP:20260423T213522
CREATED:20170129T153226Z
LAST-MODIFIED:20210220T164538Z
UID:4752-1621641600-1621727999@www.wycombefoe.org.uk
SUMMARY:Biological diversity day
DESCRIPTION:The United Nations has proclaimed May 22 The International Day for Biological Diversity (IDB) to increase understanding and awareness of biodiversity issues. \nEvery 22nd May. Worldwid
URL:https://www.wycombefoe.org.uk/event/biological-diversity-day-2-2-2/
END:VEVENT
BEGIN:VEVENT
DTSTART;VALUE=DATE:20210530
DTEND;VALUE=DATE:20210606
DTSTAMP:20260423T213522
CREATED:20160406T150318Z
LAST-MODIFIED:20210515T200929Z
UID:4409-1622332800-1622937599@www.wycombefoe.org.uk
SUMMARY:Bike week
DESCRIPTION:Bike Week\, delivered by Cycling UK\, is an annual celebration to showcase cycling. Thousands of people all over the UK enjoy the simple pleasure of riding a bike. \nSearch the website for events near you. \nStarting every last Sunday in May. UK. \n 
URL:https://www.wycombefoe.org.uk/event/bike-week-2-2-2-2/
END:VEVENT
BEGIN:VEVENT
DTSTART;TZID=Europe/London:20210602T193000
DTEND;TZID=Europe/London:20210602T203000
DTSTAMP:20260423T213522
CREATED:20170129T143413Z
LAST-MODIFIED:20210503T173335Z
UID:4853-1622662200-1622665800@www.wycombefoe.org.uk
SUMMARY:Wycombe FoE Monthly Meeting (Zoom!)
DESCRIPTION:We still meet remotely via Zoom.\nEmail us at  wycombefoe@yahoo.co.uk to get a Zoom invite.\nWe welcome new input and faces. \n 
URL:https://www.wycombefoe.org.uk/event/wycombe-friends-of-the-earth-monthly-meeting-23-6-2-2-2-3-3-2-3-2-2-2-2-2-2-2-2-2-2-2-2-2-3-3-2-2-2-2-2/
END:VEVENT
BEGIN:VEVENT
DTSTART;VALUE=DATE:20210603
DTEND;VALUE=DATE:20210604
DTSTAMP:20260423T213522
CREATED:20210220T165326Z
LAST-MODIFIED:20210220T165326Z
UID:4758-1622678400-1622764799@www.wycombefoe.org.uk
SUMMARY:Bicycle day
DESCRIPTION:The bicycle is a simple\, affordable\, reliable\, clean and environmentally fit sustainable means of transportation. Active transport is not only healthy\, but also cost-effective for shorter distances. \nEvery 3rd June. Worldwide.
URL:https://www.wycombefoe.org.uk/event/bicycle-day/
END:VEVENT
BEGIN:VEVENT
DTSTART;VALUE=DATE:20210605
DTEND;VALUE=DATE:20210606
DTSTAMP:20260423T213522
CREATED:20160406T140538Z
LAST-MODIFIED:20210603T222954Z
UID:4855-1622851200-1622937599@www.wycombefoe.org.uk
SUMMARY:Environment Day
DESCRIPTION:United Nations World Environment Day is a day for encouraging worldwide awareness and action for the protection of our environment. Since it began in 1974\, it has grown to become a global platform for public outreach that is widely celebrated in over 100 countries. \nAbove all\, it is the ‘people’s day’ for doing something to take care of the Earth or become an agent of change. That ‘something’ can be focused locally\, nationally or globally; it can be a solo action or involve a crowd. \nSee website for events and more information. \nWorldwide. Every 5th June.
URL:https://www.wycombefoe.org.uk/event/environment-day-2-2-2-2/
END:VEVENT
END:VCALENDAR