BEGIN:VCALENDAR
VERSION:2.0
PRODID:-//Wycombe Friends of the Earth - ECPv6.15.17//NONSGML v1.0//EN
CALSCALE:GREGORIAN
METHOD:PUBLISH
X-ORIGINAL-URL:https://www.wycombefoe.org.uk
X-WR-CALDESC:Events for Wycombe Friends of the Earth
REFRESH-INTERVAL;VALUE=DURATION:PT1H
X-Robots-Tag:noindex
X-PUBLISHED-TTL:PT1H
BEGIN:VTIMEZONE
TZID:Europe/London
BEGIN:DAYLIGHT
TZOFFSETFROM:+0000
TZOFFSETTO:+0100
TZNAME:BST
DTSTART:20210328T010000
END:DAYLIGHT
BEGIN:STANDARD
TZOFFSETFROM:+0100
TZOFFSETTO:+0000
TZNAME:GMT
DTSTART:20211031T010000
END:STANDARD
BEGIN:DAYLIGHT
TZOFFSETFROM:+0000
TZOFFSETTO:+0100
TZNAME:BST
DTSTART:20220327T010000
END:DAYLIGHT
BEGIN:STANDARD
TZOFFSETFROM:+0100
TZOFFSETTO:+0000
TZNAME:GMT
DTSTART:20221030T010000
END:STANDARD
BEGIN:DAYLIGHT
TZOFFSETFROM:+0000
TZOFFSETTO:+0100
TZNAME:BST
DTSTART:20230326T010000
END:DAYLIGHT
BEGIN:STANDARD
TZOFFSETFROM:+0100
TZOFFSETTO:+0000
TZNAME:GMT
DTSTART:20231029T010000
END:STANDARD
END:VTIMEZONE
BEGIN:VEVENT
DTSTART;TZID=Europe/London:20220202T193000
DTEND;TZID=Europe/London:20220202T210000
DTSTAMP:20260425T123448
CREATED:20170129T143413Z
LAST-MODIFIED:20211129T105422Z
UID:5130-1643830200-1643835600@www.wycombefoe.org.uk
SUMMARY:Wycombe FoE Monthly Meeting
DESCRIPTION:Format of meeting (Zoom and/or Physical location)\nWe welcome new input and faces\, so lets hear from you. \n 
URL:https://www.wycombefoe.org.uk/event/wycombe-friends-of-the-earth-monthly-meeting-23-6-2-2-2-3-3-2-3-2-2-2-2-2-2-2-2-2-2-2-2-2-3-3-2-2-2-2-2-3-2-2-2-2-2-2/
END:VEVENT
BEGIN:VEVENT
DTSTART;TZID=Europe/London:20220203T100000
DTEND;TZID=Europe/London:20220203T130000
DTSTAMP:20260425T123448
CREATED:20160409T161011Z
LAST-MODIFIED:20220203T193844Z
UID:5225-1643882400-1643893200@www.wycombefoe.org.uk
SUMMARY:Conservation volunteering (Thursdays; check website!)
DESCRIPTION:Depends on Covid restrictions\, so check their website first… \nEvery Thursday the Chiltern Rangers run a volunteer conservation group which is open to all.\nCome along and meet the group at Wycombe Rye Lido Car Park and keep fit while helping to take care of your local environment at woodlands. \nTools\, gloves and hot drinks are provided. Please wear stout footwear and appropriate clothing suitable for outdoors activities and the weather. If you would like to get involved then please contact us – info@chilternrangers.co.uk \nMore events are on their website. \n 
URL:https://www.wycombefoe.org.uk/event/conservation-volunteering-every-thursday-of-the-month-25-4-4-4-3-3-2-2-2-2-2-2-2-2-2-2-3-2-2-2-2-2-2-2-2-2-2-2-2-2/
LOCATION:Wycombe Lido Swimming pool\, The Rye \, HighWycombe\, United Kingdom
ORGANIZER;CN="Chiltern rangers":MAILTO:info@chilternrangers.co.uk
END:VEVENT
BEGIN:VEVENT
DTSTART;VALUE=DATE:20220207
DTEND;VALUE=DATE:20220208
DTSTAMP:20260425T123448
CREATED:20210504T091043Z
LAST-MODIFIED:20220203T194622Z
UID:5233-1644192000-1644278399@www.wycombefoe.org.uk
SUMMARY:Wycombe Environment meeting (Mondays)
DESCRIPTION:Wycombe Environment (WE) is part of the Environment and Climate Change sub-group of the High Wycombe Community Board – itself part of Buckinghamshire County Council. \nWE is a group of people taking action on climate change.\nEveryone is welcome to join the Monday meeting. Meetings are every Monday starting 6.30pm.
URL:https://www.wycombefoe.org.uk/event/wycombe-environment-group-anniversary-2/
END:VEVENT
BEGIN:VEVENT
DTSTART;VALUE=DATE:20220210
DTEND;VALUE=DATE:20220211
DTSTAMP:20260425T123448
CREATED:20210504T091043Z
LAST-MODIFIED:20210504T091547Z
UID:4865-1644451200-1644537599@www.wycombefoe.org.uk
SUMMARY:Wycombe Environment group - Anniversary
DESCRIPTION:Wycombe Environment (WE) is part of the Environment and Climate Change sub-group of the High Wycombe Community Board – itself part of Buckinghamshire County Council. \nWE was set up on 10th February 2021 by Penelope Tollitt and team.
URL:https://www.wycombefoe.org.uk/event/wycombe-environment-group-anniversary/
END:VEVENT
BEGIN:VEVENT
DTSTART;TZID=Europe/London:20220212T100000
DTEND;TZID=Europe/London:20220212T130000
DTSTAMP:20260425T123448
CREATED:20211004T140652Z
LAST-MODIFIED:20220114T121849Z
UID:5197-1644660000-1644670800@www.wycombefoe.org.uk
SUMMARY:Repair Café
DESCRIPTION:A Repair Café\, run by volunteers and organised by Wycombe Environment\, is now operating in High Wycombe\n(All Saints Parish Church in the centre of High Wycombe). Bring your broken household items that you cannot get done commercially (mechanical\, electrical or textile) and you may be able to get them repaired.\nThere will be no charge (except if a new part is required)\, although any donations will be welcome. \nEvery 2nd Saturday of the month\, in High Wycombe.\n(note also that there are other Repair Cafes nearby\, eg in Marlow and Hazlemere)
URL:https://www.wycombefoe.org.uk/event/repair-cafe-2-2-2-2-2/
LOCATION:Church Street\, Church Street\, High Wycombe\, HP11 2DE\, United Kingdom
END:VEVENT
BEGIN:VEVENT
DTSTART;VALUE=DATE:20220221
DTEND;VALUE=DATE:20220307
DTSTAMP:20260425T123448
CREATED:20161102T154715Z
LAST-MODIFIED:20211129T111431Z
UID:5145-1645401600-1646611199@www.wycombefoe.org.uk
SUMMARY:Fairtrade fortnight
DESCRIPTION:For two weeks each year at the end of February and start of March\, thousands of individuals\, companies and groups across the UK come together to share the stories of the people who grow our food and drinks and who grow the cotton in our clothes\, people who are often exploited and underpaid. \nLast Monday of month\, then 2 weeks till Sunday. \n  \n 
URL:https://www.wycombefoe.org.uk/event/fairtrade-fortnight-2-2-2-2-2-2/
END:VEVENT
BEGIN:VEVENT
DTSTART;VALUE=DATE:20220301
DTEND;VALUE=DATE:20220302
DTSTAMP:20260425T123448
CREATED:20170301T100115Z
LAST-MODIFIED:20220114T104822Z
UID:5180-1646092800-1646179199@www.wycombefoe.org.uk
SUMMARY:OTHER ECO GROUPS & EVENTS
DESCRIPTION:Click links below… \nList of environmental organisations in the Wycombe area\nFor events\, click on the link to their websites and search for ‘what’s on’ or similar.\n \nList of environmental events (maintained by Wycombe Environment Centre)\nThis is basically a pinned post on their Facebook page. \n 
URL:https://www.wycombefoe.org.uk/event/note-other-local-event-listings-10-2-2-8-4-2-3-2-2-2-2-2-2-2-2-2-2-3-2-2-2-2-2-2-2-2-2-2-2-2-2-2-2-2-2-2-2-2-2-2-2-2-2-2-2-2-2/
END:VEVENT
BEGIN:VEVENT
DTSTART;TZID=Europe/London:20220302T193000
DTEND;TZID=Europe/London:20220302T210000
DTSTAMP:20260425T123448
CREATED:20170129T143413Z
LAST-MODIFIED:20220114T105220Z
UID:5184-1646249400-1646254800@www.wycombefoe.org.uk
SUMMARY:Wycombe FoE Monthly Meeting
DESCRIPTION:Format of meeting (Zoom and/or Physical location).\nAgenda published a few days beforehand on Home page – www.wycombefoe.org.uk.\nWe welcome new input and faces\, so lets hear from you. \n 
URL:https://www.wycombefoe.org.uk/event/wycombe-friends-of-the-earth-monthly-meeting-23-6-2-2-2-3-3-2-3-2-2-2-2-2-2-2-2-2-2-2-2-2-3-3-2-2-2-2-2-3-2-2-2-2-2-2-2/
END:VEVENT
BEGIN:VEVENT
DTSTART;VALUE=DATE:20220303
DTEND;VALUE=DATE:20220304
DTSTAMP:20260425T123448
CREATED:20161212T195416Z
LAST-MODIFIED:20220114T104943Z
UID:5182-1646265600-1646351999@www.wycombefoe.org.uk
SUMMARY:Wildlife day
DESCRIPTION:World wildlife day. \nOn 20 December 2013\, at its 68th session\, the United Nations General Assembly (UNGA) decided to proclaim 3 March\, the day of signature of the Convention on International Trade in Endangered Species of Wild Fauna and Flora (CITES)\, as UN World Wildlife Day to celebrate and raise awareness of the world’s wild animals and plants. The UNGA resolution also designated the CITES Secretariat as the facilitator for the global observance of this special day for wildlife on the UN calendar. \nEvery 3 March. Worldwide.
URL:https://www.wycombefoe.org.uk/event/wildlife-day-2-2-2-2-2/
END:VEVENT
BEGIN:VEVENT
DTSTART;TZID=Europe/London:20220303T100000
DTEND;TZID=Europe/London:20220303T130000
DTSTAMP:20260425T123448
CREATED:20160409T161011Z
LAST-MODIFIED:20220203T194022Z
UID:5228-1646301600-1646312400@www.wycombefoe.org.uk
SUMMARY:Conservation volunteering (Thursdays; check website!)
DESCRIPTION:Depends on Covid restrictions\, so check their website first… \nEvery Thursday the Chiltern Rangers run a volunteer conservation group which is open to all.\nCome along and meet the group at Wycombe Rye Lido Car Park and keep fit while helping to take care of your local environment at woodlands. \nTools\, gloves and hot drinks are provided. Please wear stout footwear and appropriate clothing suitable for outdoors activities and the weather. If you would like to get involved then please contact us – info@chilternrangers.co.uk \nMore events are on their website. \n 
URL:https://www.wycombefoe.org.uk/event/conservation-volunteering-every-thursday-of-the-month-25-4-4-4-3-3-2-2-2-2-2-2-2-2-2-2-3-2-2-2-2-2-2-2-2-2-2-2-2-2-2/
LOCATION:Wycombe Lido Swimming pool\, The Rye \, HighWycombe\, United Kingdom
ORGANIZER;CN="Chiltern rangers":MAILTO:info@chilternrangers.co.uk
END:VEVENT
BEGIN:VEVENT
DTSTART;VALUE=DATE:20220304
DTEND;VALUE=DATE:20220305
DTSTAMP:20260425T123448
CREATED:20210105T183705Z
LAST-MODIFIED:20210511T115807Z
UID:4871-1646352000-1646438399@www.wycombefoe.org.uk
SUMMARY:Marlow Energy Group - Anniversary
DESCRIPTION:Marlow Energy Group was registered as a Community Benefit Society on 4th March 2020. The group focusses on renewable energy retrofits on homes & schools in Marlow e.g. solar PV and heat pumps. Events are listed on their website and Facebook page.
URL:https://www.wycombefoe.org.uk/event/marlow-energy-group-anniversary-2/
END:VEVENT
BEGIN:VEVENT
DTSTART;VALUE=DATE:20220307
DTEND;VALUE=DATE:20220308
DTSTAMP:20260425T123448
CREATED:20210504T091043Z
LAST-MODIFIED:20220203T194736Z
UID:5235-1646611200-1646697599@www.wycombefoe.org.uk
SUMMARY:Wycombe Environment meeting (Mondays)
DESCRIPTION:Wycombe Environment (WE) is part of the Environment and Climate Change sub-group of the High Wycombe Community Board – itself part of Buckinghamshire County Council. \nWE is a group of people taking action on climate change.\nEveryone is welcome to join the Monday meeting. Meetings are every Monday starting 6.30pm.
URL:https://www.wycombefoe.org.uk/event/wycombe-environment-group-anniversary-2-2/
END:VEVENT
BEGIN:VEVENT
DTSTART;TZID=Europe/London:20220312T100000
DTEND;TZID=Europe/London:20220312T130000
DTSTAMP:20260425T123448
CREATED:20211004T140652Z
LAST-MODIFIED:20220114T121947Z
UID:5199-1647079200-1647090000@www.wycombefoe.org.uk
SUMMARY:Repair Café
DESCRIPTION:A Repair Café\, run by volunteers and organised by Wycombe Environment\, is now operating in High Wycombe\n(All Saints Parish Church in the centre of High Wycombe). Bring your broken household items that you cannot get done commercially (mechanical\, electrical or textile) and you may be able to get them repaired.\nThere will be no charge (except if a new part is required)\, although any donations will be welcome. \nEvery 2nd Saturday of the month\, in High Wycombe.\n(note also that there are other Repair Cafes nearby\, eg in Marlow and Hazlemere)
URL:https://www.wycombefoe.org.uk/event/repair-cafe-2-2-2-2-2-2/
LOCATION:Church Street\, Church Street\, High Wycombe\, HP11 2DE\, United Kingdom
END:VEVENT
BEGIN:VEVENT
DTSTART;VALUE=DATE:20220321
DTEND;VALUE=DATE:20220322
DTSTAMP:20260425T123448
CREATED:20161207T163025Z
LAST-MODIFIED:20220114T111348Z
UID:5188-1647820800-1647907199@www.wycombefoe.org.uk
SUMMARY:Forestry Day
DESCRIPTION:International day of forests. Organised by United Nations. \nWorldwide. \nEvery 21st March.
URL:https://www.wycombefoe.org.uk/event/forestry-day-2-2-2-2-2-2/
END:VEVENT
BEGIN:VEVENT
DTSTART;VALUE=DATE:20220322
DTEND;VALUE=DATE:20220323
DTSTAMP:20260425T123448
CREATED:20190108T155359Z
LAST-MODIFIED:20220114T111500Z
UID:5190-1647907200-1647993599@www.wycombefoe.org.uk
SUMMARY:Water Day
DESCRIPTION:Organised by United Nations. \nWorldwide. \nEvery 22 March.
URL:https://www.wycombefoe.org.uk/event/water-day-3-2-2-2/
END:VEVENT
BEGIN:VEVENT
DTSTART;TZID=Europe/London:20220326T203000
DTEND;TZID=Europe/London:20220326T213000
DTSTAMP:20260425T123448
CREATED:20161207T162630Z
LAST-MODIFIED:20220114T111719Z
UID:5192-1648326600-1648330200@www.wycombefoe.org.uk
SUMMARY:Earth Hour
DESCRIPTION:Earth Hour is an annual event where hundreds of millions of people switch off their lights for one hour (8.30-9.30pm) to show they care about our planet. Discover a new world without electricity… \nLast Saturday of March. Worldwide.
URL:https://www.wycombefoe.org.uk/event/earth-hour-3-2-2-2-2-2/
END:VEVENT
BEGIN:VEVENT
DTSTART;VALUE=DATE:20220401
DTEND;VALUE=DATE:20220402
DTSTAMP:20260425T123448
CREATED:20170301T100115Z
LAST-MODIFIED:20220202T205016Z
UID:5214-1648771200-1648857599@www.wycombefoe.org.uk
SUMMARY:OTHER ECO GROUPS & EVENTS
DESCRIPTION:Click links below… \nList of environmental organisations in the Wycombe area\nFor events\, click on the link to their websites and search for ‘what’s on’ or similar.\n \nList of environmental events (maintained by Wycombe Environment Centre)\nThis is basically a pinned post on their Facebook page. \n 
URL:https://www.wycombefoe.org.uk/event/note-other-local-event-listings-10-2-2-8-4-2-3-2-2-2-2-2-2-2-2-2-2-3-2-2-2-2-2-2-2-2-2-2-2-2-2-2-2-2-2-2-2-2-2-2-2-2-2-2-2-2-2-2/
END:VEVENT
BEGIN:VEVENT
DTSTART;VALUE=DATE:20220404
DTEND;VALUE=DATE:20220405
DTSTAMP:20260425T123448
CREATED:20210504T091043Z
LAST-MODIFIED:20220203T195418Z
UID:5241-1649030400-1649116799@www.wycombefoe.org.uk
SUMMARY:Wycombe Environment meeting (Mondays)
DESCRIPTION:Wycombe Environment (WE) is part of the Environment and Climate Change sub-group of the High Wycombe Community Board – itself part of Buckinghamshire County Council. \nWE is a group of people taking action on climate change.\nEveryone is welcome to join the Monday meeting. Meetings are every Monday starting 6.30pm.
URL:https://www.wycombefoe.org.uk/event/wycombe-environment-group-anniversary-2-2-2/
END:VEVENT
BEGIN:VEVENT
DTSTART;TZID=Europe/London:20220406T193000
DTEND;TZID=Europe/London:20220406T210000
DTSTAMP:20260425T123448
CREATED:20170129T143413Z
LAST-MODIFIED:20220203T130237Z
UID:5216-1649273400-1649278800@www.wycombefoe.org.uk
SUMMARY:Wycombe FoE Monthly Meeting
DESCRIPTION:Format of meeting (Zoom and/or Physical location).\nAgenda published a few days beforehand on Home page – www.wycombefoe.org.uk.\nWe welcome new input and faces\, so lets hear from you. \n 
URL:https://www.wycombefoe.org.uk/event/wycombe-friends-of-the-earth-monthly-meeting-23-6-2-2-2-3-3-2-3-2-2-2-2-2-2-2-2-2-2-2-2-2-3-3-2-2-2-2-2-3-2-2-2-2-2-2-2-2/
END:VEVENT
BEGIN:VEVENT
DTSTART;TZID=Europe/London:20220407T100000
DTEND;TZID=Europe/London:20220407T130000
DTSTAMP:20260425T123448
CREATED:20160409T161011Z
LAST-MODIFIED:20220203T194110Z
UID:5230-1649325600-1649336400@www.wycombefoe.org.uk
SUMMARY:Conservation volunteering (Thursdays; check website!)
DESCRIPTION:Depends on Covid restrictions\, so check their website first… \nEvery Thursday the Chiltern Rangers run a volunteer conservation group which is open to all.\nCome along and meet the group at Wycombe Rye Lido Car Park and keep fit while helping to take care of your local environment at woodlands. \nTools\, gloves and hot drinks are provided. Please wear stout footwear and appropriate clothing suitable for outdoors activities and the weather. If you would like to get involved then please contact us – info@chilternrangers.co.uk \nMore events are on their website. \n 
URL:https://www.wycombefoe.org.uk/event/conservation-volunteering-every-thursday-of-the-month-25-4-4-4-3-3-2-2-2-2-2-2-2-2-2-2-3-2-2-2-2-2-2-2-2-2-2-2-2-2-2-2/
LOCATION:Wycombe Lido Swimming pool\, The Rye \, HighWycombe\, United Kingdom
ORGANIZER;CN="Chiltern rangers":MAILTO:info@chilternrangers.co.uk
END:VEVENT
BEGIN:VEVENT
DTSTART;TZID=Europe/London:20220409T100000
DTEND;TZID=Europe/London:20220409T130000
DTSTAMP:20260425T123448
CREATED:20211004T140652Z
LAST-MODIFIED:20220203T131228Z
UID:5220-1649498400-1649509200@www.wycombefoe.org.uk
SUMMARY:Wycombe Repair Café
DESCRIPTION:A Repair Café\, run by volunteers and organised by Wycombe Environment\, is operating in High Wycombe (All Saints Parish Church in the centre of High Wycombe). Bring your broken household items that you cannot fix commercially (mechanical\, electrical or textile) and you may be able to get them repaired. There will be no charge (except if a new part is required)\, although any donations will be welcome. \nEvery 2nd Saturday of the month\, in High Wycombe.\n(note also that there are other Repair Cafes nearby\, eg in Marlow and Hazlemere)
URL:https://www.wycombefoe.org.uk/event/repair-cafe-2-2-2-2-2-2-2/
LOCATION:Church Street\, Church Street\, High Wycombe\, HP11 2DE\, United Kingdom
END:VEVENT
BEGIN:VEVENT
DTSTART;VALUE=DATE:20220422
DTEND;VALUE=DATE:20220423
DTSTAMP:20260425T123448
CREATED:20161207T163635Z
LAST-MODIFIED:20220203T130819Z
UID:5218-1650585600-1650671999@www.wycombefoe.org.uk
SUMMARY:Earth Day
DESCRIPTION:Celebrate our planet. Find an event near you. \nOrganised by Earth Day Network. \n“Now is the time for the unstoppable courage to preserve and protect our health\, our families\, our livelihoods… together\, we must Invest In Our Planet. Because a green future is a prosperous future. We need to act (boldly)\, innovate (broadly)\, and implement (equitably). It’s going to take all of us. All in. Businesses\, governments\, and citizens — everyone accounted for\, and everyone accountable.” \nWorldwide. Every 22nd April.
URL:https://www.wycombefoe.org.uk/event/earth-day-2-2-2-2-2-2/
CATEGORIES:Uptodate for 2019
END:VEVENT
BEGIN:VEVENT
DTSTART;VALUE=DATE:20220501
DTEND;VALUE=DATE:20220502
DTSTAMP:20260425T123448
CREATED:20170301T100115Z
LAST-MODIFIED:20220301T123755Z
UID:5287-1651363200-1651449599@www.wycombefoe.org.uk
SUMMARY:OTHER ECO GROUPS & EVENTS
DESCRIPTION:Click links below… \nList of environmental events in the Wycombe area\nThis is a pinned post on the Facebook page of Wycombe Env Centre. \nList of environmental organisations in the Wycombe area\nFor events\, click on the link to their websites and search for ‘what’s on’ or similar.\n \n  \n 
URL:https://www.wycombefoe.org.uk/event/note-other-local-event-listings-10-2-2-8-4-2-3-2-2-2-2-2-2-2-2-2-2-3-2-2-2-2-2-2-2-2-2-2-2-2-2-2-2-2-2-2-2-2-2-2-2-2-2-2-2-2-2-2-2/
END:VEVENT
BEGIN:VEVENT
DTSTART;VALUE=DATE:20220501
DTEND;VALUE=DATE:20220508
DTSTAMP:20260425T123448
CREATED:20170129T145017Z
LAST-MODIFIED:20220301T213027Z
UID:5289-1651363200-1651967999@www.wycombefoe.org.uk
SUMMARY:Compost awareness week
DESCRIPTION:Find out about the importance of composting and learn how to do it. \nFurther info in UK: www.homecomposting.org.uk and www.gardenorganic.org.uk. \nStarts every first Sunday of May\, till Saturday. Worldwide. \n 
URL:https://www.wycombefoe.org.uk/event/compost-awareness-week-2-2-2-2-2-2/
END:VEVENT
BEGIN:VEVENT
DTSTART;TZID=Europe/London:20220504T193000
DTEND;TZID=Europe/London:20220504T210000
DTSTAMP:20260425T123448
CREATED:20170129T143413Z
LAST-MODIFIED:20220301T213251Z
UID:5291-1651692600-1651698000@www.wycombefoe.org.uk
SUMMARY:Wycombe FoE Monthly Meeting
DESCRIPTION:Format of meeting (Zoom and/or Physical location).\nAgenda published a few days beforehand on Home page – www.wycombefoe.org.uk.\nWe welcome new input and faces\, so lets hear from you. \n 
URL:https://www.wycombefoe.org.uk/event/wycombe-friends-of-the-earth-monthly-meeting-23-6-2-2-2-3-3-2-3-2-2-2-2-2-2-2-2-2-2-2-2-2-3-3-2-2-2-2-2-3-2-2-2-2-2-2-2-2-2/
END:VEVENT
BEGIN:VEVENT
DTSTART;TZID=Europe/London:20220505T100000
DTEND;TZID=Europe/London:20220505T130000
DTSTAMP:20260425T123448
CREATED:20160409T161011Z
LAST-MODIFIED:20220402T141108Z
UID:5316-1651744800-1651755600@www.wycombefoe.org.uk
SUMMARY:Conservation volunteering (Thursdays; check website!)
DESCRIPTION:Depends on Covid restrictions\, so check their website first… \nEvery Thursday the Chiltern Rangers run a volunteer conservation group which is open to all.\nCome along and meet the group at Wycombe Rye Lido Car Park and keep fit while helping to take care of your local environment at woodlands. \nTools\, gloves and hot drinks are provided. Please wear stout footwear and appropriate clothing suitable for outdoors activities and the weather. If you would like to get involved then please contact us – info@chilternrangers.co.uk \nMore events are on their website. \n 
URL:https://www.wycombefoe.org.uk/event/conservation-volunteering-every-thursday-of-the-month-25-4-4-4-3-3-2-2-2-2-2-2-2-2-2-2-3-2-2-2-2-2-2-2-2-2-2-2-2-2-2-2-2/
LOCATION:Wycombe Lido Swimming pool\, The Rye \, HighWycombe\, United Kingdom
ORGANIZER;CN="Chiltern rangers":MAILTO:info@chilternrangers.co.uk
END:VEVENT
BEGIN:VEVENT
DTSTART;TZID=Europe/London:20220508T110000
DTEND;TZID=Europe/London:20220508T170000
DTSTAMP:20260425T123448
CREATED:20170129T151130Z
LAST-MODIFIED:20230220T213851Z
UID:5277-1652007600-1652029200@www.wycombefoe.org.uk
SUMMARY:Pann Mill Open day
DESCRIPTION:Enjoy a walk round the Rye and stop in on Pann Mill for cake/tea/coffee and view the variety of stands (books\, plants\, brick-a-brack\, charity groups etc). \nFlour made in Pann Mill is usually on sale (dependent on water levels). \nLikely environmental stalls: Wycombe Friends of the Earth and Revive the Wye. \nCoincides with the Sunday of National mills weekend (https://nationaltoday.com/national-mills-weekend).
URL:https://www.wycombefoe.org.uk/event/pann-mill-open-day-3-2-2-2-2/
LOCATION:Pann Mill\, The Rye (nr Busy Bees nursery)\, High Wycombe\, HP11 1BJ\, United Kingdom
END:VEVENT
BEGIN:VEVENT
DTSTART;VALUE=DATE:20220514
DTEND;VALUE=DATE:20220515
DTSTAMP:20260425T123448
CREATED:20170129T145809Z
LAST-MODIFIED:20220302T134432Z
UID:5293-1652486400-1652572799@www.wycombefoe.org.uk
SUMMARY:World Fairtrade Day
DESCRIPTION:Fair Trade is an agent for change. It is a tangible solution to poverty eradication\, a good tool for sustainable development\, and most of all Fair Trade promotes social justice. \nContact High Wycombe Fairtrade group to find out if any events/stalls are happening in your area – www.wycombefairtrade.org.uk/ \nWorldwide. Every 2nd Saturday of May. \n 
URL:https://www.wycombefoe.org.uk/event/world-fairtrade-day-2-2-2-2-2-2/
END:VEVENT
BEGIN:VEVENT
DTSTART;TZID=Europe/London:20220514T100000
DTEND;TZID=Europe/London:20220514T130000
DTSTAMP:20260425T123448
CREATED:20211004T140652Z
LAST-MODIFIED:20220301T123256Z
UID:5285-1652522400-1652533200@www.wycombefoe.org.uk
SUMMARY:Wycombe Repair Café
DESCRIPTION:A Repair Café\, run by volunteers and organised by Wycombe Environment\, is operating in High Wycombe (All Saints Parish Church in the centre of High Wycombe). Bring your broken household items that you cannot fix commercially (mechanical\, electrical or textile) and you may be able to get them repaired. There will be no charge (except if a new part is required)\, although any donations will be welcome. \nEvery 2nd Saturday of the month\, in High Wycombe.\n(note also that there are other Repair Cafes nearby\, eg in Marlow and Hazlemere)
URL:https://www.wycombefoe.org.uk/event/repair-cafe-2-2-2-2-2-2-2-2/
LOCATION:Church Street\, Church Street\, High Wycombe\, HP11 2DE\, United Kingdom
END:VEVENT
BEGIN:VEVENT
DTSTART;VALUE=DATE:20220516
DTEND;VALUE=DATE:20220521
DTSTAMP:20260425T123448
CREATED:20160406T114605Z
LAST-MODIFIED:20220302T135123Z
UID:5300-1652659200-1653091199@www.wycombefoe.org.uk
SUMMARY:Walk to school week
DESCRIPTION:Join over a million pupils and their families to celebrate walking to school. \nChallenge everyone in your school to walk every day during Walk to School Week and make a real difference to your children’s happiness and wellbeing. \nUK. \nEvery 3rd Monday of May\, till Friday.
URL:https://www.wycombefoe.org.uk/event/walk-to-school-week-2-2-2-2-2/
END:VEVENT
END:VCALENDAR