BEGIN:VCALENDAR
VERSION:2.0
PRODID:-//Wycombe Friends of the Earth - ECPv6.15.17//NONSGML v1.0//EN
CALSCALE:GREGORIAN
METHOD:PUBLISH
X-WR-CALNAME:Wycombe Friends of the Earth
X-ORIGINAL-URL:https://www.wycombefoe.org.uk
X-WR-CALDESC:Events for Wycombe Friends of the Earth
REFRESH-INTERVAL;VALUE=DURATION:PT1H
X-Robots-Tag:noindex
X-PUBLISHED-TTL:PT1H
BEGIN:VTIMEZONE
TZID:Europe/London
BEGIN:DAYLIGHT
TZOFFSETFROM:+0000
TZOFFSETTO:+0100
TZNAME:BST
DTSTART:20210328T010000
END:DAYLIGHT
BEGIN:STANDARD
TZOFFSETFROM:+0100
TZOFFSETTO:+0000
TZNAME:GMT
DTSTART:20211031T010000
END:STANDARD
BEGIN:DAYLIGHT
TZOFFSETFROM:+0000
TZOFFSETTO:+0100
TZNAME:BST
DTSTART:20220327T010000
END:DAYLIGHT
BEGIN:STANDARD
TZOFFSETFROM:+0100
TZOFFSETTO:+0000
TZNAME:GMT
DTSTART:20221030T010000
END:STANDARD
BEGIN:DAYLIGHT
TZOFFSETFROM:+0000
TZOFFSETTO:+0100
TZNAME:BST
DTSTART:20230326T010000
END:DAYLIGHT
BEGIN:STANDARD
TZOFFSETFROM:+0100
TZOFFSETTO:+0000
TZNAME:GMT
DTSTART:20231029T010000
END:STANDARD
END:VTIMEZONE
BEGIN:VEVENT
DTSTART;TZID=Europe/London:20220504T193000
DTEND;TZID=Europe/London:20220504T210000
DTSTAMP:20260425T135026
CREATED:20170129T143413Z
LAST-MODIFIED:20220301T213251Z
UID:5291-1651692600-1651698000@www.wycombefoe.org.uk
SUMMARY:Wycombe FoE Monthly Meeting
DESCRIPTION:Format of meeting (Zoom and/or Physical location).\nAgenda published a few days beforehand on Home page – www.wycombefoe.org.uk.\nWe welcome new input and faces\, so lets hear from you. \n 
URL:https://www.wycombefoe.org.uk/event/wycombe-friends-of-the-earth-monthly-meeting-23-6-2-2-2-3-3-2-3-2-2-2-2-2-2-2-2-2-2-2-2-2-3-3-2-2-2-2-2-3-2-2-2-2-2-2-2-2-2/
END:VEVENT
BEGIN:VEVENT
DTSTART;TZID=Europe/London:20220505T100000
DTEND;TZID=Europe/London:20220505T130000
DTSTAMP:20260425T135026
CREATED:20160409T161011Z
LAST-MODIFIED:20220402T141108Z
UID:5316-1651744800-1651755600@www.wycombefoe.org.uk
SUMMARY:Conservation volunteering (Thursdays; check website!)
DESCRIPTION:Depends on Covid restrictions\, so check their website first… \nEvery Thursday the Chiltern Rangers run a volunteer conservation group which is open to all.\nCome along and meet the group at Wycombe Rye Lido Car Park and keep fit while helping to take care of your local environment at woodlands. \nTools\, gloves and hot drinks are provided. Please wear stout footwear and appropriate clothing suitable for outdoors activities and the weather. If you would like to get involved then please contact us – info@chilternrangers.co.uk \nMore events are on their website. \n 
URL:https://www.wycombefoe.org.uk/event/conservation-volunteering-every-thursday-of-the-month-25-4-4-4-3-3-2-2-2-2-2-2-2-2-2-2-3-2-2-2-2-2-2-2-2-2-2-2-2-2-2-2-2/
LOCATION:Wycombe Lido Swimming pool\, The Rye \, HighWycombe\, United Kingdom
ORGANIZER;CN="Chiltern rangers":MAILTO:info@chilternrangers.co.uk
END:VEVENT
BEGIN:VEVENT
DTSTART;TZID=Europe/London:20220508T110000
DTEND;TZID=Europe/London:20220508T170000
DTSTAMP:20260425T135026
CREATED:20170129T151130Z
LAST-MODIFIED:20230220T213851Z
UID:5277-1652007600-1652029200@www.wycombefoe.org.uk
SUMMARY:Pann Mill Open day
DESCRIPTION:Enjoy a walk round the Rye and stop in on Pann Mill for cake/tea/coffee and view the variety of stands (books\, plants\, brick-a-brack\, charity groups etc). \nFlour made in Pann Mill is usually on sale (dependent on water levels). \nLikely environmental stalls: Wycombe Friends of the Earth and Revive the Wye. \nCoincides with the Sunday of National mills weekend (https://nationaltoday.com/national-mills-weekend).
URL:https://www.wycombefoe.org.uk/event/pann-mill-open-day-3-2-2-2-2/
LOCATION:Pann Mill\, The Rye (nr Busy Bees nursery)\, High Wycombe\, HP11 1BJ\, United Kingdom
END:VEVENT
BEGIN:VEVENT
DTSTART;VALUE=DATE:20220514
DTEND;VALUE=DATE:20220515
DTSTAMP:20260425T135026
CREATED:20170129T145809Z
LAST-MODIFIED:20220302T134432Z
UID:5293-1652486400-1652572799@www.wycombefoe.org.uk
SUMMARY:World Fairtrade Day
DESCRIPTION:Fair Trade is an agent for change. It is a tangible solution to poverty eradication\, a good tool for sustainable development\, and most of all Fair Trade promotes social justice. \nContact High Wycombe Fairtrade group to find out if any events/stalls are happening in your area – www.wycombefairtrade.org.uk/ \nWorldwide. Every 2nd Saturday of May. \n 
URL:https://www.wycombefoe.org.uk/event/world-fairtrade-day-2-2-2-2-2-2/
END:VEVENT
BEGIN:VEVENT
DTSTART;TZID=Europe/London:20220514T100000
DTEND;TZID=Europe/London:20220514T130000
DTSTAMP:20260425T135026
CREATED:20211004T140652Z
LAST-MODIFIED:20220301T123256Z
UID:5285-1652522400-1652533200@www.wycombefoe.org.uk
SUMMARY:Wycombe Repair Café
DESCRIPTION:A Repair Café\, run by volunteers and organised by Wycombe Environment\, is operating in High Wycombe (All Saints Parish Church in the centre of High Wycombe). Bring your broken household items that you cannot fix commercially (mechanical\, electrical or textile) and you may be able to get them repaired. There will be no charge (except if a new part is required)\, although any donations will be welcome. \nEvery 2nd Saturday of the month\, in High Wycombe.\n(note also that there are other Repair Cafes nearby\, eg in Marlow and Hazlemere)
URL:https://www.wycombefoe.org.uk/event/repair-cafe-2-2-2-2-2-2-2-2/
LOCATION:Church Street\, Church Street\, High Wycombe\, HP11 2DE\, United Kingdom
END:VEVENT
BEGIN:VEVENT
DTSTART;VALUE=DATE:20220516
DTEND;VALUE=DATE:20220521
DTSTAMP:20260425T135026
CREATED:20160406T114605Z
LAST-MODIFIED:20220302T135123Z
UID:5300-1652659200-1653091199@www.wycombefoe.org.uk
SUMMARY:Walk to school week
DESCRIPTION:Join over a million pupils and their families to celebrate walking to school. \nChallenge everyone in your school to walk every day during Walk to School Week and make a real difference to your children’s happiness and wellbeing. \nUK. \nEvery 3rd Monday of May\, till Friday.
URL:https://www.wycombefoe.org.uk/event/walk-to-school-week-2-2-2-2-2/
END:VEVENT
BEGIN:VEVENT
DTSTART;VALUE=DATE:20220516
DTEND;VALUE=DATE:20220523
DTSTAMP:20260425T135026
CREATED:20160406T132935Z
LAST-MODIFIED:20220302T134858Z
UID:5295-1652659200-1653263999@www.wycombefoe.org.uk
SUMMARY:Vegetarian week
DESCRIPTION:What we eat has a huge impact on our environment. See website for further details/events. \nUK\, Every 2nd or 3rd Monday in May\, to Sunday. \n 
URL:https://www.wycombefoe.org.uk/event/vegetarian-week-2-2-2-2-2/
END:VEVENT
BEGIN:VEVENT
DTSTART;VALUE=DATE:20220517
DTEND;VALUE=DATE:20220518
DTSTAMP:20260425T135026
CREATED:20160217T170728Z
LAST-MODIFIED:20220302T135013Z
UID:5298-1652745600-1652831999@www.wycombefoe.org.uk
SUMMARY:Anniversary of Environment Centre (2001)
DESCRIPTION:The Wycombe Environment Centre (on Holywell Mead near the Rye) was founded in 17 May 2001 by Frances Alexander. \nDue to financial constraints it has re-located a number of times e.g. to West Wycombe Rd and to Chilterns Shopping Centre (2014-2016). \nContact details on website www.ecobuzz.org.uk/contact\nor message them via Facebook – www.facebook.com/WycombeEnvironmentCentre \n 
URL:https://www.wycombefoe.org.uk/event/anniversary-of-wycombe-environment-centre-2003-2-2-2-2-2/
LOCATION:Wycombe Environment Centre\, Chilterns Shopping Centre\,\, High Wycombe\, HP13 5ES
END:VEVENT
BEGIN:VEVENT
DTSTART;VALUE=DATE:20220520
DTEND;VALUE=DATE:20220521
DTSTAMP:20260425T135026
CREATED:20210220T164813Z
LAST-MODIFIED:20220302T135248Z
UID:5302-1653004800-1653091199@www.wycombefoe.org.uk
SUMMARY:Bee day
DESCRIPTION:Bees and other pollinators\, such as butterflies\, bats and hummingbirds\, are increasingly under threat from human activities. \nPollination is\, however\, a fundamental process for the survival of our ecosystems. Nearly 90% of the world’s wild flowering plant species depend\, entirely\, or at least in part\, on animal pollination\, along with more than 75% of the world’s food crops and 35% of global agricultural land. Not only do pollinators contribute directly to food security\, but they are key to conserving biodiversity. \nEvery 20th May. Worldwide.
URL:https://www.wycombefoe.org.uk/event/bee-day-2/
END:VEVENT
BEGIN:VEVENT
DTSTART;VALUE=DATE:20220522
DTEND;VALUE=DATE:20220523
DTSTAMP:20260425T135026
CREATED:20170129T153226Z
LAST-MODIFIED:20220402T135734Z
UID:5312-1653177600-1653263999@www.wycombefoe.org.uk
SUMMARY:Biological diversity day
DESCRIPTION:The United Nations has proclaimed May 22 The International Day for Biological Diversity to increase understanding and awareness of biodiversity issues. \nEvery 22nd May. Worldwide
URL:https://www.wycombefoe.org.uk/event/biological-diversity-day-2-2-2-2/
END:VEVENT
BEGIN:VEVENT
DTSTART;VALUE=DATE:20220601
DTEND;VALUE=DATE:20220602
DTSTAMP:20260425T135026
CREATED:20170301T100115Z
LAST-MODIFIED:20220402T141526Z
UID:5323-1654041600-1654127999@www.wycombefoe.org.uk
SUMMARY:OTHER ECO GROUPS & EVENTS
DESCRIPTION:Click links below… \nList of environmental events in the Wycombe area\nThis is a pinned post on the Facebook page of Wycombe Env Centre. \nList of environmental organisations in the Wycombe area\nFor events\, click on the link to their websites and search for ‘what’s on’ or similar.\n \n  \n 
URL:https://www.wycombefoe.org.uk/event/note-other-local-event-listings-10-2-2-8-4-2-3-2-2-2-2-2-2-2-2-2-2-3-2-2-2-2-2-2-2-2-2-2-2-2-2-2-2-2-2-2-2-2-2-2-2-2-2-2-2-2-2-2-2-2/
END:VEVENT
BEGIN:VEVENT
DTSTART;TZID=Europe/London:20220601T193000
DTEND;TZID=Europe/London:20220601T210000
DTSTAMP:20260425T135026
CREATED:20170129T143413Z
LAST-MODIFIED:20220402T140949Z
UID:5314-1654111800-1654117200@www.wycombefoe.org.uk
SUMMARY:Wycombe FoE Monthly Meeting
DESCRIPTION:Format of meeting (Zoom and/or Physical location).\nAgenda will be published a few days beforehand on our Home page – www.wycombefoe.org.uk.\nWe welcome new input and faces\, so lets hear from you. \n 
URL:https://www.wycombefoe.org.uk/event/wycombe-friends-of-the-earth-monthly-meeting-23-6-2-2-2-3-3-2-3-2-2-2-2-2-2-2-2-2-2-2-2-2-3-3-2-2-2-2-2-3-2-2-2-2-2-2-2-2-2-2/
END:VEVENT
BEGIN:VEVENT
DTSTART;TZID=Europe/London:20220602T100000
DTEND;TZID=Europe/London:20220602T130000
DTSTAMP:20260425T135026
CREATED:20160409T161011Z
LAST-MODIFIED:20220402T141142Z
UID:5318-1654164000-1654174800@www.wycombefoe.org.uk
SUMMARY:Conservation volunteering (Thursdays; check website!)
DESCRIPTION:Depends on Covid restrictions\, so check their website first… \nEvery Thursday the Chiltern Rangers run a volunteer conservation group which is open to all.\nCome along and meet the group at Wycombe Rye Lido Car Park and keep fit while helping to take care of your local environment at woodlands. \nTools\, gloves and hot drinks are provided. Please wear stout footwear and appropriate clothing suitable for outdoors activities and the weather. If you would like to get involved then please contact us – info@chilternrangers.co.uk \nMore events are on their website. \n 
URL:https://www.wycombefoe.org.uk/event/conservation-volunteering-every-thursday-of-the-month-25-4-4-4-3-3-2-2-2-2-2-2-2-2-2-2-3-2-2-2-2-2-2-2-2-2-2-2-2-2-2-2-2-2/
LOCATION:Wycombe Lido Swimming pool\, The Rye \, HighWycombe\, United Kingdom
ORGANIZER;CN="Chiltern rangers":MAILTO:info@chilternrangers.co.uk
END:VEVENT
BEGIN:VEVENT
DTSTART;VALUE=DATE:20220603
DTEND;VALUE=DATE:20220604
DTSTAMP:20260425T135026
CREATED:20210220T165326Z
LAST-MODIFIED:20220402T141250Z
UID:5320-1654214400-1654300799@www.wycombefoe.org.uk
SUMMARY:Bicycle day
DESCRIPTION:The bicycle is a simple\, affordable\, reliable\, clean and environmentally fit sustainable means of transportation. Active transport is not only healthy\, but also cost-effective for shorter distances. \nEvery 3rd June. Worldwide.
URL:https://www.wycombefoe.org.uk/event/bicycle-day-2/
END:VEVENT
BEGIN:VEVENT
DTSTART;VALUE=DATE:20220605
DTEND;VALUE=DATE:20220606
DTSTAMP:20260425T135026
CREATED:20160406T140538Z
LAST-MODIFIED:20220402T154737Z
UID:5325-1654387200-1654473599@www.wycombefoe.org.uk
SUMMARY:Environment Day
DESCRIPTION:United Nations World Environment Day is a day for encouraging worldwide awareness and action for the protection of our environment. Since it began in 1974\, it has grown to become a global platform for public outreach that is widely celebrated in over 100 countries. \nAbove all\, it is the ‘people’s day’ for doing something to take care of the Earth or become an agent of change. That ‘something’ can be focused locally\, nationally or globally; it can be a solo action or involve a crowd. \nSee website for events and more information. \nWorldwide. Every 5th June.
URL:https://www.wycombefoe.org.uk/event/environment-day-2-2-2-2-2/
END:VEVENT
BEGIN:VEVENT
DTSTART;VALUE=DATE:20220606
DTEND;VALUE=DATE:20220613
DTSTAMP:20260425T135026
CREATED:20160406T150318Z
LAST-MODIFIED:20220302T135517Z
UID:5304-1654473600-1655078399@www.wycombefoe.org.uk
SUMMARY:Bike week
DESCRIPTION:Bike Week\, delivered by Cycling UK\, is an annual celebration to showcase cycling. Thousands of people all over the UK enjoy the simple pleasure of riding a bike. \nSearch the website for events near you. \nStarting every last Sunday in May (or first Monday in June). UK. \n 
URL:https://www.wycombefoe.org.uk/event/bike-week-2-2-2-2-2/
END:VEVENT
BEGIN:VEVENT
DTSTART;VALUE=DATE:20220608
DTEND;VALUE=DATE:20220609
DTSTAMP:20260425T135026
CREATED:20160406T145038Z
LAST-MODIFIED:20220402T154838Z
UID:5327-1654646400-1654732799@www.wycombefoe.org.uk
SUMMARY:Oceans day
DESCRIPTION:World Oceans Day is the United Nations’ recognized day of ocean celebration and action. \nWorldwide. Every 8th June.
URL:https://www.wycombefoe.org.uk/event/oceans-day-2-2-2-2-2-2/
END:VEVENT
BEGIN:VEVENT
DTSTART;TZID=Europe/London:20220611T100000
DTEND;TZID=Europe/London:20220611T130000
DTSTAMP:20260425T135026
CREATED:20211004T140652Z
LAST-MODIFIED:20220428T123455Z
UID:5351-1654941600-1654952400@www.wycombefoe.org.uk
SUMMARY:Wycombe Repair Café
DESCRIPTION:A Repair Café\, run by volunteers and organised by Wycombe Environment\, is operating in High Wycombe (All Saints Parish Church in the centre of High Wycombe). Bring your broken household items that you cannot fix commercially (mechanical\, textile or small electrical) and you may be able to get them repaired. There will be no charge (except if a new part is required)\, although any donations will be very welcome. \nEvery 2nd Saturday of the month\, in High Wycombe.\n(note also that there are other Repair Cafes nearby\, eg in Marlow and Hazlemere)
URL:https://www.wycombefoe.org.uk/event/repair-cafe-2-2-2-2-2-2-2-2-2/
LOCATION:Church Street\, Church Street\, High Wycombe\, HP11 2DE\, United Kingdom
END:VEVENT
BEGIN:VEVENT
DTSTART;VALUE=DATE:20220615
DTEND;VALUE=DATE:20220616
DTSTAMP:20260425T135026
CREATED:20211119T144723Z
LAST-MODIFIED:20211119T145044Z
UID:5109-1655251200-1655337599@www.wycombefoe.org.uk
SUMMARY:Anniversary of Wycombe Food Hub
DESCRIPTION:Wycombe Food Hub was founded on 15th June 2020 as a Non-profit group. \n(it later became a CIC on 6th Aug 2020)
URL:https://www.wycombefoe.org.uk/event/founding-of-wycombe-food-hub-as-nonprofit-group/
END:VEVENT
BEGIN:VEVENT
DTSTART;VALUE=DATE:20220616
DTEND;VALUE=DATE:20220617
DTSTAMP:20260425T135026
CREATED:20180311T133450Z
LAST-MODIFIED:20220402T155247Z
UID:5331-1655337600-1655423999@www.wycombefoe.org.uk
SUMMARY:Clean air day
DESCRIPTION:Clean Air Day is a chance for the UK to come together and improve air quality through collective action. \nFind out more about air pollution and how it can impact your health. \n3rd Thursday of June\, UK
URL:https://www.wycombefoe.org.uk/event/clean-air-day-2-2-2-2-2/
END:VEVENT
BEGIN:VEVENT
DTSTART;VALUE=DATE:20220616
DTEND;VALUE=DATE:20220617
DTSTAMP:20260425T135026
CREATED:20220616T195429Z
LAST-MODIFIED:20220616T195515Z
UID:5419-1655337600-1655423999@www.wycombefoe.org.uk
SUMMARY:Refill Day
DESCRIPTION:World Refill Day is a global campaign to prevent plastic pollution and help people live with less waste. \nAlong with our planet-protecting partners\, and thousands of everyday activists around the world\, we’re calling on businesses\, brands and governments to join the refill and reuse revolution and help make single-use plastic a thing of the past. \nAs a global movement\, we have the power to create a wave of change. By choosing to reuse\, we’re saving millions of pieces of plastic and sending a message to the rest of the world that the solutions to plastic pollution and the climate crisis are there – and together we can keep our environment\, oceans\, cities and communities plastic-free for the future. \nWorldwide\, every 16th June.
URL:https://www.wycombefoe.org.uk/event/refill-day/
END:VEVENT
BEGIN:VEVENT
DTSTART;VALUE=DATE:20220617
DTEND;VALUE=DATE:20220618
DTSTAMP:20260425T135026
CREATED:20160406T151650Z
LAST-MODIFIED:20220402T154924Z
UID:5329-1655424000-1655510399@www.wycombefoe.org.uk
SUMMARY:Desertification and drought day
DESCRIPTION:United Nations day to combat desertification and drought. \n​There is probably no greater issue than land in the post-2015 Sustainable Development Goals that touches everyone. From the food we eat\, to the clothes we wear and the houses we live – it all stems from land resources. In order to “leave no one behind” as proclaimed in the new Sustainable Development Goals\, achieving land degradation neutrality needs to be in the forefront to meet our requirements and develop sustainability. \nEvery 17th June. Worldwide.
URL:https://www.wycombefoe.org.uk/event/combating-desertification-day-2-2-2-2-2-2/
END:VEVENT
BEGIN:VEVENT
DTSTART;VALUE=DATE:20220622
DTEND;VALUE=DATE:20220623
DTSTAMP:20260425T135026
CREATED:20200606T175334Z
LAST-MODIFIED:20220402T155423Z
UID:5333-1655856000-1655942399@www.wycombefoe.org.uk
SUMMARY:Rainforest day
DESCRIPTION:A collaborative effort to raise awareness and encourage action to save one of Earth’s most precious resources\, our rainforests. \nWorldwide\, every 22 June.
URL:https://www.wycombefoe.org.uk/event/rainforest-day-2-2/
END:VEVENT
BEGIN:VEVENT
DTSTART;TZID=Europe/London:20220625T000000
DTEND;TZID=Europe/London:20220703T235900
DTSTAMP:20260425T135026
CREATED:20210220T170120Z
LAST-MODIFIED:20220701T155003Z
UID:5335-1656115200-1656892740@www.wycombefoe.org.uk
SUMMARY:London Climate Action Week
DESCRIPTION:London Climate Action Week (LCAW) is an annual event bringing together world leading array of climate professionals and communities. \nLCAW has become the largest independent climate change event in Europe. It aims to influence and shape global climate action but is also rooted in the reality of London as a global City. LCAW aims to be a catalyst to help London accelerate its transformation towards a net zero\, equitable and resilient future. \nStarting 4th or last Sat in June. London.
URL:https://www.wycombefoe.org.uk/event/london-climate-action-week-2/
END:VEVENT
BEGIN:VEVENT
DTSTART;VALUE=DATE:20220701
DTEND;VALUE=DATE:20220702
DTSTAMP:20260425T135026
CREATED:20170301T100115Z
LAST-MODIFIED:20220607T193115Z
UID:5392-1656633600-1656719999@www.wycombefoe.org.uk
SUMMARY:OTHER ECO GROUPS & EVENTS
DESCRIPTION:Click links below… \nList of environmental events in the Wycombe area\nThis is a pinned post on the Facebook page of Wycombe Env Centre. \nList of environmental organisations in the Wycombe area\nFor events\, click on the link to their websites and search for ‘what’s on’ or similar.\n \n  \n 
URL:https://www.wycombefoe.org.uk/event/note-other-local-event-listings-10-2-2-8-4-2-3-2-2-2-2-2-2-2-2-2-2-3-2-2-2-2-2-2-2-2-2-2-2-2-2-2-2-2-2-2-2-2-2-2-2-2-2-2-2-2-2-2-2-2-2/
END:VEVENT
BEGIN:VEVENT
DTSTART;TZID=Europe/London:20220702T080000
DTEND;TZID=Europe/London:20220702T170000
DTSTAMP:20260425T135026
CREATED:20220608T084910Z
LAST-MODIFIED:20220608T084910Z
UID:5405-1656748800-1656781200@www.wycombefoe.org.uk
SUMMARY:Scrapstore 'Refresh' (EVERY Saturday)
DESCRIPTION:A new scrap store (Refresh) run by Wycombe Environment Centre has opened in the Chiltern Shopping Centre (off Frogmoor). \nIt has taken the stock from the old one (Wycombe Resource Zone – which used to be run by the Council\, up at Cressex). \nIt is open every Saturday 10.30am -12.30.
URL:https://www.wycombefoe.org.uk/event/scrapstore-refresh-every-saturday/
END:VEVENT
BEGIN:VEVENT
DTSTART;TZID=Europe/London:20220704T080000
DTEND;TZID=Europe/London:20220704T170000
DTSTAMP:20260425T135026
CREATED:20220608T085815Z
LAST-MODIFIED:20220608T085815Z
UID:5411-1656921600-1656954000@www.wycombefoe.org.uk
SUMMARY:'Wycombe Environment' group meeting (most Mondays)
DESCRIPTION:‘Wycombe Environment’ is an environmental action group sprouted from the Council’s Wycombe Community Board. \nThey meet most Mondays at 6.30pm\, currently via Zoom. To join in\, contact penelopetollitt@makingplacestogether.co.uk. \n 
URL:https://www.wycombefoe.org.uk/event/wycombe-environment-group-meeting-most-mondays/
END:VEVENT
BEGIN:VEVENT
DTSTART;TZID=Europe/London:20220706T193000
DTEND;TZID=Europe/London:20220706T210000
DTSTAMP:20260425T135026
CREATED:20170129T143413Z
LAST-MODIFIED:20220607T155030Z
UID:5379-1657135800-1657141200@www.wycombefoe.org.uk
SUMMARY:Wycombe FoE Monthly Meeting
DESCRIPTION:Format of meeting (Zoom and/or Physical location).\nAgenda will be published a few days beforehand on our Home page – www.wycombefoe.org.uk.\nWe welcome new input and faces\, so lets hear from you. \n 
URL:https://www.wycombefoe.org.uk/event/wycombe-friends-of-the-earth-monthly-meeting-23-6-2-2-2-3-3-2-3-2-2-2-2-2-2-2-2-2-2-2-2-2-3-3-2-2-2-2-2-3-2-2-2-2-2-2-2-2-2-2-2/
END:VEVENT
BEGIN:VEVENT
DTSTART;TZID=Europe/London:20220707T100000
DTEND;TZID=Europe/London:20220707T130000
DTSTAMP:20260425T135026
CREATED:20160409T161011Z
LAST-MODIFIED:20220607T160351Z
UID:5390-1657188000-1657198800@www.wycombefoe.org.uk
SUMMARY:Conservation volunteering (Thursdays; check website!)
DESCRIPTION:Every Thursday the Chiltern Rangers run a volunteer conservation group which is open to all.\nCome along and meet the group at Wycombe Rye Lido Car Park and keep fit while helping to take care of your local environment at woodlands. \nTools\, gloves and hot drinks are provided. Please wear stout footwear and appropriate clothing suitable for outdoors activities and the weather. If you would like to get involved then please contact us – info@chilternrangers.co.uk \nMore events are on their website. \n 
URL:https://www.wycombefoe.org.uk/event/conservation-volunteering-every-thursday-of-the-month-25-4-4-4-3-3-2-2-2-2-2-2-2-2-2-2-3-2-2-2-2-2-2-2-2-2-2-2-2-2-2-2-2-2-2/
LOCATION:Wycombe Lido Swimming pool\, The Rye \, HighWycombe\, United Kingdom
ORGANIZER;CN="Chiltern rangers":MAILTO:info@chilternrangers.co.uk
END:VEVENT
BEGIN:VEVENT
DTSTART;TZID=Europe/London:20220709T100000
DTEND;TZID=Europe/London:20220709T130000
DTSTAMP:20260425T135026
CREATED:20211004T140652Z
LAST-MODIFIED:20220607T155240Z
UID:5381-1657360800-1657371600@www.wycombefoe.org.uk
SUMMARY:Wycombe Repair Café
DESCRIPTION:A Repair Café\, run by volunteers and organised by Wycombe Environment\, is operating in High Wycombe (All Saints Parish Church in the centre of High Wycombe). Bring your broken household items that you cannot fix commercially (mechanical\, textile or small electrical) and you may be able to get them repaired. There will be no charge (except if a new part is required)\, although any donations will be very welcome. \nEvery 2nd Saturday of the month\, in High Wycombe.\n(note also that there are other Repair Cafes nearby\, eg in Marlow and Hazlemere)
URL:https://www.wycombefoe.org.uk/event/repair-cafe-2-2-2-2-2-2-2-2-2-2/
LOCATION:Church Street\, Church Street\, High Wycombe\, HP11 2DE\, United Kingdom
END:VEVENT
END:VCALENDAR