BEGIN:VCALENDAR
VERSION:2.0
PRODID:-//Wycombe Friends of the Earth - ECPv6.15.17//NONSGML v1.0//EN
CALSCALE:GREGORIAN
METHOD:PUBLISH
X-WR-CALNAME:Wycombe Friends of the Earth
X-ORIGINAL-URL:https://www.wycombefoe.org.uk
X-WR-CALDESC:Events for Wycombe Friends of the Earth
REFRESH-INTERVAL;VALUE=DURATION:PT1H
X-Robots-Tag:noindex
X-PUBLISHED-TTL:PT1H
BEGIN:VTIMEZONE
TZID:Europe/London
BEGIN:DAYLIGHT
TZOFFSETFROM:+0000
TZOFFSETTO:+0100
TZNAME:BST
DTSTART:20160327T010000
END:DAYLIGHT
BEGIN:STANDARD
TZOFFSETFROM:+0100
TZOFFSETTO:+0000
TZNAME:GMT
DTSTART:20161030T010000
END:STANDARD
BEGIN:DAYLIGHT
TZOFFSETFROM:+0000
TZOFFSETTO:+0100
TZNAME:BST
DTSTART:20170326T010000
END:DAYLIGHT
BEGIN:STANDARD
TZOFFSETFROM:+0100
TZOFFSETTO:+0000
TZNAME:GMT
DTSTART:20171029T010000
END:STANDARD
BEGIN:DAYLIGHT
TZOFFSETFROM:+0000
TZOFFSETTO:+0100
TZNAME:BST
DTSTART:20180325T010000
END:DAYLIGHT
BEGIN:STANDARD
TZOFFSETFROM:+0100
TZOFFSETTO:+0000
TZNAME:GMT
DTSTART:20181028T010000
END:STANDARD
END:VTIMEZONE
BEGIN:VEVENT
DTSTART;VALUE=DATE:20170601
DTEND;VALUE=DATE:20170602
DTSTAMP:20260423T125917
CREATED:20170301T100115Z
LAST-MODIFIED:20170301T100603Z
UID:2024-1496275200-1496361599@www.wycombefoe.org.uk
SUMMARY:NOTE - Other local event listings
DESCRIPTION:Note for using this calendar. \nSome local environmental organisations list their own events. \nClick on the link to their websites below and search for ‘what’s on’ or ‘events’: \nAmersham in Transition (dormant?) \nChiltern Rangers \nChinnor and Thame Friends of the Earth \nEmpower to Cook \nHigh Wycombe Beekeepers \nMarlow in Transition \nRevive the Wye \nWycombe Environment Centre \nWycombe Wildlife Group \nAnd see… \nFood shops and markets selling local produce \nUK Friends of the Earth
URL:https://www.wycombefoe.org.uk/event/note-other-local-event-listings-10/
END:VEVENT
BEGIN:VEVENT
DTSTART;TZID=Europe/London:20170601T100000
DTEND;TZID=Europe/London:20170601T130000
DTSTAMP:20260423T125917
CREATED:20160409T160800Z
LAST-MODIFIED:20160409T160800Z
UID:1504-1496311200-1496322000@www.wycombefoe.org.uk
SUMMARY:Conservation volunteering - EVERY Thursday of the month
DESCRIPTION:Every Thursday the Chiltern Rangers run a volunteer conservation group which is open to all. Come along and meet the group at Wycombe Rye Lido Car Park and keep fit while helping to take care of your local environment at woodlands. \nTools\, gloves and hot drinks are provided. Please wear stout footwear and appropriate clothing suitable for outdoors activities and the weather. If you would like to get involved then please contact us. \ninfo@chilternrangers.co.uk
URL:https://www.wycombefoe.org.uk/event/conservation-volunteering-every-thursday-of-the-month-19/
LOCATION:Wycombe Lido Swimming pool\, The Rye \, HighWycombe\, United Kingdom
ORGANIZER;CN="Chiltern rangers":MAILTO:info@chilternrangers.co.uk
END:VEVENT
BEGIN:VEVENT
DTSTART;TZID=Europe/London:20170602T160000
DTEND;TZID=Europe/London:20170602T173000
DTSTAMP:20260423T125917
CREATED:20170203T202430Z
LAST-MODIFIED:20170203T202430Z
UID:1983-1496419200-1496424600@www.wycombefoe.org.uk
SUMMARY:Eco drinks in the Falcon - Most Fridays
DESCRIPTION:An environmentally aware group do informal meetups in the Falcon pub (off Church Street\, in High Wycombe town centre). \nIf you are interested\, please email Roland at rxb@supanet.com a few days in advance\, so we can confirm the Friday and look out for you at the venue. \nThe Falcon’s sustainable fish and chips is also recommended. \n  \n 
URL:https://www.wycombefoe.org.uk/event/eco-drinks-in-the-falcon-most-fridays/
LOCATION:Falcon pub\, 9 Cornmarket\, High Wycombe\, HP11 2AX\, United Kingdom
END:VEVENT
BEGIN:VEVENT
DTSTART;VALUE=DATE:20170605
DTEND;VALUE=DATE:20170606
DTSTAMP:20260423T125917
CREATED:20160406T140538Z
LAST-MODIFIED:20170227T225222Z
UID:1468-1496620800-1496707199@www.wycombefoe.org.uk
SUMMARY:Environment Day
DESCRIPTION:World Environment Day is the United Nations’ most important day for encouraging worldwide awareness and action for the protection of our environment. Since it began in 1974\, it has grown to become a global platform for public outreach that is widely celebrated in over 100 countries. \nAbove all\, it is the ‘people’s day’ for doing something to take care of the Earth or become an agent of change. That ‘something’ can be focused locally\, nationally or globally; it can be a solo action or involve a crowd. \nSee website for events and more information. \nWorldwide. Every 5th June.
URL:https://www.wycombefoe.org.uk/event/environment-day/
END:VEVENT
BEGIN:VEVENT
DTSTART;TZID=Europe/London:20170607T193000
DTEND;TZID=Europe/London:20170607T213000
DTSTAMP:20260423T125917
CREATED:20170129T142945Z
LAST-MODIFIED:20170523T144417Z
UID:1932-1496863800-1496871000@www.wycombefoe.org.uk
SUMMARY:Wycombe Friends of the Earth - Monthly Meeting (AGM)
DESCRIPTION:Featuring Chris Church (on board of national FoE) who will give a presentation. \nEveryone is welcome to come along for a cup of tea and chat. \nEasy parking (free from 7pm) is available at the car park next to Trinity Reformed Church. Only 5min walk to the Friends Meeting House from there. \nBus stop is also right next to the church. \nEmail us at  wycombefoe@yahoo.co.uk for more info.
URL:https://www.wycombefoe.org.uk/event/wycombe-friends-of-the-earth-monthly-meeting-17/
LOCATION:Friends Meeting House\, 25 London Road\, High Wycombe\, HP11 1BJ
END:VEVENT
BEGIN:VEVENT
DTSTART;VALUE=DATE:20170608
DTEND;VALUE=DATE:20170609
DTSTAMP:20260423T125917
CREATED:20160406T145038Z
LAST-MODIFIED:20170310T190644Z
UID:2093-1496880000-1496966399@www.wycombefoe.org.uk
SUMMARY:Oceans day
DESCRIPTION:World Oceans Day is the United Nations-recognized day of ocean celebration and action. \nWorldwide. Every 8th June.
URL:https://www.wycombefoe.org.uk/event/oceans-day-2/
END:VEVENT
BEGIN:VEVENT
DTSTART;VALUE=DATE:20170610
DTEND;VALUE=DATE:20170619
DTSTAMP:20260423T125917
CREATED:20160406T150318Z
LAST-MODIFIED:20170405T173955Z
UID:2095-1497052800-1497830399@www.wycombefoe.org.uk
SUMMARY:Bike week
DESCRIPTION:Bike Week is an annual opportunity to promote cycling\, and show how cycling can easily be part of everyday life by encouraging ‘everyday cycling for everyone’. Demonstrating the social\, health and environmental benefits of cycling\, the week aims to get people to give cycling a go all over the UK\, whether this be for fun\, as a means of getting around to work or school\, the local shops or just to visit friends. \nSee website for events near you. \nEvery 2nd Saturday of June. UK. \n 
URL:https://www.wycombefoe.org.uk/event/bike-week-2/
END:VEVENT
BEGIN:VEVENT
DTSTART;VALUE=DATE:20170617
DTEND;VALUE=DATE:20170618
DTSTAMP:20260423T125917
CREATED:20160406T151650Z
LAST-MODIFIED:20170310T191156Z
UID:2097-1497657600-1497743999@www.wycombefoe.org.uk
SUMMARY:Combating desertification day
DESCRIPTION:World day to combat desertification. \n​There is probably no greater issue than land in the post-2015 Sustainable Development Goals that touches everyone. From the food we eat\, to the clothes we wear and the houses we live – it all stems from land resources. In order to “leave no one behind” as proclaimed in the new Sustainable Development Goals\, achieving land degradation neutrality needs to be in the forefront to meet our requirements and develop sustainability. \nEvery 17th June. Worldwide.
URL:https://www.wycombefoe.org.uk/event/combating-desertification-day-2/
END:VEVENT
BEGIN:VEVENT
DTSTART;VALUE=DATE:20170701
DTEND;VALUE=DATE:20170702
DTSTAMP:20260423T125917
CREATED:20170301T100115Z
LAST-MODIFIED:20170531T180513Z
UID:2222-1498867200-1498953599@www.wycombefoe.org.uk
SUMMARY:NOTE - Other local event listings
DESCRIPTION:Note for using this calendar. \nSome local environmental organisations list their own events. \nClick on the link to their websites below and search for ‘what’s on’ or ‘events’: \nChiltern Rangers \nChinnor and Thame Friends of the Earth \nEmpower to Cook \nHigh Wycombe Beekeepers \nMarlow in Transition \nRevive the Wye \nWycombe Environment Centre \nWycombe Wildlife Group \nAnd see… \nFood shops and markets selling local produce \nUK Friends of the Earth \nUK Population Matters
URL:https://www.wycombefoe.org.uk/event/note-other-local-event-listings-10-2/
END:VEVENT
BEGIN:VEVENT
DTSTART;TZID=Europe/London:20170701T093000
DTEND;TZID=Europe/London:20170701T130000
DTSTAMP:20260423T125917
CREATED:20170611T180331Z
LAST-MODIFIED:20170611T180859Z
UID:2233-1498901400-1498914000@www.wycombefoe.org.uk
SUMMARY:Wycombe FoE stall in High Wycombe centre
DESCRIPTION:We will be holding a stall and talking to passers-by about air quality in High Wycombe and beyond. Get involved and improve the air for our children and future generations. Time stated is approximate\, but we should be there for most of the morning. Stall is opposite the Cake Centre in Church Street\, in front of All Saints Church.
URL:https://www.wycombefoe.org.uk/event/wycombe-foe-stall-in-high-wycombe-centre/
LOCATION:Church Street\, Church Street\, High Wycombe\, HP11 2DE\, United Kingdom
ORGANIZER;CN="Wycombe Friends of the Earth":MAILTO:wycombefoe@yahoo.co.uk
END:VEVENT
BEGIN:VEVENT
DTSTART;TZID=Europe/London:20170705T193000
DTEND;TZID=Europe/London:20170705T213000
DTSTAMP:20260423T125917
CREATED:20170129T143005Z
LAST-MODIFIED:20170129T143005Z
UID:1934-1499283000-1499290200@www.wycombefoe.org.uk
SUMMARY:Wycombe Friends of the Earth - Monthly Meeting
DESCRIPTION:Everyone is welcome to come along for a cup of tea and chat. \nEasy parking (free from 7pm) is available at the car park next to Trinity Reformed Church. Only 5min walk to the Friends Meeting House from there. \nBus stop is also right next to the church. \nEmail us at  wycombefoe@yahoo.co.uk for more info.
URL:https://www.wycombefoe.org.uk/event/wycombe-friends-of-the-earth-monthly-meeting-18/
LOCATION:Friends Meeting House\, 25 London Road\, High Wycombe\, HP11 1BJ
END:VEVENT
BEGIN:VEVENT
DTSTART;TZID=Europe/London:20170706T100000
DTEND;TZID=Europe/London:20170706T130000
DTSTAMP:20260423T125917
CREATED:20160409T160824Z
LAST-MODIFIED:20180502T161251Z
UID:1505-1499335200-1499346000@www.wycombefoe.org.uk
SUMMARY:Conservation volunteering - EVERY Thursday of the month
DESCRIPTION:Every Thursday the Chiltern Rangers run a volunteer conservation group which is open to all. Come along and meet the group at Wycombe Rye Lido Car Park and keep fit while helping to take care of your local environment at woodlands. \nTools\, gloves and hot drinks are provided. Please wear stout footwear and appropriate clothing suitable for outdoors activities and the weather. If you would like to get involved then please contact us. \ninfo@chilternrangers.co.uk
URL:https://www.wycombefoe.org.uk/event/conservation-volunteering-every-thursday-of-the-month-20/
LOCATION:Wycombe Lido Swimming pool\, The Rye \, HighWycombe\, United Kingdom
ORGANIZER;CN="Chiltern rangers":MAILTO:info@chilternrangers.co.uk
END:VEVENT
BEGIN:VEVENT
DTSTART;TZID=Europe/London:20170707T160000
DTEND;TZID=Europe/London:20170707T173000
DTSTAMP:20260423T125917
CREATED:20170203T202430Z
LAST-MODIFIED:20170523T144922Z
UID:2204-1499443200-1499448600@www.wycombefoe.org.uk
SUMMARY:Eco drinks in the Falcon - Most Fridays
DESCRIPTION:An environmentally aware group do informal meetups in the Falcon pub (off Church Street\, in High Wycombe town centre). \nIf you are interested\, please email Roland at rxb@supanet.com a few days in advance\, so we can confirm the Friday and look out for you at the venue. \nThe Falcon’s sustainable fish and chips is also recommended. \n  \n 
URL:https://www.wycombefoe.org.uk/event/eco-drinks-in-the-falcon-most-fridays-3/
LOCATION:Falcon pub\, 9 Cornmarket\, High Wycombe\, HP11 2AX\, United Kingdom
END:VEVENT
BEGIN:VEVENT
DTSTART;TZID=Europe/London:20170709T110000
DTEND;TZID=Europe/London:20170709T170000
DTSTAMP:20260423T125917
CREATED:20170129T151310Z
LAST-MODIFIED:20170129T151310Z
UID:1967-1499598000-1499619600@www.wycombefoe.org.uk
SUMMARY:Pann Mill Open day
DESCRIPTION:Enjoy a walk round the Rye and stop in on Pann Mill for cake/tea/coffee and view the variety of stands. \nFlour made in Pann Mill is usually on sale (dependent on water levels). \nLikely eco stalls: Wycombe Friends of the Earth and High Wycombe Beekeepers. \n 
URL:https://www.wycombefoe.org.uk/event/pann-mill-open-day-4/
LOCATION:Pann Mill\, The Rye (nr Busy Bees nursery)\, High Wycombe\, HP11 1BJ\, United Kingdom
END:VEVENT
BEGIN:VEVENT
DTSTART;VALUE=DATE:20170711
DTEND;VALUE=DATE:20170712
DTSTAMP:20260423T125917
CREATED:20160502T175327Z
LAST-MODIFIED:20160502T175327Z
UID:1541-1499731200-1499817599@www.wycombefoe.org.uk
SUMMARY:World population day
DESCRIPTION:In 1989\, the Governing Council of the United Nations Development Programme recommended that 11 July be observed by the international community as World Population Day\, a day to focus attention on the urgency and importance of population issues.\n\nWorldwide\, every 11th July.\n\nFor events local to High Wycombe email populationmatters.highwycombe@gmail.com\nFor events further afield see www.populationmatters.org.
URL:https://www.wycombefoe.org.uk/event/world-population-day-2/
END:VEVENT
BEGIN:VEVENT
DTSTART;TZID=Europe/London:20170718T190000
DTEND;TZID=Europe/London:20170718T220000
DTSTAMP:20260423T125917
CREATED:20170111T164725Z
LAST-MODIFIED:20170527T114905Z
UID:2118-1500404400-1500415200@www.wycombefoe.org.uk
SUMMARY:Population and Sustainability evening - film\, presentation\, stalls\, cash bar and live entertainment
DESCRIPTION:An evening exploring population and sustainability – by non-profit group Population Matters High Wycombe. Featuring ‘Wycombe for Fairtrade’ stall and the singer/songwriter and climate campaigner Cheryl Hillier. \nIn the documentary film Sense and Sustainability we ask the question\, “Is a species set on endless growth sustainable?” In answering this question we explore the scale of the human endeavor and its impact on the environment. The answer becomes clear as we discuss population growth and overconsumption\, and consider the resource scarcity we are facing today. We then explain the importance of the education and empowerment of women and rights to contraceptives and international family planning\, and how this relates to a sustainable society. \n7pm – Live entertainment\, licensed bar\, stalls \n7.25pm – Introduction to other local env groups (incl Wycombe FoE) and to film \n7.45pm – Film \n8.20 – Live entertainment\, licensed bar\, stalls \n8.40 – Presentation and discussion \n9.45 – Live entertainment\, licensed bar\, stalls \nFor more info email the organiser at highwycombegroup@populationmatters.org.
URL:https://www.wycombefoe.org.uk/event/film-sense-and-sustainability-2/
LOCATION:Wycombe Arts Centre\, Desborough Road\, High Wycombe\, HP11 2PU\, United Kingdom
ORGANIZER;CN="Population Matters High Wycombe":MAILTO:highwycombegroup[at]populationmatters.org
END:VEVENT
BEGIN:VEVENT
DTSTART;VALUE=DATE:20170801
DTEND;VALUE=DATE:20170802
DTSTAMP:20260423T125917
CREATED:20170301T100115Z
LAST-MODIFIED:20170821T142257Z
UID:2426-1501545600-1501631999@www.wycombefoe.org.uk
SUMMARY:OTHER LOCAL EVENTS
DESCRIPTION:Note for using this calendar. \nSome local environmental organisations list their own events. \nClick on the link to their websites below and search for ‘what’s on’ or ‘events’: \nChiltern Rangers \nChinnor and Thame Friends of the Earth \nHigh Wycombe Beekeepers \nMarlow in Transition \nRevive the Wye \nWycombe Environment Centre \nWycombe Wildlife Group \nAnd see… \nFood shops and markets selling LOCAL produce \nUK Friends of the Earth \nUK Population Matters
URL:https://www.wycombefoe.org.uk/event/note-other-local-event-listings-10-2-2/
END:VEVENT
BEGIN:VEVENT
DTSTART;TZID=Europe/London:20170801T130000
DTEND;TZID=Europe/London:20170801T140000
DTSTAMP:20260423T125917
CREATED:20170727T192418Z
LAST-MODIFIED:20170727T192902Z
UID:2386-1501592400-1501596000@www.wycombefoe.org.uk
SUMMARY:Population Matters High Wycombe - meet on most Tuesdays
DESCRIPTION:Non-profit group Population Matters High Wycombe currently meet most Tuesdays at the Lido Cafe on the Rye. \nContact us on highwycombegroup@populationmatters.org if you want to attend. You can buy your lunch in the Cafe or bring your own. \nThe group aims to further gender equality and women’s empowerment because when women have equal say in determining family size\, they generally opt for smaller families and smaller families are more sustainable. We also try to improve access to family planning services\,   because 200 million women worldwide currently don’t have adequate access. This is especially important in developing countries such as Africa where birth rates and malnutrition are high. \nSee top solutions to climate change according to recent research: \nwww.theguardian.com/environment/2017/jul/12/want-to-fight-climate-change-have-fewer-children \nand www.drawdown.org/solutions-summary-by-rank
URL:https://www.wycombefoe.org.uk/event/population-matters-high-wycombe-meeting-on-tuesdays/
LOCATION:Lido Cafe on the Rye\, The Rye (off Bassetsbury Lane)\, High Wycombe\, HP11 1QX
END:VEVENT
BEGIN:VEVENT
DTSTART;TZID=Europe/London:20170802T193000
DTEND;TZID=Europe/London:20170802T213000
DTSTAMP:20260423T125917
CREATED:20170129T143018Z
LAST-MODIFIED:20170129T143018Z
UID:1936-1501702200-1501709400@www.wycombefoe.org.uk
SUMMARY:Wycombe Friends of the Earth - Monthly Meeting
DESCRIPTION:Everyone is welcome to come along for a cup of tea and chat. \nEasy parking (free from 7pm) is available at the car park next to Trinity Reformed Church. Only 5min walk to the Friends Meeting House from there. \nBus stop is also right next to the church. \nEmail us at  wycombefoe@yahoo.co.uk for more info.
URL:https://www.wycombefoe.org.uk/event/wycombe-friends-of-the-earth-monthly-meeting-19/
LOCATION:Friends Meeting House\, 25 London Road\, High Wycombe\, HP11 1BJ
END:VEVENT
BEGIN:VEVENT
DTSTART;TZID=Europe/London:20170803T100000
DTEND;TZID=Europe/London:20170803T130000
DTSTAMP:20260423T125917
CREATED:20160409T160845Z
LAST-MODIFIED:20160409T160845Z
UID:1506-1501754400-1501765200@www.wycombefoe.org.uk
SUMMARY:Conservation volunteering - EVERY Thursday of the month
DESCRIPTION:Every Thursday the Chiltern Rangers run a volunteer conservation group which is open to all. Come along and meet the group at Wycombe Rye Lido Car Park and keep fit while helping to take care of your local environment at woodlands. \nTools\, gloves and hot drinks are provided. Please wear stout footwear and appropriate clothing suitable for outdoors activities and the weather. If you would like to get involved then please contact us. \ninfo@chilternrangers.co.uk
URL:https://www.wycombefoe.org.uk/event/conservation-volunteering-every-thursday-of-the-month-21/
LOCATION:Wycombe Lido Swimming pool\, The Rye \, HighWycombe\, United Kingdom
ORGANIZER;CN="Chiltern rangers":MAILTO:info@chilternrangers.co.uk
END:VEVENT
BEGIN:VEVENT
DTSTART;TZID=Europe/London:20170804T160000
DTEND;TZID=Europe/London:20170804T173000
DTSTAMP:20260423T125917
CREATED:20170203T202430Z
LAST-MODIFIED:20170523T144729Z
UID:2208-1501862400-1501867800@www.wycombefoe.org.uk
SUMMARY:Eco drinks in the Falcon - Most Fridays
DESCRIPTION:An environmentally aware group do informal meetups in the Falcon pub (off Church Street\, in High Wycombe town centre). \nIf you are interested\, please email Roland at rxb@supanet.com a few days in advance\, so we can confirm the Friday and look out for you at the venue. \nThe Falcon’s sustainable fish and chips is also recommended. \n  \n 
URL:https://www.wycombefoe.org.uk/event/eco-drinks-in-the-falcon-most-fridays-2/
LOCATION:Falcon pub\, 9 Cornmarket\, High Wycombe\, HP11 2AX\, United Kingdom
END:VEVENT
BEGIN:VEVENT
DTSTART;VALUE=DATE:20170901
DTEND;VALUE=DATE:20170902
DTSTAMP:20260423T125917
CREATED:20170301T100115Z
LAST-MODIFIED:20170821T142727Z
UID:2437-1504224000-1504310399@www.wycombefoe.org.uk
SUMMARY:OTHER LOCAL EVENTS
DESCRIPTION:Note for using this calendar. \nSome local environmental organisations list their own events. \nClick on the link to their websites below and search for ‘what’s on’ or ‘events’: \nChiltern Rangers \nChinnor and Thame Friends of the Earth \nHigh Wycombe Beekeepers \nMarlow in Transition \nRevive the Wye \nWycombe Environment Centre \nWycombe Wildlife Group \nAnd see… \nFood shops and markets selling LOCAL produce \nUK Friends of the Earth \nUK Population Matters
URL:https://www.wycombefoe.org.uk/event/note-other-local-event-listings-10-2-2-2/
END:VEVENT
BEGIN:VEVENT
DTSTART;TZID=Europe/London:20170901T160000
DTEND;TZID=Europe/London:20170901T173000
DTSTAMP:20260423T125917
CREATED:20170203T202430Z
LAST-MODIFIED:20170523T145011Z
UID:2205-1504281600-1504287000@www.wycombefoe.org.uk
SUMMARY:Eco drinks in the Falcon - Most Fridays
DESCRIPTION:An environmentally aware group do informal meetups in the Falcon pub (off Church Street\, in High Wycombe town centre). \nIf you are interested\, please email Roland at rxb@supanet.com a few days in advance\, so we can confirm the Friday and look out for you at the venue. \nThe Falcon’s sustainable fish and chips is also recommended. \n  \n 
URL:https://www.wycombefoe.org.uk/event/eco-drinks-in-the-falcon-most-fridays-4/
LOCATION:Falcon pub\, 9 Cornmarket\, High Wycombe\, HP11 2AX\, United Kingdom
END:VEVENT
BEGIN:VEVENT
DTSTART;TZID=Europe/London:20170905T130000
DTEND;TZID=Europe/London:20170905T140000
DTSTAMP:20260423T125917
CREATED:20170727T192418Z
LAST-MODIFIED:20170804T162652Z
UID:2410-1504616400-1504620000@www.wycombefoe.org.uk
SUMMARY:Population Matters High Wycombe - meet on most Tuesdays
DESCRIPTION:Non-profit group Population Matters High Wycombe currently meet most Tuesdays at the Lido Cafe on the Rye. \nContact us on highwycombegroup@populationmatters.org if you want to attend. You can buy your lunch in the Cafe or bring your own. \nThe group aims to further gender equality and women’s empowerment because when women have equal say in determining family size\, they generally opt for smaller families and smaller families are more sustainable. We also try to improve access to family planning services\,   because 200 million women worldwide currently don’t have adequate access. This is especially important in developing countries such as Africa where birth rates and malnutrition are high. \nSee top solutions to climate change according to some recent research: \nwww.theguardian.com/environment/2017/jul/12/want-to-fight-climate-change-have-fewer-children \nand www.drawdown.org/solutions-summary-by-rank
URL:https://www.wycombefoe.org.uk/event/population-matters-high-wycombe-meeting-on-tuesdays-2/
LOCATION:Lido Cafe on the Rye\, The Rye (off Bassetsbury Lane)\, High Wycombe\, HP11 1QX
END:VEVENT
BEGIN:VEVENT
DTSTART;TZID=Europe/London:20170906T193000
DTEND;TZID=Europe/London:20170906T213000
DTSTAMP:20260423T125917
CREATED:20170129T143032Z
LAST-MODIFIED:20170129T143032Z
UID:1938-1504726200-1504733400@www.wycombefoe.org.uk
SUMMARY:Wycombe Friends of the Earth - Monthly Meeting
DESCRIPTION:Everyone is welcome to come along for a cup of tea and chat. \nEasy parking (free from 7pm) is available at the car park next to Trinity Reformed Church. Only 5min walk to the Friends Meeting House from there. \nBus stop is also right next to the church. \nEmail us at  wycombefoe@yahoo.co.uk for more info.
URL:https://www.wycombefoe.org.uk/event/wycombe-friends-of-the-earth-monthly-meeting-20/
LOCATION:Friends Meeting House\, 25 London Road\, High Wycombe\, HP11 1BJ
END:VEVENT
BEGIN:VEVENT
DTSTART;VALUE=DATE:20170907
DTEND;VALUE=DATE:20170911
DTSTAMP:20260423T125917
CREATED:20160502T193812Z
LAST-MODIFIED:20170505T202800Z
UID:2138-1504742400-1505087999@www.wycombefoe.org.uk
SUMMARY:Superhomes open days
DESCRIPTION:Superhomes are homes which have decreased their energy usage by more than 60%. \nSome owners open their doors and provide a free tour of their home. \nTo book a slot with a local superhome go to  www.superhomes.org.uk \nThere are 2 superhomes in High Wycombe and one in Marlow.
URL:https://www.wycombefoe.org.uk/event/superhomes-open-days-2-2/
END:VEVENT
BEGIN:VEVENT
DTSTART;TZID=Europe/London:20170907T100000
DTEND;TZID=Europe/London:20170907T130000
DTSTAMP:20260423T125917
CREATED:20160409T160904Z
LAST-MODIFIED:20160409T160904Z
UID:1507-1504778400-1504789200@www.wycombefoe.org.uk
SUMMARY:Conservation volunteering - EVERY Thursday of the month
DESCRIPTION:Every Thursday the Chiltern Rangers run a volunteer conservation group which is open to all. Come along and meet the group at Wycombe Rye Lido Car Park and keep fit while helping to take care of your local environment at woodlands. \nTools\, gloves and hot drinks are provided. Please wear stout footwear and appropriate clothing suitable for outdoors activities and the weather. If you would like to get involved then please contact us. \ninfo@chilternrangers.co.uk
URL:https://www.wycombefoe.org.uk/event/conservation-volunteering-every-thursday-of-the-month-22/
LOCATION:Wycombe Lido Swimming pool\, The Rye \, HighWycombe\, United Kingdom
ORGANIZER;CN="Chiltern rangers":MAILTO:info@chilternrangers.co.uk
END:VEVENT
BEGIN:VEVENT
DTSTART;TZID=Europe/London:20170910T110000
DTEND;TZID=Europe/London:20170910T170000
DTSTAMP:20260423T125917
CREATED:20170129T151405Z
LAST-MODIFIED:20170129T151447Z
UID:1969-1505041200-1505062800@www.wycombefoe.org.uk
SUMMARY:Pann Mill Open day
DESCRIPTION:Enjoy a walk round the Rye and stop in on Pann Mill for cake/tea/coffee and view the variety of stands. \nFlour made in Pann Mill is usually on sale (dependent on water levels). \nLikely eco stalls: Wycombe Friends of the Earth and High Wycombe Beekeepers. \nCoincides with National Heritage Week.
URL:https://www.wycombefoe.org.uk/event/pann-mill-open-day-5/
LOCATION:Pann Mill\, The Rye (nr Busy Bees nursery)\, High Wycombe\, HP11 1BJ\, United Kingdom
CATEGORIES:Uptodate for 2017
END:VEVENT
BEGIN:VEVENT
DTSTART;VALUE=DATE:20170916
DTEND;VALUE=DATE:20170917
DTSTAMP:20260423T125917
CREATED:20160601T151917Z
LAST-MODIFIED:20170705T163906Z
UID:2291-1505520000-1505606399@www.wycombefoe.org.uk
SUMMARY:Ozone layer day
DESCRIPTION:UN international Day for the Preservation of the Ozone Layer. \nWorldwide\, every 16th September.
URL:https://www.wycombefoe.org.uk/event/ozone-layer-day-2/
END:VEVENT
BEGIN:VEVENT
DTSTART;VALUE=DATE:20170918
DTEND;VALUE=DATE:20170925
DTSTAMP:20260423T125917
CREATED:20160802T132840Z
LAST-MODIFIED:20170719T160310Z
UID:2293-1505692800-1506297599@www.wycombefoe.org.uk
SUMMARY:Waste less live more week
DESCRIPTION:Waste less\, Live more Week brings together organisations and people from all over the country to take part in activities which are good for us and good for the environment. Waste less\, Live more is an approach to life. It’s about rethinking how we live and making changes to reduce our environmental impact whilst improving the health and happiness of ourselves and each other. \nStarting every third Monday in September\, in the UK. \n 
URL:https://www.wycombefoe.org.uk/event/waste-less-live-more-week-2/
END:VEVENT
END:VCALENDAR