BEGIN:VCALENDAR
VERSION:2.0
PRODID:-//Wycombe Friends of the Earth - ECPv6.15.17//NONSGML v1.0//EN
CALSCALE:GREGORIAN
METHOD:PUBLISH
X-ORIGINAL-URL:https://www.wycombefoe.org.uk
X-WR-CALDESC:Events for Wycombe Friends of the Earth
REFRESH-INTERVAL;VALUE=DURATION:PT1H
X-Robots-Tag:noindex
X-PUBLISHED-TTL:PT1H
BEGIN:VTIMEZONE
TZID:Europe/London
BEGIN:DAYLIGHT
TZOFFSETFROM:+0000
TZOFFSETTO:+0100
TZNAME:BST
DTSTART:20250330T010000
END:DAYLIGHT
BEGIN:STANDARD
TZOFFSETFROM:+0100
TZOFFSETTO:+0000
TZNAME:GMT
DTSTART:20251026T010000
END:STANDARD
BEGIN:DAYLIGHT
TZOFFSETFROM:+0000
TZOFFSETTO:+0100
TZNAME:BST
DTSTART:20260329T010000
END:DAYLIGHT
BEGIN:STANDARD
TZOFFSETFROM:+0100
TZOFFSETTO:+0000
TZNAME:GMT
DTSTART:20261025T010000
END:STANDARD
BEGIN:DAYLIGHT
TZOFFSETFROM:+0000
TZOFFSETTO:+0100
TZNAME:BST
DTSTART:20270328T010000
END:DAYLIGHT
BEGIN:STANDARD
TZOFFSETFROM:+0100
TZOFFSETTO:+0000
TZNAME:GMT
DTSTART:20271031T010000
END:STANDARD
END:VTIMEZONE
BEGIN:VEVENT
DTSTART;TZID=Europe/London:20260105T183000
DTEND;TZID=Europe/London:20260105T190000
DTSTAMP:20260423T085704
CREATED:20220608T085815Z
LAST-MODIFIED:20251101T180235Z
UID:7465-1767637800-1767639600@www.wycombefoe.org.uk
SUMMARY:'Wycombe Env Projects' meeting - Restart?
DESCRIPTION:Wycombe Environment Projects (WEP) is a projects group run by the charity Wycombe Environment Centre.\nWEP is not a forum for discussion\, but for action\, to cut carbon and boost biodiversity. \nThe group meets weekly for half an hour by Zoom on most Mondays at 6.30 pm.\nIf you would like to join in\, please email penelope.trustee@refreshwycombe.org \nGroup was setup 10th Feb 2021. \n 
URL:https://www.wycombefoe.org.uk/event/wycombe-environment-group-meeting-most-mondays-2-2-2-2-2-4-2-4-2-2-2-2-3-2-2-2-2-2-2-2-2-2-2-2-2-2-2-2-2-2-2-2-2-2-2-2-2/
END:VEVENT
BEGIN:VEVENT
DTSTART;TZID=Europe/London:20260107T193000
DTEND;TZID=Europe/London:20260107T210000
DTSTAMP:20260423T085704
CREATED:20170129T143413Z
LAST-MODIFIED:20251101T180517Z
UID:7469-1767814200-1767819600@www.wycombefoe.org.uk
SUMMARY:Wycombe FoE Monthly Meeting
DESCRIPTION:Format of meeting (Zoom and/or Physical location).\nAgenda will be published a few days beforehand on our Home page – www.wycombefoe.org.uk. \nNon-members please email us at wycombefoe@yahoo.co.uk for a Zoom invitation.\nWe welcome new input and faces\, so let’s hear from you. \n 
URL:https://www.wycombefoe.org.uk/event/wycombe-friends-of-the-earth-monthly-meeting-23-6-2-2-2-3-3-2-3-2-2-2-2-2-2-2-2-2-2-2-2-2-3-3-2-2-2-2-2-3-2-2-2-2-2-2-2-2-2-2-2-2-2-2-4-2-2-2-2-2-2-2-2-2-3-2-2-2-2-2-3-2-2-2-3-2-2-2-2-2-2-2-2-2-2-3/
END:VEVENT
BEGIN:VEVENT
DTSTART;VALUE=DATE:20260201
DTEND;VALUE=DATE:20260202
DTSTAMP:20260423T085704
CREATED:20220216T155433Z
LAST-MODIFIED:20251101T142818Z
UID:7330-1769904000-1769990399@www.wycombefoe.org.uk
SUMMARY:More events to be added nearer the time.
DESCRIPTION:
URL:https://www.wycombefoe.org.uk/event/events-to-be-added-nearer-the-time-2-2-2-2-2/
END:VEVENT
BEGIN:VEVENT
DTSTART;TZID=Europe/London:20260201T130000
DTEND;TZID=Europe/London:20260201T140000
DTSTAMP:20260423T085704
CREATED:20241217T202526Z
LAST-MODIFIED:20251129T151907Z
UID:7481-1769950800-1769954400@www.wycombefoe.org.uk
SUMMARY:Steve Morton memorial walk - TBD
DESCRIPTION:We will meet at ?1PM by the Children’s playground on Coates Lane (see map link below) and walk around Hughenden Manor (est. walking time 1 -1.5hr). We will end the walk at the Manor Cafe – optional to stay with us for a cuppa and/snack.\nMap: https://www.google.com/…/data=!3m1!4b1!4m6!3m5…\n\n\n\nGenerally in January.
URL:https://www.wycombefoe.org.uk/event/steve-morton-memorial-walk-2-2/
ORGANIZER;CN="Wycombe Friends of the Earth":MAILTO:wycombefoe@yahoo.co.uk
END:VEVENT
BEGIN:VEVENT
DTSTART;VALUE=DATE:20260428
DTEND;VALUE=DATE:20260429
DTSTAMP:20260423T085704
CREATED:20250504T063251Z
LAST-MODIFIED:20250504T063353Z
UID:7183-1777334400-1777420799@www.wycombefoe.org.uk
SUMMARY:'No Mow May' coming up
DESCRIPTION:No Mow May is coming round again. To help wildlife and bees\, consider not mowing your lawn over May.\nhttps://www.plantlife.org.uk/everything-you-need-to-know-about-no-mow-may-and-the-no-mow-movement/
URL:https://www.wycombefoe.org.uk/event/no-mow-may/
END:VEVENT
BEGIN:VEVENT
DTSTART;TZID=Europe/London:20261005T193000
DTEND;TZID=Europe/London:20261005T213000
DTSTAMP:20260423T085704
CREATED:20160410T133442Z
LAST-MODIFIED:20170822T152059Z
UID:2465-1791228600-1791235800@www.wycombefoe.org.uk
SUMMARY:Wycombe Friends of the Earth - Monthly Meeting (20 year anniversary)
DESCRIPTION:Everyone is welcome to come along for a cup of tea and chat. \nWFoE was founded in October 2006\, so this month we celebrate 20 years of environmental campaigning in Wycombe District. \nEmail us at  wycombefoe@yahoo.co.uk for more info.
URL:https://www.wycombefoe.org.uk/event/wycombe-friends-of-the-earth-monthly-meeting-10-2/
LOCATION:Friends Meeting House\, 25 London Road\, High Wycombe\, HP11 1BJ
END:VEVENT
BEGIN:VEVENT
DTSTART;VALUE=DATE:20261124
DTEND;VALUE=DATE:20261125
DTSTAMP:20260423T085704
CREATED:20160409T183128Z
LAST-MODIFIED:20251127T155314Z
UID:7517-1795478400-1795564799@www.wycombefoe.org.uk
SUMMARY:Buy Nothing Day
DESCRIPTION:It’s a day where you challenge yourself\, your family and friends to switch off from shopping and tune into life. The rules are simple\, for 24 hours you will detox from shopping and anyone can take part provided they spend a day without spending! \nBTW if you happen to be over 60\, this is one for you: https://youtu.be/yBTjYBqGDOw \nEvery fourth Friday in November\, worldwide. \nwww.buynothingday.co.uk
URL:https://www.wycombefoe.org.uk/event/buy-nothing-day-3-2-2-2-2-2-2-2-2-2/
LOCATION:A WorldWide Event
END:VEVENT
END:VCALENDAR