BEGIN:VCALENDAR
VERSION:2.0
PRODID:-//Wycombe Friends of the Earth - ECPv6.15.17//NONSGML v1.0//EN
CALSCALE:GREGORIAN
METHOD:PUBLISH
X-ORIGINAL-URL:https://www.wycombefoe.org.uk
X-WR-CALDESC:Events for Wycombe Friends of the Earth
REFRESH-INTERVAL;VALUE=DURATION:PT1H
X-Robots-Tag:noindex
X-PUBLISHED-TTL:PT1H
BEGIN:VTIMEZONE
TZID:Europe/London
BEGIN:DAYLIGHT
TZOFFSETFROM:+0000
TZOFFSETTO:+0100
TZNAME:BST
DTSTART:20180325T010000
END:DAYLIGHT
BEGIN:STANDARD
TZOFFSETFROM:+0100
TZOFFSETTO:+0000
TZNAME:GMT
DTSTART:20181028T010000
END:STANDARD
BEGIN:DAYLIGHT
TZOFFSETFROM:+0000
TZOFFSETTO:+0100
TZNAME:BST
DTSTART:20190331T010000
END:DAYLIGHT
BEGIN:STANDARD
TZOFFSETFROM:+0100
TZOFFSETTO:+0000
TZNAME:GMT
DTSTART:20191027T010000
END:STANDARD
BEGIN:DAYLIGHT
TZOFFSETFROM:+0000
TZOFFSETTO:+0100
TZNAME:BST
DTSTART:20200329T010000
END:DAYLIGHT
BEGIN:STANDARD
TZOFFSETFROM:+0100
TZOFFSETTO:+0000
TZNAME:GMT
DTSTART:20201025T010000
END:STANDARD
END:VTIMEZONE
BEGIN:VEVENT
DTSTART;VALUE=DATE:20190520
DTEND;VALUE=DATE:20190525
DTSTAMP:20260422T230945
CREATED:20160406T114605Z
LAST-MODIFIED:20190402T155418Z
UID:3883-1558310400-1558742399@www.wycombefoe.org.uk
SUMMARY:Walk to school week
DESCRIPTION:Join over a million pupils and their families to celebrate walking to school. \nChallenge everyone in your school to walk every day during Walk to School Week and make a real difference to your children’s happiness and wellbeing. \nUK. \nEvery 3rd Monday of May\, till Friday.
URL:https://www.wycombefoe.org.uk/event/walk-to-school-week-2-2/
END:VEVENT
BEGIN:VEVENT
DTSTART;VALUE=DATE:20190601
DTEND;VALUE=DATE:20190602
DTSTAMP:20260422T230945
CREATED:20170301T100115Z
LAST-MODIFIED:20190501T105148Z
UID:3905-1559347200-1559433599@www.wycombefoe.org.uk
SUMMARY:OTHER LOCAL ECO EVENTS
DESCRIPTION:Note for using this calendar. \nSome local environmental organisations list their own events. \nClick on the link to their websites below and search for ‘what’s on’ or ‘events’: \nChiltern Rangers \nChinnor and Thame Friends of the Earth \nExtinction Rebellion Marlow \nHigh Wycombe Beekeepers \nHigh Wycombe & Marlow Vegans \nMarlow in Transition \nPopulation Matters High Wycombe \nRevive the Wye \nWycombe Environment Centre \nWycombe Wildlife Group \nAnd see… \nMarlow Repair Cafe (March\, June and Sept) \nFill Food \nFood shops and markets selling LOCAL produce \nFriends of the Earth (London) \nPopulation Matters (London)
URL:https://www.wycombefoe.org.uk/event/note-other-local-event-listings-10-2-2-8-4-2-3-2-2-2-2-2-2-2-2-2/
END:VEVENT
BEGIN:VEVENT
DTSTART;VALUE=DATE:20190601
DTEND;VALUE=DATE:20190602
DTSTAMP:20260422T230945
CREATED:20171209T175321Z
LAST-MODIFIED:20171209T175825Z
UID:2844-1559347200-1559433599@www.wycombefoe.org.uk
SUMMARY:Projections of UK population published in June
DESCRIPTION:Every two years\, the Office for National Statistics (ONS) publishes projections for the UK population. \nThe number of people expected to be living in the UK is one of the factors determining how many houses/roads need to be built\, as well as how many carbon emissions will be emitted.
URL:https://www.wycombefoe.org.uk/event/estimates-of-uk-population-published-in-june-2/
END:VEVENT
BEGIN:VEVENT
DTSTART;VALUE=DATE:20190605
DTEND;VALUE=DATE:20190606
DTSTAMP:20260422T230945
CREATED:20160406T140538Z
LAST-MODIFIED:20190428T192838Z
UID:3911-1559692800-1559779199@www.wycombefoe.org.uk
SUMMARY:Environment Day
DESCRIPTION:World Environment Day is the United Nations’ most important day for encouraging worldwide awareness and action for the protection of our environment. Since it began in 1974\, it has grown to become a global platform for public outreach that is widely celebrated in over 100 countries. \nAbove all\, it is the ‘people’s day’ for doing something to take care of the Earth or become an agent of change. That ‘something’ can be focused locally\, nationally or globally; it can be a solo action or involve a crowd. \nSee website for events and more information. \nWorldwide. Every 5th June.
URL:https://www.wycombefoe.org.uk/event/environment-day-2-2/
END:VEVENT
BEGIN:VEVENT
DTSTART;TZID=Europe/London:20190605T193000
DTEND;TZID=Europe/London:20190605T213000
DTSTAMP:20260422T230945
CREATED:20170129T143413Z
LAST-MODIFIED:20190506T135519Z
UID:3907-1559763000-1559770200@www.wycombefoe.org.uk
SUMMARY:Wycombe Friends of the Earth - AGM
DESCRIPTION:For our AGM we have a guest speaker from National Friends of the Earth. He will be talking about climate change and wheat we can do. All welcome! \nBus stop is also right next to the Trinity Reformed Church (only 5min walk to the meeting venue). Free parking (from 7pm) is available at the car park next to the church. \nEmail us at  wycombefoe@yahoo.co.uk for more info. \n 
URL:https://www.wycombefoe.org.uk/event/wycombe-friends-of-the-earth-monthly-meeting-23-6-2-2-2-3-3-2-2/
LOCATION:Quaker Meeting House\, 25 London Road\, High Wycombe\, HP11 1BJ\, United Kingdom
END:VEVENT
BEGIN:VEVENT
DTSTART;TZID=Europe/London:20190606T100000
DTEND;TZID=Europe/London:20190606T130000
DTSTAMP:20260422T230945
CREATED:20160409T161011Z
LAST-MODIFIED:20190428T192639Z
UID:3909-1559815200-1559826000@www.wycombefoe.org.uk
SUMMARY:Conservation volunteering - EVERY Thursday of the month
DESCRIPTION:Every Thursday the Chiltern Rangers run a volunteer conservation group which is open to all. Come along and meet the group at Wycombe Rye Lido Car Park and keep fit while helping to take care of your local environment at woodlands. \nTools\, gloves and hot drinks are provided. Please wear stout footwear and appropriate clothing suitable for outdoors activities and the weather. If you would like to get involved then please contact us – info@chilternrangers.co.uk \nMore events are on their website. \n 
URL:https://www.wycombefoe.org.uk/event/conservation-volunteering-every-thursday-of-the-month-25-4-4-4-3-3-2-2-2-2-2/
LOCATION:Wycombe Lido Swimming pool\, The Rye \, HighWycombe\, United Kingdom
ORGANIZER;CN="Chiltern rangers":MAILTO:info@chilternrangers.co.uk
END:VEVENT
BEGIN:VEVENT
DTSTART;VALUE=DATE:20190608
DTEND;VALUE=DATE:20190609
DTSTAMP:20260422T230945
CREATED:20160406T145038Z
LAST-MODIFIED:20190428T193140Z
UID:3913-1559952000-1560038399@www.wycombefoe.org.uk
SUMMARY:Oceans day
DESCRIPTION:World Oceans Day is the United Nations-recognized day of ocean celebration and action. \nWorldwide. Every 8th June.
URL:https://www.wycombefoe.org.uk/event/oceans-day-2-2-2/
END:VEVENT
BEGIN:VEVENT
DTSTART;VALUE=DATE:20190608
DTEND;VALUE=DATE:20190617
DTSTAMP:20260422T230945
CREATED:20160406T150318Z
LAST-MODIFIED:20190513T205622Z
UID:3915-1559952000-1560729599@www.wycombefoe.org.uk
SUMMARY:Bike week
DESCRIPTION:National Bike Week is an annual opportunity to promote cycling\, and show how cycling can easily be part of everyday life by encouraging ‘everyday cycling for everyone’. Demonstrating the social\, health and environmental benefits of cycling\, the week aims to get people to give cycling a go all over the UK\, whether this be for fun\, as a means of getting around to work or school\, the local shops or just to visit friends. \nSee website for events near you. \nEvery 2nd Saturday of June. UK. \n 
URL:https://www.wycombefoe.org.uk/event/bike-week-2-2-2/
END:VEVENT
BEGIN:VEVENT
DTSTART;TZID=Europe/London:20190608T140000
DTEND;TZID=Europe/London:20190608T160000
DTSTAMP:20260422T230945
CREATED:20190524T171002Z
LAST-MODIFIED:20190524T171125Z
UID:3969-1560002400-1560009600@www.wycombefoe.org.uk
SUMMARY:Plastic attack (returning surplus plastic before leaving shops)
DESCRIPTION:Plastic Attacks are now spreading across the world. A small group of shoppers decided they had had enough of excessive amounts of plastic packaging. Their idea was simple\, ‘just leave it all behind!’ \nNow Plastic Attack comes to High Wycombe! \nThe group meet outside the supermarket holding banners\, hand out informative flyers and talk to other shoppers in order to raise awareness of the cause. They then encourage the other everyday people coming to the supermarket to do their shopping to join in the event on the day.\nThe shoppers then enter the shop\, fill their trolleys with the general items they require for their weeks food shopping and head to the checkouts.\nTheir goods are then paid for as normal.\nAfter checkout the shoppers then start to strip all the plastic packaging from the food they have purchased and it is collected into trolleys by the organisers. \nFood is then repackaged into reusable containers and bags often made from alternative plastic free materials. The organisers try to provide any shoppers who don’t have their own bags and containers with bags and boxes which they have saved from going to landfill to be reused at the event.\nThe management at the store are then informed that the plastic packaging will be left behind as a direct protest about the overuse of this unnecessary waste\, and that the supermarket now take responsibility for ensuring it is recycled correctly.\nThey are then asked pass the message on (in the form of a letter or information\, and any petitions as signed by shoppers and concerned local people) to senior levels of management in the hope that they will listen to their customers\, and both change the way they package their products and put pressure on their suppliers to do the same.\nFood is then either taken home by the shoppers or sometimes people donate this to local food banks or other local charities through the organisers if they wish.
URL:https://www.wycombefoe.org.uk/event/plastic-attack-return-surplus-plastic-to-shops-before-leaving/
LOCATION:Sainsburys High Wycombe\, Oxford Road\, High Wycombe\, Buckinghamshire\, HP11 2DN\, United Kingdom
END:VEVENT
BEGIN:VEVENT
DTSTART;TZID=Europe/London:20190611T190000
DTEND;TZID=Europe/London:20190611T220000
DTSTAMP:20260422T230945
CREATED:20190513T205311Z
LAST-MODIFIED:20190513T205422Z
UID:3958-1560279600-1560290400@www.wycombefoe.org.uk
SUMMARY:Bike ride from Cryers Hill (part of National Bike Week)
DESCRIPTION:Time includes drink at pub. \nMore info at… \nhttps://www.cyclinguk.org/event/chiltern-explorer
URL:https://www.wycombefoe.org.uk/event/bike-ride-from-cryers-hill-part-of-national-bike-week/
END:VEVENT
BEGIN:VEVENT
DTSTART;VALUE=DATE:20190617
DTEND;VALUE=DATE:20190618
DTSTAMP:20260422T230945
CREATED:20160406T151650Z
LAST-MODIFIED:20190428T193710Z
UID:3918-1560729600-1560815999@www.wycombefoe.org.uk
SUMMARY:Combating desertification day
DESCRIPTION:World day to combat desertification. \n​There is probably no greater issue than land in the post-2015 Sustainable Development Goals that touches everyone. From the food we eat\, to the clothes we wear and the houses we live – it all stems from land resources. In order to “leave no one behind” as proclaimed in the new Sustainable Development Goals\, achieving land degradation neutrality needs to be in the forefront to meet our requirements and develop sustainability. \nEvery 17th June. Worldwide.
URL:https://www.wycombefoe.org.uk/event/combating-desertification-day-2-2-2/
END:VEVENT
BEGIN:VEVENT
DTSTART;VALUE=DATE:20190620
DTEND;VALUE=DATE:20190621
DTSTAMP:20260422T230945
CREATED:20180311T133450Z
LAST-MODIFIED:20190428T194001Z
UID:3920-1560988800-1561075199@www.wycombefoe.org.uk
SUMMARY:Clean air day
DESCRIPTION:Clean Air Day is a chance for the whole country (UK) to come together and improve air quality through collective action. \nFind out more about air pollution and how it can impact your health. \nEvery 3rd(?) Thursday of June.
URL:https://www.wycombefoe.org.uk/event/clean-air-day-2/
END:VEVENT
BEGIN:VEVENT
DTSTART;VALUE=DATE:20190701
DTEND;VALUE=DATE:20190702
DTSTAMP:20260422T230945
CREATED:20170301T100115Z
LAST-MODIFIED:20190601T171503Z
UID:3977-1561939200-1562025599@www.wycombefoe.org.uk
SUMMARY:OTHER LOCAL ECO EVENTS
DESCRIPTION:Note for using this calendar. \nSome local environmental organisations list their own events. \nClick on the link to their websites below and search for ‘what’s on’ or ‘events’: \nChiltern Rangers \nChiltern Green Party \nChinnor and Thame Friends of the Earth \nExtinction Rebellion Marlow \nHigh Wycombe Beekeepers \nHigh Wycombe & Marlow Vegans \nMarlow in Transition \nPopulation Matters High Wycombe \nRevive the Wye \nWycombe Environment Centre \nWycombe Wildlife Group \nAnd see… \nMarlow Repair Cafe (March\, June and Sept) \nFill Food \nFood shops and markets selling LOCAL produce \nFriends of the Earth (London) \nPopulation Matters (London)
URL:https://www.wycombefoe.org.uk/event/note-other-local-event-listings-10-2-2-8-4-2-3-2-2-2-2-2-2-2-2-2-2-2/
END:VEVENT
BEGIN:VEVENT
DTSTART;TZID=Europe/London:20190703T193000
DTEND;TZID=Europe/London:20190703T213000
DTSTAMP:20260422T230945
CREATED:20170129T143413Z
LAST-MODIFIED:20190601T145844Z
UID:3979-1562182200-1562189400@www.wycombefoe.org.uk
SUMMARY:Wycombe Friends of the Earth - Monthly Meeting
DESCRIPTION:Everyone is welcome to come along to chat about local environmental matters. We have ongoing campaigns such as reducing plastic waste\, improving local air quality\, looking after our bees etc). \nEasy parking (free from 7pm) is available at the car park next to Trinity United Reformed Church (only 5min walk to the meeting venue). \nBus stop is also right next to the church as well. \nEmail us at  wycombefoe@yahoo.co.uk for more info. \n 
URL:https://www.wycombefoe.org.uk/event/wycombe-friends-of-the-earth-monthly-meeting-23-6-2-2-2-3-3-2-3/
LOCATION:Quaker Meeting House\, 25 London Road\, High Wycombe\, HP11 1BJ\, United Kingdom
END:VEVENT
BEGIN:VEVENT
DTSTART;TZID=Europe/London:20190704T100000
DTEND;TZID=Europe/London:20190704T130000
DTSTAMP:20260422T230945
CREATED:20160409T161011Z
LAST-MODIFIED:20190601T150011Z
UID:3981-1562234400-1562245200@www.wycombefoe.org.uk
SUMMARY:Conservation volunteering - EVERY Thursday of the month
DESCRIPTION:Every Thursday the Chiltern Rangers run a volunteer conservation group which is open to all. Come along and meet the group at Wycombe Rye Lido Car Park and keep fit while helping to take care of your local environment at woodlands. \nTools\, gloves and hot drinks are provided. Please wear stout footwear and appropriate clothing suitable for outdoors activities and the weather. If you would like to get involved then please contact us – info@chilternrangers.co.uk \nMore events are on their website. \n 
URL:https://www.wycombefoe.org.uk/event/conservation-volunteering-every-thursday-of-the-month-25-4-4-4-3-3-2-2-2-2-2-2/
LOCATION:Wycombe Lido Swimming pool\, The Rye \, HighWycombe\, United Kingdom
ORGANIZER;CN="Chiltern rangers":MAILTO:info@chilternrangers.co.uk
END:VEVENT
BEGIN:VEVENT
DTSTART;VALUE=DATE:20190711
DTEND;VALUE=DATE:20190712
DTSTAMP:20260422T230945
CREATED:20160502T175327Z
LAST-MODIFIED:20190601T165750Z
UID:3986-1562803200-1562889599@www.wycombefoe.org.uk
SUMMARY:World population day
DESCRIPTION:In 1989\, the Governing Council of the United Nations Development Programme recommended that 11 July be observed by the international community as World Population Day\, a day to focus attention on the urgency and importance of population issues.\n\nWorldwide\, every 11th July.\n\nFor events local to High Wycombe email  highwycombegroup@populationmatters.org\nFor events further afield\, see www.populationmatters.org.
URL:https://www.wycombefoe.org.uk/event/world-population-day-2-2-2/
END:VEVENT
BEGIN:VEVENT
DTSTART;TZID=Europe/London:20190714T110000
DTEND;TZID=Europe/London:20190714T170000
DTSTAMP:20260422T230945
CREATED:20170129T151310Z
LAST-MODIFIED:20190601T150434Z
UID:3983-1563102000-1563123600@www.wycombefoe.org.uk
SUMMARY:Pann Mill Open day
DESCRIPTION:Enjoy a walk round the Rye and stop in on Pann Mill for cake/tea/coffee and view the variety of stands. \nFlour made in Pann Mill is usually on sale (dependent on water levels). \nPossible environmental stalls: High Wycombe Beekeepers (sale of locally made honey) \n 
URL:https://www.wycombefoe.org.uk/event/pann-mill-open-day-4-2-2/
LOCATION:Pann Mill\, The Rye (nr Busy Bees nursery)\, High Wycombe\, HP11 1BJ\, United Kingdom
END:VEVENT
BEGIN:VEVENT
DTSTART;VALUE=DATE:20190729
DTEND;VALUE=DATE:20190730
DTSTAMP:20260422T230945
CREATED:20180724T120746Z
LAST-MODIFIED:20190622T195118Z
UID:3213-1564358400-1564444799@www.wycombefoe.org.uk
SUMMARY:Earth Overshoot Day
DESCRIPTION:Earth Overshoot Day marks the date when humanity’s demand for ecological resources and services in a given year exceeds what Earth can regenerate in that year. We maintain this deficit by liquidating stocks of ecological resources and accumulating waste\, primarily carbon dioxide in the atmosphere. \nEarth Overshoot Day is hosted and calculated by Global Footprint Network\, an international think tank that coordinates research\, develops methodological standards and provides decision-makers with a menu of tools to help the human economy operate within Earth’s ecological limits. \nEvery year different date depending on how sustainable we are; worldwide.
URL:https://www.wycombefoe.org.uk/event/earth-overshoot-day/
END:VEVENT
BEGIN:VEVENT
DTSTART;VALUE=DATE:20190801
DTEND;VALUE=DATE:20190802
DTSTAMP:20260422T230945
CREATED:20170301T100115Z
LAST-MODIFIED:20190726T082936Z
UID:3992-1564617600-1564703999@www.wycombefoe.org.uk
SUMMARY:OTHER ECO EVENTS & GROUPS
DESCRIPTION:Note for using this calendar: \nSome local environmental organisations list their own events. \nClick on the link to their websites below and search for ‘what’s on’ or ‘events’: \nChiltern Rangers \nChinnor and Thame Friends of the Earth \nExtinction Rebellion Marlow \nHigh Wycombe Beekeepers \nHigh Wycombe & Marlow Vegans \nMarlow in Transition \nPopulation Matters High Wycombe \nRevive the Wye \nWycombe Environment Centre \nWycombe Wildlife Group \nSee also… \nFill Food (local eco deliveries) \nFood shops and markets selling LOCAL produce \nFriends of the Earth (London) \nHOPE  (online eco shop) \nMarlow Repair Cafe (March\, June and Sept) \nPopulation Matters (London) \nTen Mile Menu (local vegbox delivery)
URL:https://www.wycombefoe.org.uk/event/note-other-local-event-listings-10-2-2-8-4-2-3-2-2-2-2-2-2-2-2-2-2/
END:VEVENT
BEGIN:VEVENT
DTSTART;TZID=Europe/London:20190801T080000
DTEND;TZID=Europe/London:20190801T170000
DTSTAMP:20260422T230945
CREATED:20190220T162347Z
LAST-MODIFIED:20190622T214647Z
UID:3752-1564646400-1564678800@www.wycombefoe.org.uk
SUMMARY:Wycombe for Fairtrade 5 year anniversary (date tbc)
DESCRIPTION:
URL:https://www.wycombefoe.org.uk/event/wycombe-for-fairtrade-5-year-anniv-celebrations-date-tbd/
END:VEVENT
BEGIN:VEVENT
DTSTART;TZID=Europe/London:20190801T100000
DTEND;TZID=Europe/London:20190801T130000
DTSTAMP:20260422T230945
CREATED:20160409T161011Z
LAST-MODIFIED:20190622T195503Z
UID:4003-1564653600-1564664400@www.wycombefoe.org.uk
SUMMARY:Conservation volunteering - EVERY Thursday of the month
DESCRIPTION:Every Thursday the Chiltern Rangers run a volunteer conservation group which is open to all. Come along and meet the group at Wycombe Rye Lido Car Park and keep fit while helping to take care of your local environment at woodlands. \nTools\, gloves and hot drinks are provided. Please wear stout footwear and appropriate clothing suitable for outdoors activities and the weather. If you would like to get involved then please contact us – info@chilternrangers.co.uk \nMore events are on their website. \n 
URL:https://www.wycombefoe.org.uk/event/conservation-volunteering-every-thursday-of-the-month-25-4-4-4-3-3-2-2-2-2-2-2-2/
LOCATION:Wycombe Lido Swimming pool\, The Rye \, HighWycombe\, United Kingdom
ORGANIZER;CN="Chiltern rangers":MAILTO:info@chilternrangers.co.uk
END:VEVENT
BEGIN:VEVENT
DTSTART;TZID=Europe/London:20190807T193000
DTEND;TZID=Europe/London:20190807T213000
DTSTAMP:20260422T230945
CREATED:20170129T143413Z
LAST-MODIFIED:20190622T194929Z
UID:3999-1565206200-1565213400@www.wycombefoe.org.uk
SUMMARY:Wycombe Friends of the Earth - Monthly Meeting
DESCRIPTION:Everyone is welcome to come along to chat about local environmental matters. We have ongoing campaigns such as tackling climate change\, reducing plastic waste and improving local air quality. \nBus stop is also right next to the church. \nEasy parking (free from 7pm) is available at the car park next to Trinity United Reformed Church (only 5min walk to the meeting venue). \nEmail us at  wycombefoe@yahoo.co.uk for more info. \n 
URL:https://www.wycombefoe.org.uk/event/wycombe-friends-of-the-earth-monthly-meeting-23-6-2-2-2-3-3-2-3-2/
LOCATION:Quaker Meeting House\, 25 London Road\, High Wycombe\, HP11 1BJ\, United Kingdom
END:VEVENT
BEGIN:VEVENT
DTSTART;VALUE=DATE:20190901
DTEND;VALUE=DATE:20190902
DTSTAMP:20260422T230945
CREATED:20170301T100115Z
LAST-MODIFIED:20190726T083044Z
UID:4032-1567296000-1567382399@www.wycombefoe.org.uk
SUMMARY:OTHER ECO EVENTS & GROUPS
DESCRIPTION:Note for using this calendar: \nSome local environmental organisations list their own events. \nClick on the link to their websites below and search for ‘what’s on’ or ‘events’: \nChiltern Rangers \nChinnor and Thame Friends of the Earth \nExtinction Rebellion Marlow \nHigh Wycombe Beekeepers \nHigh Wycombe & Marlow Vegans \nMarlow in Transition \nPopulation Matters High Wycombe \nRevive the Wye \nWycombe Environment Centre \nWycombe Wildlife Group \nSee also… \nFill Food (local eco deliveries) \nFood shops and markets selling LOCAL produce \nFriends of the Earth (London) \nHOPE  (online eco shop) \nMarlow Repair Cafe (March\, June and Sept) \nPopulation Matters (London) \nTen Mile Menu (local vegbox delivery)
URL:https://www.wycombefoe.org.uk/event/note-other-local-event-listings-10-2-2-8-4-2-3-2-2-2-2-2-2-2-2-2-2-3/
END:VEVENT
BEGIN:VEVENT
DTSTART;TZID=Europe/London:20190904T193000
DTEND;TZID=Europe/London:20190904T213000
DTSTAMP:20260422T230945
CREATED:20170129T143413Z
LAST-MODIFIED:20190726T083230Z
UID:4034-1567625400-1567632600@www.wycombefoe.org.uk
SUMMARY:Wycombe Friends of the Earth - Monthly Meeting
DESCRIPTION:Everyone is welcome to come along to chat about local environmental matters. We have ongoing campaigns such as tackling climate change\, reducing plastic waste and improving local air quality. \nBus stop is also right next to the church. \nEasy parking (free from 7pm) is available at the car park next to Trinity United Reformed Church (only 5min walk to the meeting venue). \nEmail us at  wycombefoe@yahoo.co.uk for more info. \n 
URL:https://www.wycombefoe.org.uk/event/wycombe-friends-of-the-earth-monthly-meeting-23-6-2-2-2-3-3-2-3-2-2/
LOCATION:Quaker Meeting House\, 25 London Road\, High Wycombe\, HP11 1BJ\, United Kingdom
END:VEVENT
BEGIN:VEVENT
DTSTART;TZID=Europe/London:20190905T100000
DTEND;TZID=Europe/London:20190905T130000
DTSTAMP:20260422T230945
CREATED:20160409T161011Z
LAST-MODIFIED:20190726T082755Z
UID:4028-1567677600-1567688400@www.wycombefoe.org.uk
SUMMARY:Conservation volunteering - EVERY Thursday of the month
DESCRIPTION:Every Thursday the Chiltern Rangers run a volunteer conservation group which is open to all. Come along and meet the group at Wycombe Rye Lido Car Park and keep fit while helping to take care of your local environment at woodlands. \nTools\, gloves and hot drinks are provided. Please wear stout footwear and appropriate clothing suitable for outdoors activities and the weather. If you would like to get involved then please contact us – info@chilternrangers.co.uk \nMore events are on their website. \n 
URL:https://www.wycombefoe.org.uk/event/conservation-volunteering-every-thursday-of-the-month-25-4-4-4-3-3-2-2-2-2-2-2-2-2/
LOCATION:Wycombe Lido Swimming pool\, The Rye \, HighWycombe\, United Kingdom
ORGANIZER;CN="Chiltern rangers":MAILTO:info@chilternrangers.co.uk
END:VEVENT
BEGIN:VEVENT
DTSTART;TZID=Europe/London:20190915T110000
DTEND;TZID=Europe/London:20190915T170000
DTSTAMP:20260422T230945
CREATED:20170129T151405Z
LAST-MODIFIED:20190726T083804Z
UID:4038-1568545200-1568566800@www.wycombefoe.org.uk
SUMMARY:Pann Mill Open day
DESCRIPTION:Enjoy a walk round the Rye and stop in on Pann Mill for cake/tea/coffee and view the variety of stands. \nFlour made in Pann Mill is usually on sale (dependent on water levels). \nLikely eco stalls: Wycombe Friends of the Earth and High Wycombe Beekeepers. \nCoincides with Heritage Open Days.
URL:https://www.wycombefoe.org.uk/event/pann-mill-open-day-5-2-2/
LOCATION:Pann Mill\, The Rye (nr Busy Bees nursery)\, High Wycombe\, HP11 1BJ\, United Kingdom
CATEGORIES:Uptodate for 2018
END:VEVENT
BEGIN:VEVENT
DTSTART;VALUE=DATE:20190916
DTEND;VALUE=DATE:20190917
DTSTAMP:20260422T230945
CREATED:20160601T151917Z
LAST-MODIFIED:20190726T083603Z
UID:4036-1568592000-1568678399@www.wycombefoe.org.uk
SUMMARY:Ozone layer day
DESCRIPTION:UN international Day for the Preservation of the Ozone Layer. \nWorldwide\, every 16th September.
URL:https://www.wycombefoe.org.uk/event/ozone-layer-day-2-2-2/
CATEGORIES:Uptodate for 2017,Uptodate for 2018
END:VEVENT
BEGIN:VEVENT
DTSTART;VALUE=DATE:20190923
DTEND;VALUE=DATE:20190930
DTSTAMP:20260422T230945
CREATED:20160601T151032Z
LAST-MODIFIED:20190726T084534Z
UID:4040-1569196800-1569801599@www.wycombefoe.org.uk
SUMMARY:Recycle week
DESCRIPTION:The aim of the week is to encourage people to think about all those items that often get forgotten about when recycling at home. And to encourage people to recycle more\, waste less and take up the challenge for sustainable living. \nFrom fourth Monday\, to Sunday. \n 
URL:https://www.wycombefoe.org.uk/event/recycle-week-2-2-2/
CATEGORIES:Uptodate for 2018
END:VEVENT
BEGIN:VEVENT
DTSTART;VALUE=DATE:20190926
DTEND;VALUE=DATE:20190927
DTSTAMP:20260422T230945
CREATED:20190601T170342Z
LAST-MODIFIED:20190601T170547Z
UID:3988-1569456000-1569542399@www.wycombefoe.org.uk
SUMMARY:World Contraception Day
DESCRIPTION:The annual worldwide campaign centers around a vision where every pregnancy is wanted. Launched in 2007\, WCD’s mission is to improve awareness of contraception and to enable young people to make informed choices on their sexual and reproductive health. \nFrom a sustainability and climate change viewpoint this is also important because having one fewer child has a bigger impact than going vegan\, flying less or not using fossil fuels\, combined! \nWorldwide\, every 26th September.
URL:https://www.wycombefoe.org.uk/event/world-contraception-day/
END:VEVENT
BEGIN:VEVENT
DTSTART;VALUE=DATE:20191001
DTEND;VALUE=DATE:20191002
DTSTAMP:20260422T230945
CREATED:20170131T113143Z
LAST-MODIFIED:20190929T153601Z
UID:4103-1569888000-1569974399@www.wycombefoe.org.uk
SUMMARY:Vegetarian day
DESCRIPTION:To raise awareness of the benefits of a vegetarian diet in terms of ethics\, health and environmental sustainability. \nWorldwide\, every 1st October.
URL:https://www.wycombefoe.org.uk/event/vegetarian-day-2-2/
END:VEVENT
END:VCALENDAR