BEGIN:VCALENDAR
VERSION:2.0
PRODID:-//Wycombe Friends of the Earth - ECPv6.15.17//NONSGML v1.0//EN
CALSCALE:GREGORIAN
METHOD:PUBLISH
X-WR-CALNAME:Wycombe Friends of the Earth
X-ORIGINAL-URL:https://www.wycombefoe.org.uk
X-WR-CALDESC:Events for Wycombe Friends of the Earth
REFRESH-INTERVAL;VALUE=DURATION:PT1H
X-Robots-Tag:noindex
X-PUBLISHED-TTL:PT1H
BEGIN:VTIMEZONE
TZID:Europe/London
BEGIN:DAYLIGHT
TZOFFSETFROM:+0000
TZOFFSETTO:+0100
TZNAME:BST
DTSTART:20220327T010000
END:DAYLIGHT
BEGIN:STANDARD
TZOFFSETFROM:+0100
TZOFFSETTO:+0000
TZNAME:GMT
DTSTART:20221030T010000
END:STANDARD
BEGIN:DAYLIGHT
TZOFFSETFROM:+0000
TZOFFSETTO:+0100
TZNAME:BST
DTSTART:20230326T010000
END:DAYLIGHT
BEGIN:STANDARD
TZOFFSETFROM:+0100
TZOFFSETTO:+0000
TZNAME:GMT
DTSTART:20231029T010000
END:STANDARD
BEGIN:DAYLIGHT
TZOFFSETFROM:+0000
TZOFFSETTO:+0100
TZNAME:BST
DTSTART:20240331T010000
END:DAYLIGHT
BEGIN:STANDARD
TZOFFSETFROM:+0100
TZOFFSETTO:+0000
TZNAME:GMT
DTSTART:20241027T010000
END:STANDARD
BEGIN:DAYLIGHT
TZOFFSETFROM:+0000
TZOFFSETTO:+0100
TZNAME:BST
DTSTART:20250330T010000
END:DAYLIGHT
BEGIN:STANDARD
TZOFFSETFROM:+0100
TZOFFSETTO:+0000
TZNAME:GMT
DTSTART:20251026T010000
END:STANDARD
END:VTIMEZONE
BEGIN:VEVENT
DTSTART;VALUE=DATE:20231101
DTEND;VALUE=DATE:20231102
DTSTAMP:20260423T224859
CREATED:20170301T100115Z
LAST-MODIFIED:20230730T142846Z
UID:6204-1698796800-1698883199@www.wycombefoe.org.uk
SUMMARY:OTHER ECO GROUPS & EVENTS
DESCRIPTION:Click links below… \nList of environmental events in the Wycombe area\nThis is a more detailed listing of individual events. It is a pinned post on the Facebook page of Wycombe Env Centre. \nList of environmental organisations in the Wycombe area\nAnother way to find out re events. Click on the link to the organisation’s website and search for ‘what’s on’\, events or similar.\n \n  \n 
URL:https://www.wycombefoe.org.uk/event/note-other-local-event-listings-10-2-2-8-4-2-3-2-2-2-2-2-2-2-2-2-2-3-2-2-2-2-2-2-2-2-2-2-2-2-2-2-2-2-2-2-2-2-2-2-2-2-2-2-2-2-2-2-2-2-2-2-2-2-2-2-2-2-2-2-2-2-2-2-2-2-2/
END:VEVENT
BEGIN:VEVENT
DTSTART;TZID=Europe/London:20231101T133000
DTEND;TZID=Europe/London:20231101T163000
DTSTAMP:20260423T224859
CREATED:20220608T084910Z
LAST-MODIFIED:20230730T143240Z
UID:6212-1698845400-1698856200@www.wycombefoe.org.uk
SUMMARY:Scrapstore 'Refresh' EVERY WEDNESDAY
DESCRIPTION:Refresh Wycombe is a wonderful scrap store based in the Chiltern Shopping Centre\, right here in the heart of High Wycombe. Our aim is to encourage you to Reduce\, Reuse\, Recycle and Create. We have a huge selection of surplus and unwanted stock all donated by local businesses and individuals. You may be a crafter\, a teacher\, an artist or a maker. We have fantastic fabrics\, textiles\, haberdashery items\, cards\, papers\, foils\, and shelves full of materials just waiting for you to give it a second life and use it on your next project. We are open to everyone\, so come and visit us every Saturday between 10am and 4pm and Wednesday between 1:30pm and 4:30pm. We’re just next door to Primark inside the Chiltern Shopping Centre.\n\nPlease follow us on Social Media to get all the latest news.\nFacebook – Refreshwycombe\nInstagram – @refreshwycombe\nWebsite – www.refreshwycombe.org
URL:https://www.wycombefoe.org.uk/event/scrapstore-refresh-every-saturday-2-2-2-2-3-2-2-2-2-2-2-2-2-5-2-2-2-2/
LOCATION:Chilterns Shopping Centre\, Unit 8\, Chilterns Shopping Centre\, Frogmoor\, High Wycombe\, HP13 5ES\, United Kingdom
END:VEVENT
BEGIN:VEVENT
DTSTART;TZID=Europe/London:20231101T193000
DTEND;TZID=Europe/London:20231101T210000
DTSTAMP:20260423T224859
CREATED:20170129T143413Z
LAST-MODIFIED:20230730T142938Z
UID:6206-1698867000-1698872400@www.wycombefoe.org.uk
SUMMARY:Wycombe FoE Monthly Meeting
DESCRIPTION:Format of meeting (Zoom and/or Physical location).\nAgenda will be published a few days beforehand on our Home page – www.wycombefoe.org.uk. \nNon-members please email us at wycombefoe@yahoo.co.uk for a Zoom invitation.\nWe welcome new input and faces\, so let’s hear from you. \n 
URL:https://www.wycombefoe.org.uk/event/wycombe-friends-of-the-earth-monthly-meeting-23-6-2-2-2-3-3-2-3-2-2-2-2-2-2-2-2-2-2-2-2-2-3-3-2-2-2-2-2-3-2-2-2-2-2-2-2-2-2-2-2-2-2-2-4-2-2-2-2-2-2-2-2-2/
END:VEVENT
BEGIN:VEVENT
DTSTART;TZID=Europe/London:20231102T100000
DTEND;TZID=Europe/London:20231102T130000
DTSTAMP:20260423T224859
CREATED:20160409T161011Z
LAST-MODIFIED:20230730T143054Z
UID:6208-1698919200-1698930000@www.wycombefoe.org.uk
SUMMARY:Chiltern Rangers Conservation MOST THURSDAYS
DESCRIPTION:Most Thursdays the Chiltern Rangers run a volunteer conservation group which is open to all.\nCome along and meet the group at Wycombe Rye Lido Car Park and keep fit while helping to take care of your local environment at woodlands. \nTools\, gloves and hot drinks are provided. Please wear stout footwear and appropriate clothing suitable for outdoors activities and the weather. If you would like to get involved then please contact them –  info@chilternrangers.co.uk \nCheck their website for details and more events. \n 
URL:https://www.wycombefoe.org.uk/event/conservation-volunteering-every-thursday-of-the-month-25-4-4-4-3-3-2-2-2-2-2-2-2-2-2-2-3-2-2-2-2-2-2-2-2-2-2-2-2-2-2-2-2-2-3-2-2-2-2-2-2-2-2-2-2-5-2-2-2-2-2-2/
LOCATION:Wycombe Lido Swimming pool\, The Rye \, HighWycombe\, United Kingdom
ORGANIZER;CN="Chiltern rangers":MAILTO:info@chilternrangers.co.uk
END:VEVENT
BEGIN:VEVENT
DTSTART;TZID=Europe/London:20231104T100000
DTEND;TZID=Europe/London:20231104T160000
DTSTAMP:20260423T224859
CREATED:20220608T084910Z
LAST-MODIFIED:20230730T143151Z
UID:6210-1699092000-1699113600@www.wycombefoe.org.uk
SUMMARY:Scrapstore 'Refresh' EVERY SATURDAY
DESCRIPTION:Refresh Wycombe is a wonderful scrap store based in the Chiltern Shopping Centre\, right here in the heart of High Wycombe. Our aim is to encourage you to Reduce\, Reuse\, Recycle and Create. We have a huge selection of surplus and unwanted stock all donated by local businesses and individuals. You may be a crafter\, a teacher\, an artist or a maker. We have fantastic fabrics\, textiles\, haberdashery items\, cards\, papers\, foils\, and shelves full of materials just waiting for you to give it a second life and use it on your next project. We are open to everyone\, so come and visit us every Saturday between 10am and 4pm and Wednesday between 1:30pm and 4:30pm. We’re just next door to Primark inside the Chiltern Shopping Centre.\n\nPlease follow us on Social Media to get all the latest news.\nFacebook – Refreshwycombe\nInstagram – @refreshwycombe\nWebsite – www.refreshwycombe.org
URL:https://www.wycombefoe.org.uk/event/scrapstore-refresh-every-saturday-2-2-2-2-3-2-2-2-2-2-5-2-2-2-2-2/
END:VEVENT
BEGIN:VEVENT
DTSTART;VALUE=DATE:20231106
DTEND;VALUE=DATE:20231107
DTSTAMP:20260423T224859
CREATED:20160409T183503Z
LAST-MODIFIED:20230730T143652Z
UID:6216-1699228800-1699315199@www.wycombefoe.org.uk
SUMMARY:Prevention of environmental exploitation in armed conflict
DESCRIPTION:Worldwide\, every 6th of November.
URL:https://www.wycombefoe.org.uk/event/prevention-of-environmental-exploitation-in-armed-conflict-4-2-2-2-2-2-2/
END:VEVENT
BEGIN:VEVENT
DTSTART;TZID=Europe/London:20231106T183000
DTEND;TZID=Europe/London:20231106T190000
DTSTAMP:20260423T224859
CREATED:20220608T085815Z
LAST-MODIFIED:20230730T144117Z
UID:6226-1699295400-1699297200@www.wycombefoe.org.uk
SUMMARY:'Wycombe Environment' group meeting EVERY MONDAY
DESCRIPTION:Wycombe Environment (WE) is part of the Environment and Climate Change sub-group of the High Wycombe Community Board – itself part of Buckinghamshire County Council. WE is not a forum for discussion\, but for action\, to cut carbon and boost biodiversity. \nOn most Mondays\, the group meets weekly for half an hour by Zoom on Mondays at 6.30 pm. If you would like to join\, please email hwcb@buckinghamshire.gov.uk\, with ‘WE’ in the subject line. \nIt was setup 10th Feb 2021. \n 
URL:https://www.wycombefoe.org.uk/event/wycombe-environment-group-meeting-most-mondays-2-2-2-2-2-4-2-4-2-2-2-2/
END:VEVENT
BEGIN:VEVENT
DTSTART;VALUE=DATE:20231107
DTEND;VALUE=DATE:20231108
DTSTAMP:20260423T224859
CREATED:20190422T150313Z
LAST-MODIFIED:20230730T143546Z
UID:6218-1699315200-1699401599@www.wycombefoe.org.uk
SUMMARY:Anniversary of Low Carbon Chilterns Cooperative (2011)
DESCRIPTION:LCCC is a ‘bone fide cooperative’\, registered by the FSA as IPS No. 31454R on 7 November 2011. We are a member owned and run\, not-for-profit\, community organisation helping the community to save energy and generate its own clean power.
URL:https://www.wycombefoe.org.uk/event/anniversary-of-low-carbon-chilterns-7-nov-2011-2-2-2/
ORGANIZER;CN="Low Carbon Chilterns Cooperative":MAILTO:hello@lowcarbonchilterns.org
END:VEVENT
BEGIN:VEVENT
DTSTART;TZID=Europe/London:20231111T100000
DTEND;TZID=Europe/London:20231111T130000
DTSTAMP:20260423T224859
CREATED:20211004T140652Z
LAST-MODIFIED:20230730T143332Z
UID:6214-1699696800-1699707600@www.wycombefoe.org.uk
SUMMARY:Wycombe Repair Café
DESCRIPTION:Wycombe Repair Café is run by volunteers and organised by Wycombe Environment community group. The Repair Café is located in All Saints Parish Church in the centre of High Wycombe. Bring your broken household items (mechanical\, textile or small electrical) and we may be able to repair it. Either way\, there will be no charge (except if a new part is required)\, although any donations will be very welcome. \nEvery 2nd Saturday of the month\, in High Wycombe.\n(note also that there are other Repair Cafes nearby\, eg in Marlow and Hazlemere)
URL:https://www.wycombefoe.org.uk/event/repair-cafe-2-2-2-2-2-2-2-2-2-2-2-2-2-2-2-2-2-2-2-2-2-3-2-3-2/
LOCATION:Church Street\, Church Street\, High Wycombe\, HP11 2DE\, United Kingdom
END:VEVENT
BEGIN:VEVENT
DTSTART;TZID=Europe/London:20231118T093000
DTEND;TZID=Europe/London:20231118T163000
DTSTAMP:20260423T224859
CREATED:20231029T164845Z
LAST-MODIFIED:20231029T164845Z
UID:6327-1700299800-1700325000@www.wycombefoe.org.uk
SUMMARY:Smart Energy Show
DESCRIPTION:Residents in Buckinghamshire and neighbouring counties can get informed\, involved and inspired about greener home energy by attending the Smart Energy Show in Marlow on 18 November. \nThe unique\, free-entry educational exhibition will enable visitors to meet companies and independent experts who can advise on and deliver smart energy solutions. \nThere has never been a more important time to look at smarter energy to cut bills\, improve comfort and help fight climate change.\nHouseholds can potentially save hundreds of pounds a year\, have a more comfortable home\, and greater peace of mind. \n  \n 
URL:https://www.wycombefoe.org.uk/event/smart-energy-show/
LOCATION:Court Garden\, Marlow\, Marlow
END:VEVENT
BEGIN:VEVENT
DTSTART;VALUE=DATE:20231121
DTEND;VALUE=DATE:20231122
DTSTAMP:20260423T224859
CREATED:20160409T182508Z
LAST-MODIFIED:20230730T143745Z
UID:6220-1700524800-1700611199@www.wycombefoe.org.uk
SUMMARY:Fisheries Day
DESCRIPTION:World Fisheries day is celebrated every year throughout the world by the fisherfolk communities. Fishing communities worldwide celebrate this day through rallies\, workshops\, public meetings\, cultural programs\, dramas\, exhibition\, music show\, and demonstrations to highlight the importance of maintaining the world’s fisheries.\nwww.gdrc.org/doyourbit/21_11-fisheries-day.html \nWorldwide Event (every 21 November).
URL:https://www.wycombefoe.org.uk/event/fisheries-day-3-2-2-2-2-2-2/
END:VEVENT
BEGIN:VEVENT
DTSTART;VALUE=DATE:20231124
DTEND;VALUE=DATE:20231125
DTSTAMP:20260423T224859
CREATED:20160409T183128Z
LAST-MODIFIED:20230730T143834Z
UID:6222-1700784000-1700870399@www.wycombefoe.org.uk
SUMMARY:Buy Nothing Day
DESCRIPTION:It’s a day where you challenge yourself\, your family and friends to switch off from shopping and tune into life. The rules are simple\, for 24 hours you will detox from shopping and anyone can take part provided they spend a day without spending! \nEvery fourth Friday in November\, worldwide. \nwww.buynothingday.co.uk
URL:https://www.wycombefoe.org.uk/event/buy-nothing-day-3-2-2-2-2-2-2/
LOCATION:A WorldWide Event
END:VEVENT
BEGIN:VEVENT
DTSTART;VALUE=DATE:20231125
DTEND;VALUE=DATE:20231204
DTSTAMP:20260423T224859
CREATED:20160802T144150Z
LAST-MODIFIED:20230730T143929Z
UID:6224-1700870400-1701647999@www.wycombefoe.org.uk
SUMMARY:Tree week
DESCRIPTION:National Tree Week is the UK’s largest tree celebration annually launching the start of the winter tree planting season. It is a great chance for communities to do something positive for their local treescape. Each year\, The Tree Council’s member organisations such as voluntary bodies and local authorities\, up to 200 schools and community groups\, our 8\,000 Tree Wardens and many others\, support the initiative by setting up fun\, worthwhile and accessible events\, inspiring upward of a quarter of a million people to get their hands dirty and together plant around a million trees. \nUK\, 4th Saturday in November\, to Sunday in a week.
URL:https://www.wycombefoe.org.uk/event/tree-week-2-2-2-2-2-2/
END:VEVENT
BEGIN:VEVENT
DTSTART;VALUE=DATE:20231201
DTEND;VALUE=DATE:20231202
DTSTAMP:20260423T224859
CREATED:20170301T100115Z
LAST-MODIFIED:20231023T152937Z
UID:6296-1701388800-1701475199@www.wycombefoe.org.uk
SUMMARY:OTHER ECO GROUPS & EVENTS
DESCRIPTION:Click links below… \nList of environmental events in the Wycombe area\nThis is a more detailed listing of individual events. It is a pinned post on the Facebook page of Wycombe Env Centre. \nList of environmental organisations in the Wycombe area\nAnother way to find out re events. Click on the link to the organisation’s website and search for ‘what’s on’\, events or similar.\n \n  \n 
URL:https://www.wycombefoe.org.uk/event/note-other-local-event-listings-10-2-2-8-4-2-3-2-2-2-2-2-2-2-2-2-2-3-2-2-2-2-2-2-2-2-2-2-2-2-2-2-2-2-2-2-2-2-2-2-2-2-2-2-2-2-2-2-2-2-2-2-2-2-2-2-2-2-2-2-2-2-2-2-2-2-2-2/
END:VEVENT
BEGIN:VEVENT
DTSTART;TZID=Europe/London:20231202T100000
DTEND;TZID=Europe/London:20231202T160000
DTSTAMP:20260423T224859
CREATED:20220608T084910Z
LAST-MODIFIED:20231023T155114Z
UID:6301-1701511200-1701532800@www.wycombefoe.org.uk
SUMMARY:Scrapstore 'Refresh' EVERY SATURDAY
DESCRIPTION:Refresh Wycombe is a wonderful scrap store based in the Chiltern Shopping Centre\, right here in the heart of High Wycombe. Our aim is to encourage you to Reduce\, Reuse\, Recycle and Create. We have a huge selection of surplus and unwanted stock all donated by local businesses and individuals. You may be a crafter\, a teacher\, an artist or a maker. We have fantastic fabrics\, textiles\, haberdashery items\, cards\, papers\, foils\, and shelves full of materials just waiting for you to give it a second life and use it on your next project. We are open to everyone\, so come and visit us every Saturday between 10am and 4pm and Wednesday between 1:30pm and 4:30pm. We’re just next door to Primark inside the Chiltern Shopping Centre.\n\nPlease follow us on Social Media to get all the latest news.\nFacebook – Refreshwycombe\nInstagram – @refreshwycombe\nWebsite – www.refreshwycombe.org
URL:https://www.wycombefoe.org.uk/event/scrapstore-refresh-every-saturday-2-2-2-2-3-2-2-2-2-2-5-2-2-2-2-2-2/
END:VEVENT
BEGIN:VEVENT
DTSTART;VALUE=DATE:20231205
DTEND;VALUE=DATE:20231206
DTSTAMP:20260423T224859
CREATED:20200606T181534Z
LAST-MODIFIED:20231023T161230Z
UID:6313-1701734400-1701820799@www.wycombefoe.org.uk
SUMMARY:Soil day
DESCRIPTION:To focus attention on the importance of healthy soil and advocating for the sustainable management of soil resources. \nWorldwide\, every 5th December.
URL:https://www.wycombefoe.org.uk/event/soil-day-2-2-2/
END:VEVENT
BEGIN:VEVENT
DTSTART;TZID=Europe/London:20231206T133000
DTEND;TZID=Europe/London:20231206T163000
DTSTAMP:20260423T224859
CREATED:20220608T084910Z
LAST-MODIFIED:20231023T155051Z
UID:6302-1701869400-1701880200@www.wycombefoe.org.uk
SUMMARY:Scrapstore 'Refresh' EVERY WEDNESDAY
DESCRIPTION:Refresh Wycombe is a wonderful scrap store based in the Chiltern Shopping Centre\, right here in the heart of High Wycombe. Our aim is to encourage you to Reduce\, Reuse\, Recycle and Create. We have a huge selection of surplus and unwanted stock all donated by local businesses and individuals. You may be a crafter\, a teacher\, an artist or a maker. We have fantastic fabrics\, textiles\, haberdashery items\, cards\, papers\, foils\, and shelves full of materials just waiting for you to give it a second life and use it on your next project. We are open to everyone\, so come and visit us every Saturday between 10am and 4pm and Wednesday between 1:30pm and 4:30pm. We’re just next door to Primark inside the Chiltern Shopping Centre.\n\nPlease follow us on Social Media to get all the latest news.\nFacebook – Refreshwycombe\nInstagram – @refreshwycombe\nWebsite – www.refreshwycombe.org
URL:https://www.wycombefoe.org.uk/event/scrapstore-refresh-every-saturday-2-2-2-2-3-2-2-2-2-2-2-2-2-5-2-2-2-2-2/
LOCATION:Chilterns Shopping Centre\, Unit 8\, Chilterns Shopping Centre\, Frogmoor\, High Wycombe\, HP13 5ES\, United Kingdom
END:VEVENT
BEGIN:VEVENT
DTSTART;TZID=Europe/London:20231206T193000
DTEND;TZID=Europe/London:20231206T210000
DTSTAMP:20260423T224859
CREATED:20170129T143413Z
LAST-MODIFIED:20231023T155615Z
UID:6307-1701891000-1701896400@www.wycombefoe.org.uk
SUMMARY:Wycombe FoE Xmas Gathering !
DESCRIPTION:This one is a Face to face gathering\, not Zoom. Non virtual mince pies will be available. New faces welcome… \nAgenda will be published a few days beforehand on our Home page – www.wycombefoe.org.uk. \nNon-members please email us at wycombefoe@yahoo.co.uk for a Zoom invitation.\nWe welcome new input and faces\, so let’s hear from you. \n 
URL:https://www.wycombefoe.org.uk/event/wycombe-friends-of-the-earth-monthly-meeting-23-6-2-2-2-3-3-2-3-2-2-2-2-2-2-2-2-2-2-2-2-2-3-3-2-2-2-2-2-3-2-2-2-2-2-2-2-2-2-2-2-2-2-2-4-2-2-2-2-2-2-2-2-2-2/
END:VEVENT
BEGIN:VEVENT
DTSTART;TZID=Europe/London:20231207T100000
DTEND;TZID=Europe/London:20231207T130000
DTSTAMP:20260423T224859
CREATED:20160409T161011Z
LAST-MODIFIED:20231023T154746Z
UID:6299-1701943200-1701954000@www.wycombefoe.org.uk
SUMMARY:Chiltern Rangers Conservation MOST THURSDAYS
DESCRIPTION:Most Thursdays the Chiltern Rangers run a volunteer conservation group which is open to all.\nCome along and meet the group at Wycombe Rye Lido Car Park and keep fit while helping to take care of your local environment at woodlands. \nTools\, gloves and hot drinks are provided. Please wear stout footwear and appropriate clothing suitable for outdoors activities and the weather. If you would like to get involved then please contact them –  info@chilternrangers.co.uk \nCheck their website for details and more events. \n 
URL:https://www.wycombefoe.org.uk/event/conservation-volunteering-every-thursday-of-the-month-25-4-4-4-3-3-2-2-2-2-2-2-2-2-2-2-3-2-2-2-2-2-2-2-2-2-2-2-2-2-2-2-2-2-3-2-2-2-2-2-2-2-2-2-2-5-2-2-2-2-2-2-2/
LOCATION:Wycombe Lido Swimming pool\, The Rye \, HighWycombe\, United Kingdom
ORGANIZER;CN="Chiltern rangers":MAILTO:info@chilternrangers.co.uk
END:VEVENT
BEGIN:VEVENT
DTSTART;TZID=Europe/London:20231209T100000
DTEND;TZID=Europe/London:20231209T130000
DTSTAMP:20260423T224859
CREATED:20211004T140652Z
LAST-MODIFIED:20231023T155802Z
UID:6309-1702116000-1702126800@www.wycombefoe.org.uk
SUMMARY:Wycombe Repair Café
DESCRIPTION:Wycombe Repair Café is run by volunteers and organised by Wycombe Environment community group. The Repair Café is located in All Saints Parish Church in the centre of High Wycombe. Bring your broken household items (mechanical\, textile or small electrical) and we may be able to repair it. Either way\, there will be no charge (except if a new part is required)\, although any donations will be very welcome. \nEvery 2nd Saturday of the month\, in High Wycombe.\n(note also that there are other Repair Cafes nearby\, eg in Marlow and Hazlemere)
URL:https://www.wycombefoe.org.uk/event/repair-cafe-2-2-2-2-2-2-2-2-2-2-2-2-2-2-2-2-2-2-2-2-2-3-2-3-2-2/
LOCATION:Church Street\, Church Street\, High Wycombe\, HP11 2DE\, United Kingdom
END:VEVENT
BEGIN:VEVENT
DTSTART;TZID=Europe/London:20231220T080000
DTEND;TZID=Europe/London:20231220T170000
DTSTAMP:20260423T224859
CREATED:20231116T111411Z
LAST-MODIFIED:20231116T111411Z
UID:6356-1703059200-1703091600@www.wycombefoe.org.uk
SUMMARY:Refresh scrapstore closed due to Xmas
DESCRIPTION:
URL:https://www.wycombefoe.org.uk/event/refresh-scrapstore-closed-due-to-xmas/
END:VEVENT
BEGIN:VEVENT
DTSTART;TZID=Europe/London:20231223T080000
DTEND;TZID=Europe/London:20231223T170000
DTSTAMP:20260423T224859
CREATED:20231116T111506Z
LAST-MODIFIED:20231116T111506Z
UID:6360-1703318400-1703350800@www.wycombefoe.org.uk
SUMMARY:Refresh scrapstore closed due to Xmas
DESCRIPTION:
URL:https://www.wycombefoe.org.uk/event/refresh-scrapstore-closed-due-to-xmas-2/
END:VEVENT
BEGIN:VEVENT
DTSTART;TZID=Europe/London:20231223T080000
DTEND;TZID=Europe/London:20231223T170000
DTSTAMP:20260423T224859
CREATED:20231222T155546Z
LAST-MODIFIED:20231222T155735Z
UID:6396-1703318400-1703350800@www.wycombefoe.org.uk
SUMMARY:Steve Morton remembrance day
DESCRIPTION:Steve Morton passed away on 23rd December 2022.\nHe was a committed environmentalist and hardworking WFoE coordinator. He left a large gap in the local eco community and is sorely missed.
URL:https://www.wycombefoe.org.uk/event/steve-morton-remembrance-day/
END:VEVENT
BEGIN:VEVENT
DTSTART;TZID=Europe/London:20231227T080000
DTEND;TZID=Europe/London:20231227T170000
DTSTAMP:20260423T224859
CREATED:20231024T170557Z
LAST-MODIFIED:20231024T170557Z
UID:6316-1703664000-1703696400@www.wycombefoe.org.uk
SUMMARY:No scrapstore due to Xmas
DESCRIPTION:
URL:https://www.wycombefoe.org.uk/event/no-scrapstore-due-to-xmas/
END:VEVENT
BEGIN:VEVENT
DTSTART;TZID=Europe/London:20231230T080000
DTEND;TZID=Europe/London:20231230T170000
DTSTAMP:20260423T224859
CREATED:20231024T170557Z
LAST-MODIFIED:20231024T170638Z
UID:6318-1703923200-1703955600@www.wycombefoe.org.uk
SUMMARY:No scrapstore due to Xmas/Newyear
DESCRIPTION:
URL:https://www.wycombefoe.org.uk/event/no-scrapstore-due-to-xmas-2/
END:VEVENT
BEGIN:VEVENT
DTSTART;VALUE=DATE:20240101
DTEND;VALUE=DATE:20240102
DTSTAMP:20260423T224859
CREATED:20170301T100115Z
LAST-MODIFIED:20231113T161221Z
UID:6343-1704067200-1704153599@www.wycombefoe.org.uk
SUMMARY:OTHER ECO GROUPS & EVENTS
DESCRIPTION:Click links below… \nList of environmental events in the Wycombe area\nThis is a more detailed listing of individual events. It is a pinned post on the Facebook page of Wycombe Env Centre. \nList of environmental organisations in the Wycombe area\nAnother way to find out re events. Click on the link to the organisation’s website and search for ‘what’s on’\, events or similar.\n \n  \n 
URL:https://www.wycombefoe.org.uk/event/note-other-local-event-listings-10-2-2-8-4-2-3-2-2-2-2-2-2-2-2-2-2-3-2-2-2-2-2-2-2-2-2-2-2-2-2-2-2-2-2-2-2-2-2-2-2-2-2-2-2-2-2-2-2-2-2-2-2-2-2-2-2-2-2-2-2-2-2-2-2-2-2-2-2/
END:VEVENT
BEGIN:VEVENT
DTSTART;TZID=Europe/London:20240103T080000
DTEND;TZID=Europe/London:20240103T170000
DTSTAMP:20260423T224859
CREATED:20231116T111627Z
LAST-MODIFIED:20231116T111627Z
UID:6363-1704268800-1704301200@www.wycombefoe.org.uk
SUMMARY:Refresh scrapstore closed due to Xmas
DESCRIPTION:
URL:https://www.wycombefoe.org.uk/event/refresh-scrapstore-closed-due-to-xmas-3/
END:VEVENT
BEGIN:VEVENT
DTSTART;TZID=Europe/London:20240103T193000
DTEND;TZID=Europe/London:20240103T210000
DTSTAMP:20260423T224859
CREATED:20170129T143413Z
LAST-MODIFIED:20231221T222808Z
UID:6345-1704310200-1704315600@www.wycombefoe.org.uk
SUMMARY:Wycombe FoE Monthly (POSTPONED till 10th!)
DESCRIPTION:Format of meeting (Zoom and/or Physical location).\nAgenda will be published a few days beforehand on our Home page – www.wycombefoe.org.uk. \nNon-members please email us at wycombefoe@yahoo.co.uk for a Zoom invitation.\nWe welcome new input and faces\, so let’s hear from you. \n 
URL:https://www.wycombefoe.org.uk/event/wycombe-friends-of-the-earth-monthly-meeting-23-6-2-2-2-3-3-2-3-2-2-2-2-2-2-2-2-2-2-2-2-2-3-3-2-2-2-2-2-3-2-2-2-2-2-2-2-2-2-2-2-2-2-2-4-2-2-2-2-2-2-2-2-2-3/
END:VEVENT
BEGIN:VEVENT
DTSTART;TZID=Europe/London:20240104T100000
DTEND;TZID=Europe/London:20240104T130000
DTSTAMP:20260423T224859
CREATED:20160409T161011Z
LAST-MODIFIED:20231113T161738Z
UID:6347-1704362400-1704373200@www.wycombefoe.org.uk
SUMMARY:Chiltern Rangers Conservation MOST THURSDAYS
DESCRIPTION:Most Thursdays the Chiltern Rangers run a volunteer conservation group which is open to all.\nCome along and meet the group at Wycombe Rye Lido Car Park and keep fit while helping to take care of your local environment at woodlands. \nTools\, gloves and hot drinks are provided. Please wear stout footwear and appropriate clothing suitable for outdoors activities and the weather. If you would like to get involved then please contact them –  info@chilternrangers.co.uk \nCheck their website for details and more events. \n 
URL:https://www.wycombefoe.org.uk/event/conservation-volunteering-every-thursday-of-the-month-25-4-4-4-3-3-2-2-2-2-2-2-2-2-2-2-3-2-2-2-2-2-2-2-2-2-2-2-2-2-2-2-2-2-3-2-2-2-2-2-2-2-2-2-2-5-2-2-2-2-2-2-2-2/
LOCATION:Wycombe Lido Swimming pool\, The Rye \, HighWycombe\, United Kingdom
ORGANIZER;CN="Chiltern rangers":MAILTO:info@chilternrangers.co.uk
END:VEVENT
BEGIN:VEVENT
DTSTART;TZID=Europe/London:20240106T100000
DTEND;TZID=Europe/London:20240106T120000
DTSTAMP:20260423T224859
CREATED:20240104T211557Z
LAST-MODIFIED:20240104T211557Z
UID:6431-1704535200-1704542400@www.wycombefoe.org.uk
SUMMARY:Flackwell Heath Repair Cafe
DESCRIPTION:Flackwell Heath Repair Cafe is held at the Flackwell Heath Community Centre.\n\n\nEmail Pauline at info@fhrepaircafe.co.uk to book your place.\n\n\nFirst Saturday of every month.
URL:https://www.wycombefoe.org.uk/event/flackwell-heath-repair-cafe/
END:VEVENT
END:VCALENDAR