BEGIN:VCALENDAR
VERSION:2.0
PRODID:-//Wycombe Friends of the Earth - ECPv6.15.17//NONSGML v1.0//EN
CALSCALE:GREGORIAN
METHOD:PUBLISH
X-WR-CALNAME:Wycombe Friends of the Earth
X-ORIGINAL-URL:https://www.wycombefoe.org.uk
X-WR-CALDESC:Events for Wycombe Friends of the Earth
REFRESH-INTERVAL;VALUE=DURATION:PT1H
X-Robots-Tag:noindex
X-PUBLISHED-TTL:PT1H
BEGIN:VTIMEZONE
TZID:Europe/London
BEGIN:DAYLIGHT
TZOFFSETFROM:+0000
TZOFFSETTO:+0100
TZNAME:BST
DTSTART:20240331T010000
END:DAYLIGHT
BEGIN:STANDARD
TZOFFSETFROM:+0100
TZOFFSETTO:+0000
TZNAME:GMT
DTSTART:20241027T010000
END:STANDARD
BEGIN:DAYLIGHT
TZOFFSETFROM:+0000
TZOFFSETTO:+0100
TZNAME:BST
DTSTART:20250330T010000
END:DAYLIGHT
BEGIN:STANDARD
TZOFFSETFROM:+0100
TZOFFSETTO:+0000
TZNAME:GMT
DTSTART:20251026T010000
END:STANDARD
BEGIN:DAYLIGHT
TZOFFSETFROM:+0000
TZOFFSETTO:+0100
TZNAME:BST
DTSTART:20260329T010000
END:DAYLIGHT
BEGIN:STANDARD
TZOFFSETFROM:+0100
TZOFFSETTO:+0000
TZNAME:GMT
DTSTART:20261025T010000
END:STANDARD
END:VTIMEZONE
BEGIN:VEVENT
DTSTART;TZID=Europe/London:20251223T080000
DTEND;TZID=Europe/London:20251223T170000
DTSTAMP:20260423T103456
CREATED:20231222T155546Z
LAST-MODIFIED:20251026T184503Z
UID:7431-1766476800-1766509200@www.wycombefoe.org.uk
SUMMARY:Steve Morton remembrance day
DESCRIPTION:Steve Morton passed away on 23rd December 2022.\nHe was a committed environmentalist and hardworking WFoE coordinator. He left a large gap in the local eco community and is sorely missed.
URL:https://www.wycombefoe.org.uk/event/steve-morton-remembrance-day-2-2/
END:VEVENT
BEGIN:VEVENT
DTSTART;TZID=Europe/London:20251213T100000
DTEND;TZID=Europe/London:20251213T130000
DTSTAMP:20260423T103456
CREATED:20211004T140652Z
LAST-MODIFIED:20251026T184144Z
UID:7427-1765620000-1765630800@www.wycombefoe.org.uk
SUMMARY:Wycombe Repair Café
DESCRIPTION:The Wycombe Repair Café is a project run by the charity Wycombe Environment Centre. The Repair Café is located in All Saints Parish Church in the centre of High Wycombe. Bring your broken household items (mechanical\, textile or small electrical) and we may be able to repair it. Either way\, there will be no charge (except if a new part is required)\, although any donations will be very welcome. \nEvery 2nd Saturday of the month\, in High Wycombe.\n(note also that there are other Repair Cafes nearby\, eg in Flackwell Heath\, Marlow and Hazlemere)
URL:https://www.wycombefoe.org.uk/event/repair-cafe-2-2-2-2-2-2-2-2-2-2-2-2-2-2-2-2-2-2-2-2-2-3-2-3-2-2-2-2-2-2-2-2-2-2-2-2-3-2-2-2-2-2-2-2-2-2-2-2-2/
LOCATION:Church Street\, Church Street\, High Wycombe\, HP11 2DE\, United Kingdom
END:VEVENT
BEGIN:VEVENT
DTSTART;TZID=Europe/London:20251207T080000
DTEND;TZID=Europe/London:20251207T170000
DTSTAMP:20260423T103456
CREATED:20251028T151145Z
LAST-MODIFIED:20251028T151954Z
UID:7449-1765094400-1765126800@www.wycombefoe.org.uk
SUMMARY:Earth Show on Marlow FM Radio - EVERY SUNDAY
DESCRIPTION:Dave Hampton looks at environmental issues affecting the planet as a whole\, and Marlow. \nTune in to FM 97.5\nOr listen to the recording at https://www.marlowfm.co.uk/listen-again. \nSundays 6-8pm.
URL:https://www.wycombefoe.org.uk/event/earth-show-marlow-fm-radio-every-sunday-2/
END:VEVENT
BEGIN:VEVENT
DTSTART;VALUE=DATE:20251205
DTEND;VALUE=DATE:20251206
DTSTAMP:20260423T103456
CREATED:20200606T181534Z
LAST-MODIFIED:20251026T184317Z
UID:7429-1764892800-1764979199@www.wycombefoe.org.uk
SUMMARY:Soil day
DESCRIPTION:To focus attention on the importance of healthy soil and advocating for the sustainable management of soil resources. \nWorldwide\, every 5th December.
URL:https://www.wycombefoe.org.uk/event/soil-day-2-2-2-2-2/
END:VEVENT
BEGIN:VEVENT
DTSTART;TZID=Europe/London:20251204T100000
DTEND;TZID=Europe/London:20251204T130000
DTSTAMP:20260423T103456
CREATED:20160409T161011Z
LAST-MODIFIED:20251026T184032Z
UID:7425-1764842400-1764853200@www.wycombefoe.org.uk
SUMMARY:Chiltern Rangers Conservation MOST THURSDAYS
DESCRIPTION:Most Thursdays the Chiltern Rangers run a volunteer conservation group which is open to all.\nCome along and meet the group at Wycombe Rye Lido Car Park and keep fit while helping to take care of your local environment at woodlands. \nTools\, gloves and hot drinks are provided. Please wear stout footwear and appropriate clothing suitable for outdoors activities and the weather. If you would like to get involved then please contact them –  info@chilternrangers.co.uk \nCheck their website for details and more events. \n 
URL:https://www.wycombefoe.org.uk/event/conservation-volunteering-every-thursday-of-the-month-25-4-4-4-3-3-2-2-2-2-2-2-2-2-2-2-3-2-2-2-2-2-2-2-2-2-2-2-2-2-2-2-2-2-3-2-2-2-2-2-2-2-2-2-2-5-2-2-2-2-2-2-2-2-2-2-2-2-2-2-2-2-2-2-2-2-2-2-2-2-2-2-6/
LOCATION:Wycombe Lido Swimming pool\, The Rye \, HighWycombe\, United Kingdom
ORGANIZER;CN="Chiltern rangers":MAILTO:info@chilternrangers.co.uk
END:VEVENT
BEGIN:VEVENT
DTSTART;TZID=Europe/London:20251203T193000
DTEND;TZID=Europe/London:20251203T210000
DTSTAMP:20260423T103456
CREATED:20170129T143413Z
LAST-MODIFIED:20250920T182354Z
UID:7409-1764790200-1764795600@www.wycombefoe.org.uk
SUMMARY:Wycombe FoE Xmas Social - IN PERSON
DESCRIPTION:Xmas social. All welcome. Mince pies likely. \nWe welcome new input and faces. \n 
URL:https://www.wycombefoe.org.uk/event/wycombe-friends-of-the-earth-monthly-meeting-23-6-2-2-2-3-3-2-3-2-2-2-2-2-2-2-2-2-2-2-2-2-3-3-2-2-2-2-2-3-2-2-2-2-2-2-2-2-2-2-2-2-2-2-4-2-2-2-2-2-2-2-2-2-3-2-2-2-2-2-3-2-2-2-3-2-2-2-2-2-2-2-2-2-2-2/
END:VEVENT
BEGIN:VEVENT
DTSTART;VALUE=DATE:20251202
DTEND;VALUE=DATE:20251203
DTSTAMP:20260423T103456
CREATED:20220608T084910Z
LAST-MODIFIED:20251026T183800Z
UID:7421-1764633600-1764719999@www.wycombefoe.org.uk
SUMMARY:Re-Use Shop 'Refresh' EVERY DAY EXCEPT Monday
DESCRIPTION:For opening times see https://www.instagram.com/refreshthemarketplace. \nRefresh Wycombe is a wonderful scrap store based in the Chiltern Shopping Centre\, right here in the heart of High Wycombe. Our aim is to encourage you to Reduce\, Reuse\, Recycle and Create. We have a huge selection of surplus and unwanted stock all donated by local businesses and individuals. You may be a crafter\, a teacher\, an artist or a maker. We have fantastic fabrics\, textiles\, haberdashery items\, cards\, papers\, foils\, and shelves full of materials just waiting for you to give it a second life and use it on your next project. We are open to everyone and located near the Primark entrance inside the Chiltern Shopping Centre. \n\nFollow us on Social Media to get all the latest news.\nFacebook – Refreshwycombe\nInstagram – @refreshwycombe\nWebsite – www.refreshwycombe.org
URL:https://www.wycombefoe.org.uk/event/scrapstore-refresh-every-saturday-2-2-2-2-3-2-2-2-2-2-2-2-2-5-2-2-2-2-2-3-2-2-2-2-2-2-2-2-2-2-2-2-2-2-2-2-2-2-2-2-2-2-2/
LOCATION:Chilterns Shopping Centre\, Unit 8\, Chilterns Shopping Centre\, Frogmoor\, High Wycombe\, HP13 5ES\, United Kingdom
END:VEVENT
BEGIN:VEVENT
DTSTART;TZID=Europe/London:20251201T183000
DTEND;TZID=Europe/London:20251201T190000
DTSTAMP:20260423T103456
CREATED:20220608T085815Z
LAST-MODIFIED:20251027T224832Z
UID:7423-1764613800-1764615600@www.wycombefoe.org.uk
SUMMARY:'Wycombe Env Projects' meeting - taking a break till January
DESCRIPTION:Wycombe Environment Projects (WEP) is a projects group run by the charity Wycombe Environment Centre.\nWEP is not a forum for discussion\, but for action\, to cut carbon and boost biodiversity. \nThe group meets weekly for half an hour by Zoom on most Mondays at 6.30 pm.\nIf you would like to join in\, please email penelope.trustee@refreshwycombe.org \nGroup was setup 10th Feb 2021. \n 
URL:https://www.wycombefoe.org.uk/event/wycombe-environment-group-meeting-most-mondays-2-2-2-2-2-4-2-4-2-2-2-2-3-2-2-2-2-2-2-2-2-2-2-2-2-2-2-2-2-2-2-2-2-2-2-2/
END:VEVENT
BEGIN:VEVENT
DTSTART;VALUE=DATE:20251201
DTEND;VALUE=DATE:20251202
DTSTAMP:20260423T103456
CREATED:20170301T100115Z
LAST-MODIFIED:20250901T154017Z
UID:7369-1764547200-1764633599@www.wycombefoe.org.uk
SUMMARY:OTHER ECO GROUPS & EVENTS
DESCRIPTION:Click links below… \nMore environmental events in the Wycombe area (Mycelium Map)\nThis is a growing map showing some local eco events and some local eco groups. If you are an environmental organisation\, you can join. \nList of environmental organisations in the Wycombe area\nAnother way to find out re events. Click on the link to the organisation’s website and search for ‘what’s on’\, events or similar.\n \n  \n 
URL:https://www.wycombefoe.org.uk/event/note-other-local-event-listings-10-2-2-8-4-2-3-2-2-2-2-2-2-2-2-2-2-3-2-2-2-2-2-2-2-2-2-2-2-2-2-2-2-2-2-2-2-2-2-2-2-2-2-2-2-2-2-2-2-2-2-2-2-2-2-2-2-2-2-2-2-2-2-2-2-2-2-2-2-2-2-2-2-2-2-2-2-2-2-2-2-2-10/
END:VEVENT
BEGIN:VEVENT
DTSTART;TZID=Europe/London:20251127T213000
DTEND;TZID=Europe/London:20251127T213000
DTSTAMP:20260423T103456
CREATED:20250918T174243Z
LAST-MODIFIED:20251111T222914Z
UID:7476-1764279000-1764279000@www.wycombefoe.org.uk
SUMMARY:Climate Café Meetup
DESCRIPTION:The aim of the group is to draw community and environmental groups into wider group collaboration and cross-fertilisation of ideas as well as a source of individual support. Event is free but a donation is very welcome to cover costs. \nUsually last Thursday of the month\, 7.30pm onwards. Usually at The Patch in the old library.
URL:https://www.wycombefoe.org.uk/event/climate-cafe-meetup-2/
END:VEVENT
BEGIN:VEVENT
DTSTART;VALUE=DATE:20251124
DTEND;VALUE=DATE:20251125
DTSTAMP:20260423T103456
CREATED:20160409T183128Z
LAST-MODIFIED:20250920T181921Z
UID:7405-1763942400-1764028799@www.wycombefoe.org.uk
SUMMARY:Buy Nothing Day
DESCRIPTION:It’s a day where you challenge yourself\, your family and friends to switch off from shopping and tune into life. The rules are simple\, for 24 hours you will detox from shopping and anyone can take part provided they spend a day without spending! \nEvery fourth Friday in November\, worldwide. \nwww.buynothingday.co.uk
URL:https://www.wycombefoe.org.uk/event/buy-nothing-day-3-2-2-2-2-2-2-2-2/
LOCATION:A WorldWide Event
END:VEVENT
BEGIN:VEVENT
DTSTART;VALUE=DATE:20251122
DTEND;VALUE=DATE:20251201
DTSTAMP:20260423T103456
CREATED:20160802T144150Z
LAST-MODIFIED:20250920T181837Z
UID:7403-1763769600-1764547199@www.wycombefoe.org.uk
SUMMARY:Tree week
DESCRIPTION:National Tree Week is the UK’s largest tree celebration annually launching the start of the winter tree planting season. It is a great chance for communities to do something positive for their local treescape. Each year\, The Tree Council’s member organisations such as voluntary bodies and local authorities\, up to 200 schools and community groups\, our 8\,000 Tree Wardens and many others\, support the initiative by setting up fun\, worthwhile and accessible events\, inspiring upward of a quarter of a million people to get their hands dirty and together plant around a million trees. \nUK\, 4th Saturday in November\, to Sunday in a week.
URL:https://www.wycombefoe.org.uk/event/tree-week-2-2-2-2-2-2-2-2/
END:VEVENT
BEGIN:VEVENT
DTSTART;VALUE=DATE:20251121
DTEND;VALUE=DATE:20251122
DTSTAMP:20260423T103456
CREATED:20160409T182508Z
LAST-MODIFIED:20250920T181719Z
UID:7401-1763683200-1763769599@www.wycombefoe.org.uk
SUMMARY:Fisheries Day
DESCRIPTION:World Fisheries day is celebrated every year throughout the world by the fisherfolk communities. Fishing communities worldwide celebrate this day through rallies\, workshops\, public meetings\, cultural programs\, dramas\, exhibition\, music show\, and demonstrations to highlight the importance of maintaining the world’s fisheries.\nwww.gdrc.org/doyourbit/21_11-fisheries-day.html \nWorldwide Event (every 21 November).
URL:https://www.wycombefoe.org.uk/event/fisheries-day-3-2-2-2-2-2-2-2-2/
END:VEVENT
BEGIN:VEVENT
DTSTART;VALUE=DATE:20251110
DTEND;VALUE=DATE:20251117
DTSTAMP:20260423T103456
CREATED:20251027T223200Z
LAST-MODIFIED:20251027T223838Z
UID:7439-1762732800-1763337599@www.wycombefoe.org.uk
SUMMARY:Earth week
DESCRIPTION:During Our Earth Week\, community stations from all across the UK come together to talk about the climate crisis\, and to celebrate life on earth. Throughout the week (which takes place in the week of the COP talks)\, as many shows as possible take part\, and there are conversations going on all over the country about how the climate crisis is affecting our communities\, and what we can do to try and stop it – or at least slow it down – and how we can adapt to it\, and make ourselves more resilient. And we celebrate the very thing we’re trying to save: nature\, and all of life within it\, and ask ourselves: how can we help nature and wildlife to survive\, and thrive? Keep an eye on this page and the news section and through the year more information will start to be added in about this year’s event. If you want to take part\, please email crenuk1@gmail.com. \n?2nd Monday in Nov \n 
URL:https://www.wycombefoe.org.uk/event/earth-week/
END:VEVENT
BEGIN:VEVENT
DTSTART;TZID=Europe/London:20251108T100000
DTEND;TZID=Europe/London:20251108T130000
DTSTAMP:20260423T103456
CREATED:20211004T140652Z
LAST-MODIFIED:20250911T150031Z
UID:7387-1762596000-1762606800@www.wycombefoe.org.uk
SUMMARY:Wycombe Repair Café
DESCRIPTION:The Wycombe Repair Café is a project run by the charity Wycombe Environment Centre. The Repair Café is located in All Saints Parish Church in the centre of High Wycombe. Bring your broken household items (mechanical\, textile or small electrical) and we may be able to repair it. Either way\, there will be no charge (except if a new part is required)\, although any donations will be very welcome. \nEvery 2nd Saturday of the month\, in High Wycombe.\n(note also that there are other Repair Cafes nearby\, eg in Flackwell Heath\, Marlow and Hazlemere)
URL:https://www.wycombefoe.org.uk/event/repair-cafe-2-2-2-2-2-2-2-2-2-2-2-2-2-2-2-2-2-2-2-2-2-3-2-3-2-2-2-2-2-2-2-2-2-2-2-2-3-2-2-2-2-2-2-2-2-2-2-2/
LOCATION:Church Street\, Church Street\, High Wycombe\, HP11 2DE\, United Kingdom
END:VEVENT
BEGIN:VEVENT
DTSTART;VALUE=DATE:20251107
DTEND;VALUE=DATE:20251108
DTSTAMP:20260423T103456
CREATED:20190422T150313Z
LAST-MODIFIED:20250920T181626Z
UID:7399-1762473600-1762559999@www.wycombefoe.org.uk
SUMMARY:Anniversary of Low Carbon Chilterns Cooperative (2011)
DESCRIPTION:LCCC is a ‘bone fide cooperative’\, registered by the FSA as IPS No. 31454R on 7 November 2011. We are a member owned and run\, not-for-profit\, community organisation helping the community to save energy and generate its own clean power.
URL:https://www.wycombefoe.org.uk/event/anniversary-of-low-carbon-chilterns-7-nov-2011-2-2-2-2-2/
ORGANIZER;CN="Low Carbon Chilterns Cooperative":MAILTO:hello@lowcarbonchilterns.org
END:VEVENT
BEGIN:VEVENT
DTSTART;TZID=Europe/London:20251106T100000
DTEND;TZID=Europe/London:20251106T130000
DTSTAMP:20260423T103456
CREATED:20160409T161011Z
LAST-MODIFIED:20250910T090635Z
UID:7383-1762423200-1762434000@www.wycombefoe.org.uk
SUMMARY:Chiltern Rangers Conservation MOST THURSDAYS
DESCRIPTION:Most Thursdays the Chiltern Rangers run a volunteer conservation group which is open to all.\nCome along and meet the group at Wycombe Rye Lido Car Park and keep fit while helping to take care of your local environment at woodlands. \nTools\, gloves and hot drinks are provided. Please wear stout footwear and appropriate clothing suitable for outdoors activities and the weather. If you would like to get involved then please contact them –  info@chilternrangers.co.uk \nCheck their website for details and more events. \n 
URL:https://www.wycombefoe.org.uk/event/conservation-volunteering-every-thursday-of-the-month-25-4-4-4-3-3-2-2-2-2-2-2-2-2-2-2-3-2-2-2-2-2-2-2-2-2-2-2-2-2-2-2-2-2-3-2-2-2-2-2-2-2-2-2-2-5-2-2-2-2-2-2-2-2-2-2-2-2-2-2-2-2-2-2-2-2-2-2-2-2-2-2-5/
LOCATION:Wycombe Lido Swimming pool\, The Rye \, HighWycombe\, United Kingdom
ORGANIZER;CN="Chiltern rangers":MAILTO:info@chilternrangers.co.uk
END:VEVENT
BEGIN:VEVENT
DTSTART;VALUE=DATE:20251106
DTEND;VALUE=DATE:20251107
DTSTAMP:20260423T103456
CREATED:20160409T183503Z
LAST-MODIFIED:20250911T152242Z
UID:7389-1762387200-1762473599@www.wycombefoe.org.uk
SUMMARY:Prevention of environmental exploitation in armed conflict
DESCRIPTION:Though humanity has always counted its war casualties in terms of dead and wounded soldiers and civilians\, destroyed cities and livelihoods\, the environment has often remained the unpublicized victim of war. Water wells have been polluted\, crops torched\, forests cut down\, soils poisoned\, and animals killed to gain military advantage. \nFurthermore\, the United Nations Environment Programme (UNEP) has found that over the last 60 years\, at least 40 percent of all internal conflicts have been linked to the exploitation of natural resources\, whether high-value resources such as timber\, diamonds\, gold and oil\, or scarce resources such as fertile land and water. Conflicts involving natural resources have also been found to be twice as likely to relapse. \nNot to mention carbon emissions involved… \nWorldwide\, every 6th of November.
URL:https://www.wycombefoe.org.uk/event/prevention-of-environmental-exploitation-in-armed-conflict-4-2-2-2-2-2-2-2-2/
END:VEVENT
BEGIN:VEVENT
DTSTART;TZID=Europe/London:20251105T193000
DTEND;TZID=Europe/London:20251105T210000
DTSTAMP:20260423T103456
CREATED:20170129T143413Z
LAST-MODIFIED:20250920T181500Z
UID:7397-1762371000-1762376400@www.wycombefoe.org.uk
SUMMARY:Wycombe FoE Monthly Meeting
DESCRIPTION:Format of meeting (Zoom and/or Physical location).\nAgenda will be published a few days beforehand on our Home page – www.wycombefoe.org.uk. \nNon-members please email us at wycombefoe@yahoo.co.uk for a Zoom invitation.\nWe welcome new input and faces\, so let’s hear from you. \n 
URL:https://www.wycombefoe.org.uk/event/wycombe-friends-of-the-earth-monthly-meeting-23-6-2-2-2-3-3-2-3-2-2-2-2-2-2-2-2-2-2-2-2-2-3-3-2-2-2-2-2-3-2-2-2-2-2-2-2-2-2-2-2-2-2-2-4-2-2-2-2-2-2-2-2-2-3-2-2-2-2-2-3-2-2-2-3-2-2-2-2-2-2-2-2-2-2/
END:VEVENT
BEGIN:VEVENT
DTSTART;TZID=Europe/London:20251103T183000
DTEND;TZID=Europe/London:20251103T190000
DTSTAMP:20260423T103456
CREATED:20220608T085815Z
LAST-MODIFIED:20251027T223956Z
UID:7385-1762194600-1762196400@www.wycombefoe.org.uk
SUMMARY:'Wycombe Env Projects' meetings - taking a break till January
DESCRIPTION:Wycombe Environment Projects (WEP) is a projects group run by the charity Wycombe Environment Centre.\nWEP is not a forum for discussion\, but for action\, to cut carbon and boost biodiversity. \nThe group meets weekly for half an hour by Zoom on most Mondays at 6.30 pm.\nIf you would like to join in\, please email penelope.trustee@refreshwycombe.org \nGroup was setup 10th Feb 2021. \n 
URL:https://www.wycombefoe.org.uk/event/wycombe-environment-group-meeting-most-mondays-2-2-2-2-2-4-2-4-2-2-2-2-3-2-2-2-2-2-2-2-2-2-2-2-2-2-2-2-2-2-2-2-2-2-2/
END:VEVENT
BEGIN:VEVENT
DTSTART;TZID=Europe/London:20251102T080000
DTEND;TZID=Europe/London:20251102T170000
DTSTAMP:20260423T103456
CREATED:20251028T151145Z
LAST-MODIFIED:20251028T151934Z
UID:7444-1762070400-1762102800@www.wycombefoe.org.uk
SUMMARY:Earth Show on Marlow Radio - EVERY SUNDAY
DESCRIPTION:Dave Hampton looks at environmental issues affecting the planet as a whole\, and Marlow. \nTune in to FM 97.5\nOr listen to the recording at https://www.marlowfm.co.uk/listen-again. \nSundays 6-8pm.
URL:https://www.wycombefoe.org.uk/event/earth-show-marlow-fm-radio-every-sunday/
END:VEVENT
BEGIN:VEVENT
DTSTART;VALUE=DATE:20251101
DTEND;VALUE=DATE:20251102
DTSTAMP:20260423T103456
CREATED:20220608T084910Z
LAST-MODIFIED:20250910T090502Z
UID:7381-1761955200-1762041599@www.wycombefoe.org.uk
SUMMARY:Re-Use Shop 'Refresh' EVERY DAY EXCEPT Monday
DESCRIPTION:For opening times see https://www.instagram.com/refreshthemarketplace. \nRefresh Wycombe is a wonderful scrap store based in the Chiltern Shopping Centre\, right here in the heart of High Wycombe. Our aim is to encourage you to Reduce\, Reuse\, Recycle and Create. We have a huge selection of surplus and unwanted stock all donated by local businesses and individuals. You may be a crafter\, a teacher\, an artist or a maker. We have fantastic fabrics\, textiles\, haberdashery items\, cards\, papers\, foils\, and shelves full of materials just waiting for you to give it a second life and use it on your next project. We are open to everyone and located near the Primark entrance inside the Chiltern Shopping Centre. \n\nFollow us on Social Media to get all the latest news.\nFacebook – Refreshwycombe\nInstagram – @refreshwycombe\nWebsite – www.refreshwycombe.org
URL:https://www.wycombefoe.org.uk/event/scrapstore-refresh-every-saturday-2-2-2-2-3-2-2-2-2-2-2-2-2-5-2-2-2-2-2-3-2-2-2-2-2-2-2-2-2-2-2-2-2-2-2-2-2-2-2-2-2-2/
LOCATION:Chilterns Shopping Centre\, Unit 8\, Chilterns Shopping Centre\, Frogmoor\, High Wycombe\, HP13 5ES\, United Kingdom
END:VEVENT
BEGIN:VEVENT
DTSTART;VALUE=DATE:20251101
DTEND;VALUE=DATE:20251102
DTSTAMP:20260423T103456
CREATED:20170301T100115Z
LAST-MODIFIED:20250901T153923Z
UID:7367-1761955200-1762041599@www.wycombefoe.org.uk
SUMMARY:OTHER ECO GROUPS & EVENTS
DESCRIPTION:Click links below… \nMore environmental events in the Wycombe area (Mycelium Map)\nThis is a growing map showing some local eco events and some local eco groups. If you are an environmental organisation\, you can join. \nList of environmental organisations in the Wycombe area\nAnother way to find out re events. Click on the link to the organisation’s website and search for ‘what’s on’\, events or similar.\n \n  \n 
URL:https://www.wycombefoe.org.uk/event/note-other-local-event-listings-10-2-2-8-4-2-3-2-2-2-2-2-2-2-2-2-2-3-2-2-2-2-2-2-2-2-2-2-2-2-2-2-2-2-2-2-2-2-2-2-2-2-2-2-2-2-2-2-2-2-2-2-2-2-2-2-2-2-2-2-2-2-2-2-2-2-2-2-2-2-2-2-2-2-2-2-2-2-2-2-2-2-2-9/
END:VEVENT
BEGIN:VEVENT
DTSTART;VALUE=DATE:20251016
DTEND;VALUE=DATE:20251017
DTSTAMP:20260423T103456
CREATED:20160409T154554Z
LAST-MODIFIED:20250808T105616Z
UID:7353-1760572800-1760659199@www.wycombefoe.org.uk
SUMMARY:World Food Day
DESCRIPTION:Food day is celebrated in the worldwide in honor of the date of the founding of the Food and Agriculture Organization of the United Nations in 1945. \nEvery 16th October\, worldwide.
URL:https://www.wycombefoe.org.uk/event/food-day-2-2-2-2-2-2-2-2/
END:VEVENT
BEGIN:VEVENT
DTSTART;TZID=Europe/London:20251011T100000
DTEND;TZID=Europe/London:20251011T130000
DTSTAMP:20260423T103456
CREATED:20211004T140652Z
LAST-MODIFIED:20250802T164546Z
UID:7336-1760176800-1760187600@www.wycombefoe.org.uk
SUMMARY:Wycombe Repair Café
DESCRIPTION:The Wycombe Repair Café is a project run by the charity Wycombe Environment Centre. The Repair Café is located in All Saints Parish Church in the centre of High Wycombe. Bring your broken household items (mechanical\, textile or small electrical) and we may be able to repair it. Either way\, there will be no charge (except if a new part is required)\, although any donations will be very welcome. \nEvery 2nd Saturday of the month\, in High Wycombe.\n(note also that there are other Repair Cafes nearby\, eg in Flackwell Heath\, Marlow and Hazlemere)
URL:https://www.wycombefoe.org.uk/event/repair-cafe-2-2-2-2-2-2-2-2-2-2-2-2-2-2-2-2-2-2-2-2-2-3-2-3-2-2-2-2-2-2-2-2-2-2-2-2-3-2-2-2-2-2-2-2-2-2-2/
LOCATION:Church Street\, Church Street\, High Wycombe\, HP11 2DE\, United Kingdom
END:VEVENT
BEGIN:VEVENT
DTSTART;TZID=Europe/London:20251006T183000
DTEND;TZID=Europe/London:20251006T190000
DTSTAMP:20260423T103456
CREATED:20220608T085815Z
LAST-MODIFIED:20250802T170142Z
UID:7338-1759775400-1759777200@www.wycombefoe.org.uk
SUMMARY:'Wycombe Env Projects' meeting - MOST MONDAYS
DESCRIPTION:Wycombe Environment Projects (WEP) is a projects group run by the charity Wycombe Environment Centre.\nWEP is not a forum for discussion\, but for action\, to cut carbon and boost biodiversity. \nThe group meets weekly for half an hour by Zoom on most Mondays at 6.30 pm.\nIf you would like to join in\, please email penelope.trustee@refreshwycombe.org \nGroup was setup 10th Feb 2021. \n 
URL:https://www.wycombefoe.org.uk/event/wycombe-environment-group-meeting-most-mondays-2-2-2-2-2-4-2-4-2-2-2-2-3-2-2-2-2-2-2-2-2-2-2-2-2-2-2-2-2-2-2-2-2-2/
END:VEVENT
BEGIN:VEVENT
DTSTART;VALUE=DATE:20251004
DTEND;VALUE=DATE:20251005
DTSTAMP:20260423T103456
CREATED:20190814T092204Z
LAST-MODIFIED:20250808T105307Z
UID:7349-1759536000-1759622399@www.wycombefoe.org.uk
SUMMARY:'No disposable cup' day
DESCRIPTION:Founded by councillor Ed Gemmell in 2019 (4 October is the feast day of St Francis of Assisi who it the patron saint of the environment) \nThe aim is to…\n1. get everyone not to use a disposable cup for one day while raising awareness of the massive waste problem caused by disposable cups \n2. get disposable cups withdrawn or banned completely \n3. help in the battle against global heating and climate change. \nEvery 4th Oct\, worldwide.
URL:https://www.wycombefoe.org.uk/event/no-disposable-cup-day-2-2-2-2-2-2/
END:VEVENT
BEGIN:VEVENT
DTSTART;TZID=Europe/London:20251002T100000
DTEND;TZID=Europe/London:20251002T130000
DTSTAMP:20260423T103456
CREATED:20160409T161011Z
LAST-MODIFIED:20250802T164004Z
UID:7334-1759399200-1759410000@www.wycombefoe.org.uk
SUMMARY:Chiltern Rangers Conservation MOST THURSDAYS
DESCRIPTION:Most Thursdays the Chiltern Rangers run a volunteer conservation group which is open to all.\nCome along and meet the group at Wycombe Rye Lido Car Park and keep fit while helping to take care of your local environment at woodlands. \nTools\, gloves and hot drinks are provided. Please wear stout footwear and appropriate clothing suitable for outdoors activities and the weather. If you would like to get involved then please contact them –  info@chilternrangers.co.uk \nCheck their website for details and more events. \n 
URL:https://www.wycombefoe.org.uk/event/conservation-volunteering-every-thursday-of-the-month-25-4-4-4-3-3-2-2-2-2-2-2-2-2-2-2-3-2-2-2-2-2-2-2-2-2-2-2-2-2-2-2-2-2-3-2-2-2-2-2-2-2-2-2-2-5-2-2-2-2-2-2-2-2-2-2-2-2-2-2-2-2-2-2-2-2-2-2-2-2-2-2-4/
LOCATION:Wycombe Lido Swimming pool\, The Rye \, HighWycombe\, United Kingdom
ORGANIZER;CN="Chiltern rangers":MAILTO:info@chilternrangers.co.uk
END:VEVENT
BEGIN:VEVENT
DTSTART;VALUE=DATE:20251002
DTEND;VALUE=DATE:20251003
DTSTAMP:20260423T103456
CREATED:20200606T181020Z
LAST-MODIFIED:20250808T105204Z
UID:7347-1759363200-1759449599@www.wycombefoe.org.uk
SUMMARY:Energy efficiency day
DESCRIPTION:But efficiency is year-round. Save Money. Cut Carbon. Breathe Easier. \nWorldwide\, every first Wedn of October.
URL:https://www.wycombefoe.org.uk/event/energy-efficiency-day-2-2-2-2-2/
END:VEVENT
BEGIN:VEVENT
DTSTART;TZID=Europe/London:20251001T193000
DTEND;TZID=Europe/London:20251001T210000
DTSTAMP:20260423T103456
CREATED:20170129T143413Z
LAST-MODIFIED:20250802T163854Z
UID:7332-1759347000-1759352400@www.wycombefoe.org.uk
SUMMARY:Wycombe FoE Monthly Meeting
DESCRIPTION:Format of meeting (Zoom and/or Physical location).\nAgenda will be published a few days beforehand on our Home page – www.wycombefoe.org.uk. \nNon-members please email us at wycombefoe@yahoo.co.uk for a Zoom invitation.\nWe welcome new input and faces\, so let’s hear from you. \n 
URL:https://www.wycombefoe.org.uk/event/wycombe-friends-of-the-earth-monthly-meeting-23-6-2-2-2-3-3-2-3-2-2-2-2-2-2-2-2-2-2-2-2-2-3-3-2-2-2-2-2-3-2-2-2-2-2-2-2-2-2-2-2-2-2-2-4-2-2-2-2-2-2-2-2-2-3-2-2-2-2-2-3-2-2-2-3-2-2-2-2-2-2-2-2-2/
END:VEVENT
END:VCALENDAR