BEGIN:VCALENDAR
VERSION:2.0
PRODID:-//Wycombe Friends of the Earth - ECPv6.15.17//NONSGML v1.0//EN
CALSCALE:GREGORIAN
METHOD:PUBLISH
X-WR-CALNAME:Wycombe Friends of the Earth
X-ORIGINAL-URL:https://www.wycombefoe.org.uk
X-WR-CALDESC:Events for Wycombe Friends of the Earth
REFRESH-INTERVAL;VALUE=DURATION:PT1H
X-Robots-Tag:noindex
X-PUBLISHED-TTL:PT1H
BEGIN:VTIMEZONE
TZID:Europe/London
BEGIN:DAYLIGHT
TZOFFSETFROM:+0000
TZOFFSETTO:+0100
TZNAME:BST
DTSTART:20240331T010000
END:DAYLIGHT
BEGIN:STANDARD
TZOFFSETFROM:+0100
TZOFFSETTO:+0000
TZNAME:GMT
DTSTART:20241027T010000
END:STANDARD
BEGIN:DAYLIGHT
TZOFFSETFROM:+0000
TZOFFSETTO:+0100
TZNAME:BST
DTSTART:20250330T010000
END:DAYLIGHT
BEGIN:STANDARD
TZOFFSETFROM:+0100
TZOFFSETTO:+0000
TZNAME:GMT
DTSTART:20251026T010000
END:STANDARD
BEGIN:DAYLIGHT
TZOFFSETFROM:+0000
TZOFFSETTO:+0100
TZNAME:BST
DTSTART:20260329T010000
END:DAYLIGHT
BEGIN:STANDARD
TZOFFSETFROM:+0100
TZOFFSETTO:+0000
TZNAME:GMT
DTSTART:20261025T010000
END:STANDARD
END:VTIMEZONE
BEGIN:VEVENT
DTSTART;VALUE=DATE:20250608
DTEND;VALUE=DATE:20250609
DTSTAMP:20260422T232000
CREATED:20160406T145038Z
LAST-MODIFIED:20250407T163857Z
UID:7159-1749340800-1749427199@www.wycombefoe.org.uk
SUMMARY:Oceans day
DESCRIPTION:World Oceans Day is the United Nations’ recognized day of ocean celebration and action. \nWorldwide. Every 8th June.
URL:https://www.wycombefoe.org.uk/event/oceans-day-2-2-2-2-2-2-2-2-2/
END:VEVENT
BEGIN:VEVENT
DTSTART;TZID=Europe/London:20250607T080000
DTEND;TZID=Europe/London:20250607T170000
DTSTAMP:20260422T232000
CREATED:20250606T155125Z
LAST-MODIFIED:20250606T155125Z
UID:7246-1749283200-1749315600@www.wycombefoe.org.uk
SUMMARY:Degrowth Day
DESCRIPTION:Degrowth challenges the prevailing growth-centric economic and social paradigms. It advocates for a reduction in material and energy used in production and consumption to align human activities with ecological limits\, and requires that this reduction is planned and democratic. A key part of this change is to ensure social justice and enhance well-being for all. \nEvery 1st Sat of June
URL:https://www.wycombefoe.org.uk/event/degrowth-day/
END:VEVENT
BEGIN:VEVENT
DTSTART;TZID=Europe/London:20250605T100000
DTEND;TZID=Europe/London:20250605T130000
DTSTAMP:20260422T232000
CREATED:20160409T161011Z
LAST-MODIFIED:20250407T113546Z
UID:7144-1749117600-1749128400@www.wycombefoe.org.uk
SUMMARY:Chiltern Rangers Conservation MOST THURSDAYS
DESCRIPTION:Most Thursdays the Chiltern Rangers run a volunteer conservation group which is open to all.\nCome along and meet the group at Wycombe Rye Lido Car Park and keep fit while helping to take care of your local environment at woodlands. \nTools\, gloves and hot drinks are provided. Please wear stout footwear and appropriate clothing suitable for outdoors activities and the weather. If you would like to get involved then please contact them –  info@chilternrangers.co.uk \nCheck their website for details and more events. \n 
URL:https://www.wycombefoe.org.uk/event/conservation-volunteering-every-thursday-of-the-month-25-4-4-4-3-3-2-2-2-2-2-2-2-2-2-2-3-2-2-2-2-2-2-2-2-2-2-2-2-2-2-2-2-2-3-2-2-2-2-2-2-2-2-2-2-5-2-2-2-2-2-2-2-2-2-2-2-2-2-2-2-2-2-2-2-2-2-2-2-2-2/
LOCATION:Wycombe Lido Swimming pool\, The Rye \, HighWycombe\, United Kingdom
ORGANIZER;CN="Chiltern rangers":MAILTO:info@chilternrangers.co.uk
END:VEVENT
BEGIN:VEVENT
DTSTART;VALUE=DATE:20250605
DTEND;VALUE=DATE:20250606
DTSTAMP:20260422T232000
CREATED:20160406T140538Z
LAST-MODIFIED:20250407T163816Z
UID:7157-1749081600-1749167999@www.wycombefoe.org.uk
SUMMARY:Environment Day
DESCRIPTION:United Nations World Environment Day is a day for encouraging worldwide awareness and action for the protection of our environment. Since it began in 1974\, it has grown to become a global platform for public outreach that is widely celebrated in over 100 countries. \nAbove all\, it is the ‘people’s day’ for doing something to take care of the Earth or become an agent of change. That ‘something’ can be focused locally\, nationally or globally; it can be a solo action or involve a crowd. \nSee website for events and more information. \nWorldwide. Every 5th June.
URL:https://www.wycombefoe.org.uk/event/environment-day-2-2-2-2-2-2-2-2/
END:VEVENT
BEGIN:VEVENT
DTSTART;TZID=Europe/London:20250604T193000
DTEND;TZID=Europe/London:20250604T210000
DTSTAMP:20260422T232000
CREATED:20170129T143413Z
LAST-MODIFIED:20250407T144216Z
UID:7148-1749065400-1749070800@www.wycombefoe.org.uk
SUMMARY:Wycombe FoE Monthly Meeting
DESCRIPTION:Format of meeting (Zoom and/or Physical location).\nAgenda will be published a few days beforehand on our Home page – www.wycombefoe.org.uk. \nNon-members please email us at wycombefoe@yahoo.co.uk for a Zoom invitation.\nWe welcome new input and faces\, so let’s hear from you. \n 
URL:https://www.wycombefoe.org.uk/event/wycombe-friends-of-the-earth-monthly-meeting-23-6-2-2-2-3-3-2-3-2-2-2-2-2-2-2-2-2-2-2-2-2-3-3-2-2-2-2-2-3-2-2-2-2-2-2-2-2-2-2-2-2-2-2-4-2-2-2-2-2-2-2-2-2-3-2-2-2-2-2-3-2-2-2-3-2-2-2-2-2/
END:VEVENT
BEGIN:VEVENT
DTSTART;VALUE=DATE:20250603
DTEND;VALUE=DATE:20250604
DTSTAMP:20260422T232000
CREATED:20210220T165326Z
LAST-MODIFIED:20250407T163704Z
UID:7155-1748908800-1748995199@www.wycombefoe.org.uk
SUMMARY:Bicycle day
DESCRIPTION:The bicycle is a simple\, affordable\, reliable\, clean and environmentally fit sustainable means of transportation. Active transport is not only healthy\, but also cost-effective for shorter distances. \nEvery 3rd June. Worldwide.
URL:https://www.wycombefoe.org.uk/event/bicycle-day-2-2-2-2/
END:VEVENT
BEGIN:VEVENT
DTSTART;TZID=Europe/London:20250602T183000
DTEND;TZID=Europe/London:20250602T190000
DTSTAMP:20260422T232000
CREATED:20220608T085815Z
LAST-MODIFIED:20250407T144504Z
UID:7153-1748889000-1748890800@www.wycombefoe.org.uk
SUMMARY:'Wycombe Env Projects' meeting - MOST MONDAYS
DESCRIPTION:Wycombe Environment Projects (WEP) is a projects group run by the charity Wycombe Environment Centre.\nWEP is not a forum for discussion\, but for action\, to cut carbon and boost biodiversity. \nThe group meets weekly for half an hour by Zoom on most Mondays at 6.30 pm.\nIf you would like to join in\, please email penelope.trustee@refreshwycombe.org \nGroup was setup 10th Feb 2021. \n 
URL:https://www.wycombefoe.org.uk/event/wycombe-environment-group-meeting-most-mondays-2-2-2-2-2-4-2-4-2-2-2-2-3-2-2-2-2-2-2-2-2-2-2-2-2-2-2-2-2-2/
END:VEVENT
BEGIN:VEVENT
DTSTART;VALUE=DATE:20250601
DTEND;VALUE=DATE:20250602
DTSTAMP:20260422T232000
CREATED:20220608T084910Z
LAST-MODIFIED:20250520T194329Z
UID:7146-1748736000-1748822399@www.wycombefoe.org.uk
SUMMARY:Re-Use Shop 'Refresh' EVERY DAY EXCEPT Monday
DESCRIPTION:For opening times see https://www.instagram.com/refreshthemarketplace. \nRefresh Wycombe is a wonderful scrap store based in the Chiltern Shopping Centre\, right here in the heart of High Wycombe. Our aim is to encourage you to Reduce\, Reuse\, Recycle and Create. We have a huge selection of surplus and unwanted stock all donated by local businesses and individuals. You may be a crafter\, a teacher\, an artist or a maker. We have fantastic fabrics\, textiles\, haberdashery items\, cards\, papers\, foils\, and shelves full of materials just waiting for you to give it a second life and use it on your next project. We are open to everyone and located near the Primark entrance inside the Chiltern Shopping Centre. \n\nFollow us on Social Media to get all the latest news.\nFacebook – Refreshwycombe\nInstagram – @refreshwycombe\nWebsite – www.refreshwycombe.org
URL:https://www.wycombefoe.org.uk/event/scrapstore-refresh-every-saturday-2-2-2-2-3-2-2-2-2-2-2-2-2-5-2-2-2-2-2-3-2-2-2-2-2-2-2-2-2-2-2-2-2-2-2-2-2/
LOCATION:Chilterns Shopping Centre\, Unit 8\, Chilterns Shopping Centre\, Frogmoor\, High Wycombe\, HP13 5ES\, United Kingdom
END:VEVENT
BEGIN:VEVENT
DTSTART;VALUE=DATE:20250601
DTEND;VALUE=DATE:20250602
DTSTAMP:20260422T232000
CREATED:20170301T100115Z
LAST-MODIFIED:20250407T113456Z
UID:7142-1748736000-1748822399@www.wycombefoe.org.uk
SUMMARY:OTHER ECO GROUPS & EVENTS
DESCRIPTION:Click links below… \nList of environmental events in the Wycombe area\nThis is a more detailed listing of individual events. It is a pinned post on the Facebook page of Wycombe Env Centre. \nList of environmental organisations in the Wycombe area\nAnother way to find out re events. Click on the link to the organisation’s website and search for ‘what’s on’\, events or similar.\n \n  \n 
URL:https://www.wycombefoe.org.uk/event/note-other-local-event-listings-10-2-2-8-4-2-3-2-2-2-2-2-2-2-2-2-2-3-2-2-2-2-2-2-2-2-2-2-2-2-2-2-2-2-2-2-2-2-2-2-2-2-2-2-2-2-2-2-2-2-2-2-2-2-2-2-2-2-2-2-2-2-2-2-2-2-2-2-2-2-2-2-2-2-2-2-2-2-2-2-2-2-2-4/
END:VEVENT
BEGIN:VEVENT
DTSTART;VALUE=DATE:20250522
DTEND;VALUE=DATE:20250523
DTSTAMP:20260422T232000
CREATED:20170129T153226Z
LAST-MODIFIED:20250315T112835Z
UID:7104-1747872000-1747958399@www.wycombefoe.org.uk
SUMMARY:Biodiversity day
DESCRIPTION:The United Nations has proclaimed May 22 The International Day for Biological Diversity to increase understanding and awareness of biodiversity issues. \nEvery 22nd May. Worldwide
URL:https://www.wycombefoe.org.uk/event/biological-diversity-day-2-2-2-2-2-2-2/
END:VEVENT
BEGIN:VEVENT
DTSTART;VALUE=DATE:20250520
DTEND;VALUE=DATE:20250521
DTSTAMP:20260422T232000
CREATED:20210220T164813Z
LAST-MODIFIED:20250315T112452Z
UID:7100-1747699200-1747785599@www.wycombefoe.org.uk
SUMMARY:Bee day
DESCRIPTION:Bees and other pollinators\, such as butterflies\, bats and hummingbirds\, are increasingly under threat from human activities. \nPollination is\, however\, a fundamental process for the survival of our ecosystems. Nearly 90% of the world’s wild flowering plant species depend\, entirely\, or at least in part\, on animal pollination\, along with more than 75% of the world’s food crops and 35% of global agricultural land. Not only do pollinators contribute directly to food security\, but they are key to conserving biodiversity. \nEvery 20th May. Worldwide.
URL:https://www.wycombefoe.org.uk/event/bee-day-2-2-2-2/
END:VEVENT
BEGIN:VEVENT
DTSTART;VALUE=DATE:20250519
DTEND;VALUE=DATE:20250524
DTSTAMP:20260422T232000
CREATED:20160406T114605Z
LAST-MODIFIED:20250315T112658Z
UID:7102-1747612800-1748044799@www.wycombefoe.org.uk
SUMMARY:Walk to school week
DESCRIPTION:Join over a million pupils and their families to celebrate walking to school. \nChallenge everyone in your school to walk every day during Walk to School Week and make a real difference to your children’s happiness and wellbeing. \nUK. \nEvery 3rd Monday of May\, till Friday.
URL:https://www.wycombefoe.org.uk/event/walk-to-school-week-2-2-2-2-2-2-2-2/
END:VEVENT
BEGIN:VEVENT
DTSTART;VALUE=DATE:20250517
DTEND;VALUE=DATE:20250518
DTSTAMP:20260422T232000
CREATED:20160217T170728Z
LAST-MODIFIED:20250315T112250Z
UID:7098-1747440000-1747526399@www.wycombefoe.org.uk
SUMMARY:Anniversary of Wycombe Environment Centre (2001)
DESCRIPTION:The Wycombe Environment Centre was founded in 17 May 2001 by Frances Alexander and the steering group. After a large Biffa grant\, they acquired a multistory building near the Rye Park\, which opened to the public in 2003. In 2010 the charity had to move out\, but found a new building in West Wycombe Rd a few years later. Finally\, it moved to Chilterns Shopping Centre in 2014 and has been there (on and off) until today. \nTo contact WEC you can message them via Facebook – www.facebook.com/WycombeEnvironmentCentre \n  \n 
URL:https://www.wycombefoe.org.uk/event/anniversary-of-wycombe-environment-centre-2003-2-2-2-2-2-2-2-2/
LOCATION:Wycombe Environment Centre\, Chilterns Shopping Centre\,\, High Wycombe\, HP13 5ES
END:VEVENT
BEGIN:VEVENT
DTSTART;TZID=Europe/London:20250511T110000
DTEND;TZID=Europe/London:20250511T170000
DTSTAMP:20260422T232000
CREATED:20170129T151130Z
LAST-MODIFIED:20250203T210605Z
UID:7070-1746961200-1746982800@www.wycombefoe.org.uk
SUMMARY:Pann Mill Open day
DESCRIPTION:Enjoy a walk round the Rye and stop in on Pann Mill for cake/tea/coffee and view the variety of stands (books\, plants\, brick-a-brack\, charity groups etc). \nFlour made in Pann Mill is usually on sale (dependent on water levels). \nLikely environmental stalls: Wycombe Friends of the Earth and Revive the Wye. \nCoincides with the Sunday of National mills weekend (https://nationaltoday.com/national-mills-weekend).
URL:https://www.wycombefoe.org.uk/event/pann-mill-open-day-3-2-2-2-2-2-2-2/
LOCATION:Pann Mill\, The Rye (nr Busy Bees nursery)\, High Wycombe\, HP11 1BJ\, United Kingdom
END:VEVENT
BEGIN:VEVENT
DTSTART;TZID=Europe/London:20250510T100000
DTEND;TZID=Europe/London:20250510T130000
DTSTAMP:20260422T232000
CREATED:20211004T140652Z
LAST-MODIFIED:20250203T173841Z
UID:7065-1746871200-1746882000@www.wycombefoe.org.uk
SUMMARY:Wycombe Repair Café
DESCRIPTION:The Wycombe Repair Café is a project run by the charity Wycombe Environment Centre. The Repair Café is located in All Saints Parish Church in the centre of High Wycombe. Bring your broken household items (mechanical\, textile or small electrical) and we may be able to repair it. Either way\, there will be no charge (except if a new part is required)\, although any donations will be very welcome. \nEvery 2nd Saturday of the month\, in High Wycombe.\n(note also that there are other Repair Cafes nearby\, eg in Flackwell Heath\, Marlow and Hazlemere)
URL:https://www.wycombefoe.org.uk/event/repair-cafe-2-2-2-2-2-2-2-2-2-2-2-2-2-2-2-2-2-2-2-2-2-3-2-3-2-2-2-2-2-2-2-2-2-2-2-2-3-2-2-2-2-2/
LOCATION:Church Street\, Church Street\, High Wycombe\, HP11 2DE\, United Kingdom
END:VEVENT
BEGIN:VEVENT
DTSTART;VALUE=DATE:20250510
DTEND;VALUE=DATE:20250511
DTSTAMP:20260422T232000
CREATED:20170129T145809Z
LAST-MODIFIED:20250218T165351Z
UID:7091-1746835200-1746921599@www.wycombefoe.org.uk
SUMMARY:World Fairtrade Day
DESCRIPTION:Fair Trade is an agent for change. It is a tangible solution to poverty eradication\, a good tool for sustainable development\, and most of all Fair Trade promotes social justice. \nContact High Wycombe Fairtrade group to find out if any events/stalls are happening in your area – www.wycombefairtrade.org.uk/ \nWorldwide. Every 2nd Saturday of May. \n 
URL:https://www.wycombefoe.org.uk/event/world-fairtrade-day-2-2-2-2-2-2-2-2-2/
END:VEVENT
BEGIN:VEVENT
DTSTART;TZID=Europe/London:20250507T193000
DTEND;TZID=Europe/London:20250507T210000
DTSTAMP:20260422T232000
CREATED:20170129T143413Z
LAST-MODIFIED:20250203T173510Z
UID:7059-1746646200-1746651600@www.wycombefoe.org.uk
SUMMARY:Wycombe FoE Monthly Meeting
DESCRIPTION:Format of meeting (Zoom and/or Physical location).\nAgenda will be published a few days beforehand on our Home page – www.wycombefoe.org.uk. \nNon-members please email us at wycombefoe@yahoo.co.uk for a Zoom invitation.\nWe welcome new input and faces\, so let’s hear from you. \n 
URL:https://www.wycombefoe.org.uk/event/wycombe-friends-of-the-earth-monthly-meeting-23-6-2-2-2-3-3-2-3-2-2-2-2-2-2-2-2-2-2-2-2-2-3-3-2-2-2-2-2-3-2-2-2-2-2-2-2-2-2-2-2-2-2-2-4-2-2-2-2-2-2-2-2-2-3-2-2-2-2-2-3-2-2-2-3-2-2-2-2/
END:VEVENT
BEGIN:VEVENT
DTSTART;TZID=Europe/London:20250505T183000
DTEND;TZID=Europe/London:20250505T190000
DTSTAMP:20260422T232000
CREATED:20220608T085815Z
LAST-MODIFIED:20250203T173752Z
UID:7063-1746469800-1746471600@www.wycombefoe.org.uk
SUMMARY:'Wycombe Env Projects' meeting - MOST MONDAYS
DESCRIPTION:Wycombe Environment Projects (WEP) is a projects group run by the charity Wycombe Environment Centre.\nWEP is not a forum for discussion\, but for action\, to cut carbon and boost biodiversity. \nThe group meets weekly for half an hour by Zoom on most Mondays at 6.30 pm.\nIf you would like to join in\, please email penelope.trustee@refreshwycombe.org \nGroup was setup 10th Feb 2021. \n 
URL:https://www.wycombefoe.org.uk/event/wycombe-environment-group-meeting-most-mondays-2-2-2-2-2-4-2-4-2-2-2-2-3-2-2-2-2-2-2-2-2-2-2-2-2-2-2-2-2/
END:VEVENT
BEGIN:VEVENT
DTSTART;VALUE=DATE:20250504
DTEND;VALUE=DATE:20250511
DTSTAMP:20260422T232000
CREATED:20170129T145017Z
LAST-MODIFIED:20250203T210259Z
UID:7067-1746316800-1746921599@www.wycombefoe.org.uk
SUMMARY:Compost awareness week
DESCRIPTION:Find out about the importance of composting and learn how to do it. \nFurther info at www.gardenorganic.org.uk\, or\nfor international go www.compostfoundation.org/ICAW/ICAW-Home \nStarts every first Sunday of May\, till Saturday. Worldwide. \n 
URL:https://www.wycombefoe.org.uk/event/compost-awareness-week-2-2-2-2-2-2-2-2-2/
END:VEVENT
BEGIN:VEVENT
DTSTART;TZID=Europe/London:20250501T100000
DTEND;TZID=Europe/London:20250501T130000
DTSTAMP:20260422T232000
CREATED:20160409T161011Z
LAST-MODIFIED:20250203T173554Z
UID:7061-1746093600-1746104400@www.wycombefoe.org.uk
SUMMARY:Chiltern Rangers Conservation MOST THURSDAYS
DESCRIPTION:Most Thursdays the Chiltern Rangers run a volunteer conservation group which is open to all.\nCome along and meet the group at Wycombe Rye Lido Car Park and keep fit while helping to take care of your local environment at woodlands. \nTools\, gloves and hot drinks are provided. Please wear stout footwear and appropriate clothing suitable for outdoors activities and the weather. If you would like to get involved then please contact them –  info@chilternrangers.co.uk \nCheck their website for details and more events. \n 
URL:https://www.wycombefoe.org.uk/event/conservation-volunteering-every-thursday-of-the-month-25-4-4-4-3-3-2-2-2-2-2-2-2-2-2-2-3-2-2-2-2-2-2-2-2-2-2-2-2-2-2-2-2-2-3-2-2-2-2-2-2-2-2-2-2-5-2-2-2-2-2-2-2-2-2-2-2-2-2-2-2-2-2-2-2-2-2-2-2-2/
LOCATION:Wycombe Lido Swimming pool\, The Rye \, HighWycombe\, United Kingdom
ORGANIZER;CN="Chiltern rangers":MAILTO:info@chilternrangers.co.uk
END:VEVENT
BEGIN:VEVENT
DTSTART;VALUE=DATE:20250501
DTEND;VALUE=DATE:20250502
DTSTAMP:20260422T232000
CREATED:20220608T084910Z
LAST-MODIFIED:20250520T194251Z
UID:7057-1746057600-1746143999@www.wycombefoe.org.uk
SUMMARY:Re-Use Shop 'Refresh' EVERY DAY EXCEPT Monday
DESCRIPTION:For opening times see https://www.instagram.com/refreshthemarketplace. \nRefresh Wycombe is a wonderful scrap store based in the Chiltern Shopping Centre\, right here in the heart of High Wycombe. Our aim is to encourage you to Reduce\, Reuse\, Recycle and Create. We have a huge selection of surplus and unwanted stock all donated by local businesses and individuals. You may be a crafter\, a teacher\, an artist or a maker. We have fantastic fabrics\, textiles\, haberdashery items\, cards\, papers\, foils\, and shelves full of materials just waiting for you to give it a second life and use it on your next project. We are open to everyone and located near the Primark entrance inside the Chiltern Shopping Centre. \n\nFollow us on Social Media to get all the latest news.\nFacebook – Refreshwycombe\nInstagram – @refreshwycombe\nWebsite – www.refreshwycombe.org
URL:https://www.wycombefoe.org.uk/event/scrapstore-refresh-every-saturday-2-2-2-2-3-2-2-2-2-2-2-2-2-5-2-2-2-2-2-3-2-2-2-2-2-2-2-2-2-2-2-2-2-2-2-2/
LOCATION:Chilterns Shopping Centre\, Unit 8\, Chilterns Shopping Centre\, Frogmoor\, High Wycombe\, HP13 5ES\, United Kingdom
END:VEVENT
BEGIN:VEVENT
DTSTART;VALUE=DATE:20250501
DTEND;VALUE=DATE:20250502
DTSTAMP:20260422T232000
CREATED:20170301T100115Z
LAST-MODIFIED:20250203T160344Z
UID:7055-1746057600-1746143999@www.wycombefoe.org.uk
SUMMARY:OTHER ECO GROUPS & EVENTS
DESCRIPTION:Click links below… \nList of environmental events in the Wycombe area\nThis is a more detailed listing of individual events. It is a pinned post on the Facebook page of Wycombe Env Centre. \nList of environmental organisations in the Wycombe area\nAnother way to find out re events. Click on the link to the organisation’s website and search for ‘what’s on’\, events or similar.\n \n  \n 
URL:https://www.wycombefoe.org.uk/event/note-other-local-event-listings-10-2-2-8-4-2-3-2-2-2-2-2-2-2-2-2-2-3-2-2-2-2-2-2-2-2-2-2-2-2-2-2-2-2-2-2-2-2-2-2-2-2-2-2-2-2-2-2-2-2-2-2-2-2-2-2-2-2-2-2-2-2-2-2-2-2-2-2-2-2-2-2-2-2-2-2-2-2-2-2-2-2-2-3/
END:VEVENT
BEGIN:VEVENT
DTSTART;VALUE=DATE:20250422
DTEND;VALUE=DATE:20250423
DTSTAMP:20260422T232000
CREATED:20161207T163635Z
LAST-MODIFIED:20250203T145928Z
UID:7053-1745280000-1745366399@www.wycombefoe.org.uk
SUMMARY:Earth Day
DESCRIPTION:Celebrate our planet. Find an event near you. \nOrganised by Earth Day Network. \n“Now is the time for the unstoppable courage to preserve and protect our health\, our families\, our livelihoods… together\, we must Invest In Our Planet. Because a green future is a prosperous future. We need to act (boldly)\, innovate (broadly)\, and implement (equitably). It’s going to take all of us. All in. Businesses\, governments\, and citizens — everyone accounted for\, and everyone accountable.” \nWorldwide. Every 22nd April.
URL:https://www.wycombefoe.org.uk/event/earth-day-2-2-2-2-2-2-2-2-2/
CATEGORIES:Uptodate for 2019
END:VEVENT
BEGIN:VEVENT
DTSTART;TZID=Europe/London:20250412T100000
DTEND;TZID=Europe/London:20250412T130000
DTSTAMP:20260422T232000
CREATED:20211004T140652Z
LAST-MODIFIED:20250203T145627Z
UID:7051-1744452000-1744462800@www.wycombefoe.org.uk
SUMMARY:Wycombe Repair Café
DESCRIPTION:The Wycombe Repair Café is a project run by the charity Wycombe Environment Centre. The Repair Café is located in All Saints Parish Church in the centre of High Wycombe. Bring your broken household items (mechanical\, textile or small electrical) and we may be able to repair it. Either way\, there will be no charge (except if a new part is required)\, although any donations will be very welcome. \nEvery 2nd Saturday of the month\, in High Wycombe.\n(note also that there are other Repair Cafes nearby\, eg in Flackwell Heath\, Marlow and Hazlemere)
URL:https://www.wycombefoe.org.uk/event/repair-cafe-2-2-2-2-2-2-2-2-2-2-2-2-2-2-2-2-2-2-2-2-2-3-2-3-2-2-2-2-2-2-2-2-2-2-2-2-3-2-2-2-2/
LOCATION:Church Street\, Church Street\, High Wycombe\, HP11 2DE\, United Kingdom
END:VEVENT
BEGIN:VEVENT
DTSTART;TZID=Europe/London:20250407T183000
DTEND;TZID=Europe/London:20250407T190000
DTSTAMP:20260422T232000
CREATED:20220608T085815Z
LAST-MODIFIED:20250203T124244Z
UID:7045-1744050600-1744052400@www.wycombefoe.org.uk
SUMMARY:'Wycombe Env Projects' meeting - MOST MONDAYS
DESCRIPTION:Wycombe Environment Projects (WEP) is a projects group run by the charity Wycombe Environment Centre.\nWEP is not a forum for discussion\, but for action\, to cut carbon and boost biodiversity. \nThe group meets weekly for half an hour by Zoom on most Mondays at 6.30 pm.\nIf you would like to join in\, please email penelope.trustee@refreshwycombe.org \nGroup was setup 10th Feb 2021. \n 
URL:https://www.wycombefoe.org.uk/event/wycombe-environment-group-meeting-most-mondays-2-2-2-2-2-4-2-4-2-2-2-2-3-2-2-2-2-2-2-2-2-2-2-2-2-2-2-2/
END:VEVENT
BEGIN:VEVENT
DTSTART;TZID=Europe/London:20250403T100000
DTEND;TZID=Europe/London:20250403T130000
DTSTAMP:20260422T232000
CREATED:20160409T161011Z
LAST-MODIFIED:20250203T145545Z
UID:7049-1743674400-1743685200@www.wycombefoe.org.uk
SUMMARY:Chiltern Rangers Conservation MOST THURSDAYS
DESCRIPTION:Most Thursdays the Chiltern Rangers run a volunteer conservation group which is open to all.\nCome along and meet the group at Wycombe Rye Lido Car Park and keep fit while helping to take care of your local environment at woodlands. \nTools\, gloves and hot drinks are provided. Please wear stout footwear and appropriate clothing suitable for outdoors activities and the weather. If you would like to get involved then please contact them –  info@chilternrangers.co.uk \nCheck their website for details and more events. \n 
URL:https://www.wycombefoe.org.uk/event/conservation-volunteering-every-thursday-of-the-month-25-4-4-4-3-3-2-2-2-2-2-2-2-2-2-2-3-2-2-2-2-2-2-2-2-2-2-2-2-2-2-2-2-2-3-2-2-2-2-2-2-2-2-2-2-5-2-2-2-2-2-2-2-2-2-2-2-2-2-2-2-2-2-2-2-2-2-2-2/
LOCATION:Wycombe Lido Swimming pool\, The Rye \, HighWycombe\, United Kingdom
ORGANIZER;CN="Chiltern rangers":MAILTO:info@chilternrangers.co.uk
END:VEVENT
BEGIN:VEVENT
DTSTART;TZID=Europe/London:20250402T193000
DTEND;TZID=Europe/London:20250402T210000
DTSTAMP:20260422T232000
CREATED:20170129T143413Z
LAST-MODIFIED:20250203T124352Z
UID:7047-1743622200-1743627600@www.wycombefoe.org.uk
SUMMARY:Wycombe FoE Monthly Meeting
DESCRIPTION:Format of meeting (Zoom and/or Physical location).\nAgenda will be published a few days beforehand on our Home page – www.wycombefoe.org.uk. \nNon-members please email us at wycombefoe@yahoo.co.uk for a Zoom invitation.\nWe welcome new input and faces\, so let’s hear from you. \n 
URL:https://www.wycombefoe.org.uk/event/wycombe-friends-of-the-earth-monthly-meeting-23-6-2-2-2-3-3-2-3-2-2-2-2-2-2-2-2-2-2-2-2-2-3-3-2-2-2-2-2-3-2-2-2-2-2-2-2-2-2-2-2-2-2-2-4-2-2-2-2-2-2-2-2-2-3-2-2-2-2-2-3-2-2-2-3-2-2-2/
END:VEVENT
BEGIN:VEVENT
DTSTART;VALUE=DATE:20250401
DTEND;VALUE=DATE:20250402
DTSTAMP:20260422T232000
CREATED:20220608T084910Z
LAST-MODIFIED:20250203T124103Z
UID:7042-1743465600-1743551999@www.wycombefoe.org.uk
SUMMARY:Re-Use Shop 'Refresh' EVERY DAY EXCEPT Monday
DESCRIPTION:Open Tues-Thurs 12-4\,  Fri-Sat 10-4  &  Sun 12-4. \nRefresh Wycombe is a wonderful scrap store based in the Chiltern Shopping Centre\, right here in the heart of High Wycombe. Our aim is to encourage you to Reduce\, Reuse\, Recycle and Create. We have a huge selection of surplus and unwanted stock all donated by local businesses and individuals. You may be a crafter\, a teacher\, an artist or a maker. We have fantastic fabrics\, textiles\, haberdashery items\, cards\, papers\, foils\, and shelves full of materials just waiting for you to give it a second life and use it on your next project. We are open to everyone and located near the Primark entrance inside the Chiltern Shopping Centre. \n\n\nPlease follow us on Social Media to get all the latest news.\nFacebook – Refreshwycombe\nInstagram – @refreshwycombe\nWebsite – www.refreshwycombe.org
URL:https://www.wycombefoe.org.uk/event/scrapstore-refresh-every-saturday-2-2-2-2-3-2-2-2-2-2-2-2-2-5-2-2-2-2-2-3-2-2-2-2-2-2-2-2-2-2-2-2-2-2-2/
LOCATION:Chilterns Shopping Centre\, Unit 8\, Chilterns Shopping Centre\, Frogmoor\, High Wycombe\, HP13 5ES\, United Kingdom
END:VEVENT
BEGIN:VEVENT
DTSTART;VALUE=DATE:20250401
DTEND;VALUE=DATE:20250402
DTSTAMP:20260422T232000
CREATED:20170301T100115Z
LAST-MODIFIED:20250203T123908Z
UID:7040-1743465600-1743551999@www.wycombefoe.org.uk
SUMMARY:OTHER ECO GROUPS & EVENTS
DESCRIPTION:Click links below… \nList of environmental events in the Wycombe area\nThis is a more detailed listing of individual events. It is a pinned post on the Facebook page of Wycombe Env Centre. \nList of environmental organisations in the Wycombe area\nAnother way to find out re events. Click on the link to the organisation’s website and search for ‘what’s on’\, events or similar.\n \n  \n 
URL:https://www.wycombefoe.org.uk/event/note-other-local-event-listings-10-2-2-8-4-2-3-2-2-2-2-2-2-2-2-2-2-3-2-2-2-2-2-2-2-2-2-2-2-2-2-2-2-2-2-2-2-2-2-2-2-2-2-2-2-2-2-2-2-2-2-2-2-2-2-2-2-2-2-2-2-2-2-2-2-2-2-2-2-2-2-2-2-2-2-2-2-2-2-2-2-2-2-2/
END:VEVENT
BEGIN:VEVENT
DTSTART;TZID=Europe/London:20250322T203000
DTEND;TZID=Europe/London:20250322T213000
DTSTAMP:20260422T232000
CREATED:20161207T162630Z
LAST-MODIFIED:20250114T103917Z
UID:7017-1742675400-1742679000@www.wycombefoe.org.uk
SUMMARY:Earth Hour
DESCRIPTION:Earth Hour is an annual event where hundreds of millions of people switch off their lights for one hour (8.30-9.30pm) to show they care about our planet. Discover a new world without electricity… \nLast (or 4th) Saturday of March. Worldwide.
URL:https://www.wycombefoe.org.uk/event/earth-hour-3-2-2-2-2-2-2-2-2/
END:VEVENT
END:VCALENDAR