BEGIN:VCALENDAR
VERSION:2.0
PRODID:-//Wycombe Friends of the Earth - ECPv6.15.17//NONSGML v1.0//EN
CALSCALE:GREGORIAN
METHOD:PUBLISH
X-WR-CALNAME:Wycombe Friends of the Earth
X-ORIGINAL-URL:https://www.wycombefoe.org.uk
X-WR-CALDESC:Events for Wycombe Friends of the Earth
REFRESH-INTERVAL;VALUE=DURATION:PT1H
X-Robots-Tag:noindex
X-PUBLISHED-TTL:PT1H
BEGIN:VTIMEZONE
TZID:Europe/London
BEGIN:DAYLIGHT
TZOFFSETFROM:+0000
TZOFFSETTO:+0100
TZNAME:BST
DTSTART:20140330T010000
END:DAYLIGHT
BEGIN:STANDARD
TZOFFSETFROM:+0100
TZOFFSETTO:+0000
TZNAME:GMT
DTSTART:20141026T010000
END:STANDARD
BEGIN:DAYLIGHT
TZOFFSETFROM:+0000
TZOFFSETTO:+0100
TZNAME:BST
DTSTART:20150329T010000
END:DAYLIGHT
BEGIN:STANDARD
TZOFFSETFROM:+0100
TZOFFSETTO:+0000
TZNAME:GMT
DTSTART:20151025T010000
END:STANDARD
BEGIN:DAYLIGHT
TZOFFSETFROM:+0000
TZOFFSETTO:+0100
TZNAME:BST
DTSTART:20160327T010000
END:DAYLIGHT
BEGIN:STANDARD
TZOFFSETFROM:+0100
TZOFFSETTO:+0000
TZNAME:GMT
DTSTART:20161030T010000
END:STANDARD
BEGIN:DAYLIGHT
TZOFFSETFROM:+0000
TZOFFSETTO:+0100
TZNAME:BST
DTSTART:20170326T010000
END:DAYLIGHT
BEGIN:STANDARD
TZOFFSETFROM:+0100
TZOFFSETTO:+0000
TZNAME:GMT
DTSTART:20171029T010000
END:STANDARD
END:VTIMEZONE
BEGIN:VEVENT
DTSTART;TZID=Europe/London:20160602T100000
DTEND;TZID=Europe/London:20160602T130000
DTSTAMP:20260422T230948
CREATED:20160203T144050Z
LAST-MODIFIED:20160203T144050Z
UID:1035-1464861600-1464872400@www.wycombefoe.org.uk
SUMMARY:Conservation volunteering - EVERY Thursday of the month
DESCRIPTION:Every Thursday the Chiltern Rangers run a volunteer conservation group which is open to all. Come along and meet the group at Wycombe Rye Lido Car Park and keep fit while helping to take care of your local environment at woodlands. \nTools\, gloves and hot drinks are provided. Please wear stout footwear and appropriate clothing suitable for outdoors activities and the weather. If you would like to get involved then please contact us. \ninfo@chilternrangers.co.uk
URL:https://www.wycombefoe.org.uk/event/conservation-volunteering-every-thursday-of-the-month-7/
LOCATION:Wycombe Lido Swimming pool\, The Rye \, HighWycombe\, United Kingdom
ORGANIZER;CN="Chiltern rangers":MAILTO:info@chilternrangers.co.uk
END:VEVENT
BEGIN:VEVENT
DTSTART;TZID=Europe/London:20160601T193000
DTEND;TZID=Europe/London:20160601T213000
DTSTAMP:20260422T230948
CREATED:20160203T131535Z
LAST-MODIFIED:20160203T131535Z
UID:1025-1464809400-1464816600@www.wycombefoe.org.uk
SUMMARY:Wycombe Friends of the Earth - Monthly Meeting
DESCRIPTION:Everyone is welcome to come along for a cup of tea and chat. \nEmail us at  wycombefoe@yahoo.co.uk for more info.
URL:https://www.wycombefoe.org.uk/event/wycombe-friends-of-the-earth-monthly-meeting-7/
LOCATION:Friends Meeting House\, 25 London Road\, High Wycombe\, HP11 1BJ
END:VEVENT
BEGIN:VEVENT
DTSTART;VALUE=DATE:20160601
DTEND;VALUE=DATE:20160602
DTSTAMP:20260422T230948
CREATED:20160505T201203Z
LAST-MODIFIED:20160505T201934Z
UID:1550-1464739200-1464825599@www.wycombefoe.org.uk
SUMMARY:Note - other local event listings
DESCRIPTION:Note for using this calendar. \nSome local environmental organisations list their own events. \nClick on the link to their websites below and search for ‘what’s on’ or ‘events’: \nWycombe Environment Centre \nHigh Wycombe Beekeepers \nWycombe Wildlife Group \nMarlow in Transition \nAmersham in Transition \nAnd see… \nFood shops and markets selling local produce \nUK Friends of the Earth
URL:https://www.wycombefoe.org.uk/event/note-other-local-event-listings/
END:VEVENT
BEGIN:VEVENT
DTSTART;VALUE=DATE:20160522
DTEND;VALUE=DATE:20160523
DTSTAMP:20260422T230948
CREATED:20160406T133604Z
LAST-MODIFIED:20160406T133604Z
UID:1466-1463875200-1463961599@www.wycombefoe.org.uk
SUMMARY:Biological diversity day
DESCRIPTION:The United Nations has proclaimed May 22 The International Day for Biological Diversity (IDB) to increase understanding and awareness of biodiversity issues. \nWorldwide. Every 22nd May.
URL:https://www.wycombefoe.org.uk/event/biological-diversity-day/
END:VEVENT
BEGIN:VEVENT
DTSTART;TZID=Europe/London:20160515T110000
DTEND;TZID=Europe/London:20160515T170000
DTSTAMP:20260422T230948
CREATED:20160406T131616Z
LAST-MODIFIED:20160508T070222Z
UID:1463-1463310000-1463331600@www.wycombefoe.org.uk
SUMMARY:Pann Mill Open day
DESCRIPTION:Enjoy a walk round the Rye and stop in on Pann Mill for cake/tea/coffee and view the variety of stands. \nFlour made in Pann Mill is usually on sale (dependent on water levels). \nLikely eco stalls: Wycombe Friends of the Earth and Low Carbon Chilterns Cooperative. \nLocal beekeepers also frequently have a stand. \nCoincides with the Sunday of National mills weekend.
URL:https://www.wycombefoe.org.uk/event/pann-mill-open-day/
LOCATION:Pann Mill\, The Rye (nr Busy Bees nursery)\, High Wycombe\, HP11 1BJ\, United Kingdom
END:VEVENT
BEGIN:VEVENT
DTSTART;VALUE=DATE:20160514
DTEND;VALUE=DATE:20160515
DTSTAMP:20260422T230948
CREATED:20160301T121153Z
LAST-MODIFIED:20160406T115829Z
UID:1340-1463184000-1463270399@www.wycombefoe.org.uk
SUMMARY:World Fairtrade Day
DESCRIPTION:Fair Trade is an agent for change. It is a tangible solution to poverty eradication\, a good tool for sustainable development\, and most of all Fair Trade promotes social justice. \nContact High Wycombe Fairtrade to find out if any events/stalls are happening in your area – www.wycombefairtrade.org.uk/ \nWorldwide. Every 2nd Saturday of May. \n 
URL:https://www.wycombefoe.org.uk/event/world-fairtrade-day/
END:VEVENT
BEGIN:VEVENT
DTSTART;TZID=Europe/London:20160505T100000
DTEND;TZID=Europe/London:20160505T130000
DTSTAMP:20260422T230948
CREATED:20160203T143516Z
LAST-MODIFIED:20160203T143516Z
UID:1033-1462442400-1462453200@www.wycombefoe.org.uk
SUMMARY:Conservation volunteering - EVERY Thursday of the month
DESCRIPTION:Every Thursday the Chiltern Rangers run a volunteer conservation group which is open to all. Come along and meet the group at Wycombe Rye Lido Car Park and keep fit while helping to take care of your local environment at woodlands. \nTools\, gloves and hot drinks are provided. Please wear stout footwear and appropriate clothing suitable for outdoors activities and the weather. If you would like to get involved then please contact us. \ninfo@chilternrangers.co.uk
URL:https://www.wycombefoe.org.uk/event/conservation-volunteering-every-thursday-of-the-month-6/
LOCATION:Wycombe Lido Swimming pool\, The Rye \, HighWycombe\, United Kingdom
ORGANIZER;CN="Chiltern rangers":MAILTO:info@chilternrangers.co.uk
END:VEVENT
BEGIN:VEVENT
DTSTART;TZID=Europe/London:20160504T193000
DTEND;TZID=Europe/London:20160504T213000
DTSTAMP:20260422T230948
CREATED:20160203T131404Z
LAST-MODIFIED:20160203T131404Z
UID:1024-1462390200-1462397400@www.wycombefoe.org.uk
SUMMARY:Wycombe Friends of the Earth - Monthly Meeting
DESCRIPTION:Everyone is welcome to come along for a cup of tea and chat. \nEmail us at  wycombefoe@yahoo.co.uk for more info.
URL:https://www.wycombefoe.org.uk/event/wycombe-friends-of-the-earth-monthly-meeting-6/
LOCATION:Friends Meeting House\, 25 London Road\, High Wycombe\, HP11 1BJ
END:VEVENT
BEGIN:VEVENT
DTSTART;VALUE=DATE:20160504
DTEND;VALUE=DATE:20160516
DTSTAMP:20260422T230948
CREATED:20160407T174106Z
LAST-MODIFIED:20160407T174106Z
UID:1487-1462320000-1463356799@www.wycombefoe.org.uk
SUMMARY:Break free from fossil fuels
DESCRIPTION:A global wave of mass actions will target the world’s most dangerous fossil fuel projects\, in order to keep coal\, oil and gas in the ground and accelerate the just transition to 100% renewable energy. \nWorldwide. Starts on first Wednesday of May\, lasting about 10 days.
URL:https://www.wycombefoe.org.uk/event/break-free-from-fossil-fuels/
END:VEVENT
BEGIN:VEVENT
DTSTART;TZID=Europe/London:20160501T080000
DTEND;TZID=Europe/London:20160507T170000
DTSTAMP:20260422T230948
CREATED:20160301T115925Z
LAST-MODIFIED:20170129T144646Z
UID:1339-1462089600-1462640400@www.wycombefoe.org.uk
SUMMARY:Compost awareness week
DESCRIPTION:Find out about Composting\, Garden Organic\, Master composter courses and more. \nMore info: www.homecomposting.org.uk \nWorldwide. \nStarts every first Sunday of May\, till Saturday \n 
URL:https://www.wycombefoe.org.uk/event/compost-awareness-week/
END:VEVENT
BEGIN:VEVENT
DTSTART;VALUE=DATE:20160422
DTEND;VALUE=DATE:20160423
DTSTAMP:20260422T230948
CREATED:20160102T172249Z
LAST-MODIFIED:20160203T153241Z
UID:915-1461283200-1461369599@www.wycombefoe.org.uk
SUMMARY:Earth Day
DESCRIPTION:Celebrate our planet. Find an event near you. \nOrganised by Earth Day Network. \nWorldwide. \nEvery 22nd April.
URL:https://www.wycombefoe.org.uk/event/earth-day/
END:VEVENT
BEGIN:VEVENT
DTSTART;TZID=Europe/London:20160407T100000
DTEND;TZID=Europe/London:20160407T130000
DTSTAMP:20260422T230948
CREATED:20160203T143054Z
LAST-MODIFIED:20160203T143054Z
UID:1032-1460023200-1460034000@www.wycombefoe.org.uk
SUMMARY:Conservation volunteering - EVERY Thursday of the month
DESCRIPTION:Every Thursday the Chiltern Rangers run a volunteer conservation group which is open to all. Come along and meet the group at Wycombe Rye Lido Car Park and keep fit while helping to take care of your local environment at woodlands. \nTools\, gloves and hot drinks are provided. Please wear stout footwear and appropriate clothing suitable for outdoors activities and the weather. If you would like to get involved then please contact us. \ninfo@chilternrangers.co.uk
URL:https://www.wycombefoe.org.uk/event/conservation-volunteering-every-thursday-of-the-month-5/
LOCATION:Wycombe Lido Swimming pool\, The Rye \, HighWycombe\, United Kingdom
ORGANIZER;CN="Chiltern rangers":MAILTO:info@chilternrangers.co.uk
END:VEVENT
BEGIN:VEVENT
DTSTART;TZID=Europe/London:20160406T193000
DTEND;TZID=Europe/London:20160406T213000
DTSTAMP:20260422T230948
CREATED:20160203T131158Z
LAST-MODIFIED:20160203T131158Z
UID:1023-1459971000-1459978200@www.wycombefoe.org.uk
SUMMARY:Wycombe Friends of the Earth - Monthly Meeting
DESCRIPTION:Everyone is welcome to come along for a cup of tea and chat. \nEmail us at  wycombefoe@yahoo.co.uk for more info.
URL:https://www.wycombefoe.org.uk/event/wycombe-friends-of-the-earth-monthly-meeting-4/
LOCATION:Friends Meeting House\, 25 London Road\, High Wycombe\, HP11 1BJ
END:VEVENT
BEGIN:VEVENT
DTSTART;TZID=Europe/London:20160323T193000
DTEND;TZID=Europe/London:20160323T213000
DTSTAMP:20260422T230948
CREATED:20160302T184518Z
LAST-MODIFIED:20160302T184648Z
UID:1342-1458761400-1458768600@www.wycombefoe.org.uk
SUMMARY:Naomi Klein : This Changes Everything : March 23rd 2016
DESCRIPTION:To be screened at The Friends Meeting House. 7:30 for 8pm Start
URL:https://www.wycombefoe.org.uk/event/naomi-klein-this-changes-everything-march-23rd-2016/
LOCATION:Friends Meeting House\, 25 London Road\, High Wycombe\, HP11 1BJ
END:VEVENT
BEGIN:VEVENT
DTSTART;VALUE=DATE:20160322
DTEND;VALUE=DATE:20160323
DTSTAMP:20260422T230948
CREATED:20160102T170756Z
LAST-MODIFIED:20160203T152335Z
UID:912-1458604800-1458691199@www.wycombefoe.org.uk
SUMMARY:Water Day
DESCRIPTION:Organised by United Nations. \nWorldwide. \nEvery 22 March.
URL:https://www.wycombefoe.org.uk/event/water-day/
END:VEVENT
BEGIN:VEVENT
DTSTART;VALUE=DATE:20160321
DTEND;VALUE=DATE:20160322
DTSTAMP:20260422T230948
CREATED:20160203T150142Z
LAST-MODIFIED:20160203T152156Z
UID:1037-1458518400-1458604799@www.wycombefoe.org.uk
SUMMARY:Forestry Day
DESCRIPTION:Organised by United Nations. \nWorldwide. \nEvery 21st March.
URL:https://www.wycombefoe.org.uk/event/forestry-day/
END:VEVENT
BEGIN:VEVENT
DTSTART;TZID=Europe/London:20160319T203000
DTEND;TZID=Europe/London:20160319T213000
DTSTAMP:20260422T230948
CREATED:20160102T171358Z
LAST-MODIFIED:20160203T152523Z
UID:913-1458419400-1458423000@www.wycombefoe.org.uk
SUMMARY:Earth Hour
DESCRIPTION:Earth Hour is an annual event where hundreds of millions of people switch off their lights for one hour to show they care about our planet. \nWorldwide. \nUsually last Saturday of March.
URL:https://www.wycombefoe.org.uk/event/earth-hour/
END:VEVENT
BEGIN:VEVENT
DTSTART;TZID=Europe/London:20160303T100000
DTEND;TZID=Europe/London:20160303T130000
DTSTAMP:20260422T230948
CREATED:20160203T142410Z
LAST-MODIFIED:20160203T142410Z
UID:1031-1456999200-1457010000@www.wycombefoe.org.uk
SUMMARY:Conservation volunteering - EVERY Thursday of the month
DESCRIPTION:Every Thursday the Chiltern Rangers run a volunteer conservation group which is open to all. Come along and meet the group at Wycombe Rye Lido Car Park and keep fit while helping to take care of your local environment at woodlands. \nTools\, gloves and hot drinks are provided. Please wear stout footwear and appropriate clothing suitable for outdoors activities and the weather. If you would like to get involved then please contact us. \ninfo@chilternrangers.co.uk
URL:https://www.wycombefoe.org.uk/event/conservation-volunteering-every-thursday-of-the-month-4/
LOCATION:Wycombe Lido Swimming pool\, The Rye \, HighWycombe\, United Kingdom
ORGANIZER;CN="Chiltern rangers":MAILTO:info@chilternrangers.co.uk
END:VEVENT
BEGIN:VEVENT
DTSTART;TZID=Europe/London:20160302T193000
DTEND;TZID=Europe/London:20160302T213000
DTSTAMP:20260422T230948
CREATED:20151202T124327Z
LAST-MODIFIED:20160103T141725Z
UID:856-1456947000-1456954200@www.wycombefoe.org.uk
SUMMARY:Wycombe Friends of the Earth - Monthly Meeting
DESCRIPTION:Everyone is welcome to come along for a cup of tea and chat. \nEmail us at  wycombefoe@yahoo.co.uk for more info.
URL:https://www.wycombefoe.org.uk/event/wycombe-friends-of-the-earth-monthly-meeting-5/
LOCATION:Friends Meeting House\, 25 London Road\, High Wycombe\, HP11 1BJ
END:VEVENT
BEGIN:VEVENT
DTSTART;VALUE=DATE:20160229
DTEND;VALUE=DATE:20160314
DTSTAMP:20260422T230948
CREATED:20160204T160004Z
LAST-MODIFIED:20160416T163102Z
UID:1083-1456704000-1457913599@www.wycombefoe.org.uk
SUMMARY:Fairtrade fortnight
DESCRIPTION:The people who grow the food we take for granted can’t always feed their own families. We can support farmers and workers to put food on the table for their families by harnessing the power of a Fairtrade breakfast. During Fairtrade Fortnight\, we will be encouraging campaigners to inspire Big Fairtrade Breakfasts in their community – and wake others up to the challenges facing farmers and workers. \n  \n 
URL:https://www.wycombefoe.org.uk/event/fairtrade-fortnight/
END:VEVENT
BEGIN:VEVENT
DTSTART;VALUE=DATE:20160213
DTEND;VALUE=DATE:20160215
DTSTAMP:20260422T230948
CREATED:20160204T154955Z
LAST-MODIFIED:20160416T162201Z
UID:1082-1455321600-1455494399@www.wycombefoe.org.uk
SUMMARY:Global divestment day
DESCRIPTION:Divest from fossil fuels. \nTogether\, we will show that we are a truly global and growing force to be reckoned with. As the fossil fuel industry throws more money at fossil fuel expansion\, we will turn up the volume of our divestment movement. And we won’t stop until we win. Let’s make fossil fuels history. \nWorldwide. \n(Every second Saturday/Sunday of February?)
URL:https://www.wycombefoe.org.uk/event/global-divestment-day/
END:VEVENT
BEGIN:VEVENT
DTSTART;TZID=Europe/London:20160204T100000
DTEND;TZID=Europe/London:20160204T130000
DTSTAMP:20260422T230948
CREATED:20160203T141731Z
LAST-MODIFIED:20160203T141731Z
UID:1028-1454580000-1454590800@www.wycombefoe.org.uk
SUMMARY:Conservation volunteering - EVERY Thursday of the month
DESCRIPTION:Every Thursday the Chiltern Rangers run a volunteer conservation group which is open to all. Come along and meet the group at Wycombe Rye Lido Car Park and keep fit while helping to take care of your local environment at woodlands. \nTools\, gloves and hot drinks are provided. Please wear stout footwear and appropriate clothing suitable for outdoors activities and the weather. If you would like to get involved then please contact us. \ninfo@chilternrangers.co.uk
URL:https://www.wycombefoe.org.uk/event/conservation-volunteering-every-thursday-of-the-month-3/
LOCATION:Wycombe Lido Swimming pool\, The Rye \, HighWycombe\, United Kingdom
ORGANIZER;CN="Chiltern rangers":MAILTO:info@chilternrangers.co.uk
END:VEVENT
BEGIN:VEVENT
DTSTART;TZID=Europe/London:20160203T193000
DTEND;TZID=Europe/London:20160203T213000
DTSTAMP:20260422T230948
CREATED:20151104T193005Z
LAST-MODIFIED:20151202T121034Z
UID:589-1454527800-1454535000@www.wycombefoe.org.uk
SUMMARY:Wycombe Friends of the Earth - Monthly Meeting
DESCRIPTION:
URL:https://www.wycombefoe.org.uk/event/wycombe-friends-of-the-earth-monthly-meeting-2/
LOCATION:Friends Meeting House\, 25 London Road\, High Wycombe\, HP11 1BJ
END:VEVENT
BEGIN:VEVENT
DTSTART;VALUE=DATE:20160202
DTEND;VALUE=DATE:20160203
DTSTAMP:20260422T230948
CREATED:20151105T214042Z
LAST-MODIFIED:20160416T164023Z
UID:684-1454371200-1454457599@www.wycombefoe.org.uk
SUMMARY:World Wetlands Day
DESCRIPTION:2nd of February every year.
URL:https://www.wycombefoe.org.uk/event/world-wetlands-day/
CATEGORIES:Uptodate for 2017
END:VEVENT
BEGIN:VEVENT
DTSTART;TZID=Europe/London:20160107T100000
DTEND;TZID=Europe/London:20160107T130000
DTSTAMP:20260422T230948
CREATED:20160203T141333Z
LAST-MODIFIED:20160203T141333Z
UID:1027-1452160800-1452171600@www.wycombefoe.org.uk
SUMMARY:Conservation volunteering - EVERY Thursday of the month
DESCRIPTION:Every Thursday the Chiltern Rangers run a volunteer conservation group which is open to all. Come along and meet the group at Wycombe Rye Lido Car Park and keep fit while helping to take care of your local environment at woodlands. \nTools\, gloves and hot drinks are provided. Please wear stout footwear and appropriate clothing suitable for outdoors activities and the weather. If you would like to get involved then please contact us. \ninfo@chilternrangers.co.uk
URL:https://www.wycombefoe.org.uk/event/conservation-volunteering-every-thursday-of-the-month-2/
LOCATION:Wycombe Lido Swimming pool\, The Rye \, HighWycombe\, United Kingdom
ORGANIZER;CN="Chiltern rangers":MAILTO:info@chilternrangers.co.uk
END:VEVENT
BEGIN:VEVENT
DTSTART;VALUE=DATE:20151212
DTEND;VALUE=DATE:20151213
DTSTAMP:20260422T230948
CREATED:20151214T162900Z
LAST-MODIFIED:20151214T163134Z
UID:873-1449878400-1449964799@www.wycombefoe.org.uk
SUMMARY:Climate change agreement in Paris (2015)
DESCRIPTION:A historcial worldwide agreement in Paris to limit increase in temperature to 2 degrees Centigrade.
URL:https://www.wycombefoe.org.uk/event/climate-change-agreement-in-paris-2015/
END:VEVENT
BEGIN:VEVENT
DTSTART;TZID=Europe/London:20151203T100000
DTEND;TZID=Europe/London:20151203T130000
DTSTAMP:20260422T230948
CREATED:20151103T160543Z
LAST-MODIFIED:20160203T140823Z
UID:544-1449136800-1449147600@www.wycombefoe.org.uk
SUMMARY:Conservation volunteering - EVERY Thursday of the month
DESCRIPTION:Every Thursday the Chiltern Rangers run a volunteer conservation group which is open to all. Come along and meet the group at Wycombe Rye Lido Car Park and keep fit while helping to take care of your local environment at woodlands. \nTools\, gloves and hot drinks are provided. Please wear stout footwear and appropriate clothing suitable for outdoors activities and the weather. If you would like to get involved then please contact us. \ninfo@chilternrangers.co.uk
URL:https://www.wycombefoe.org.uk/event/544/
LOCATION:Wycombe Lido Swimming pool\, The Rye \, HighWycombe\, United Kingdom
ORGANIZER;CN="Chiltern rangers":MAILTO:info@chilternrangers.co.uk
END:VEVENT
BEGIN:VEVENT
DTSTART;TZID=Europe/London:20151202T193000
DTEND;TZID=Europe/London:20151202T213000
DTSTAMP:20260422T230948
CREATED:20151202T115522Z
LAST-MODIFIED:20151202T130706Z
UID:853-1449084600-1449091800@www.wycombefoe.org.uk
SUMMARY:Wycombe Friends of the Earth - Monthly Meeting
DESCRIPTION:As it’s nearly Christmas this meeting may be a light hearted one.
URL:https://www.wycombefoe.org.uk/event/wycombe-friends-of-the-earth-monthly-meeting-3/
LOCATION:Friends Meeting House\, 25 London Road\, High Wycombe\, HP11 1BJ
END:VEVENT
BEGIN:VEVENT
DTSTART;TZID=Europe/London:20151129T113000
DTEND;TZID=Europe/London:20151129T170000
DTSTAMP:20260422T230948
CREATED:20151104T093510Z
LAST-MODIFIED:20151104T102623Z
UID:590-1448796600-1448816400@www.wycombefoe.org.uk
SUMMARY:People's March for Climate\, Justice and Jobs
DESCRIPTION:On this date\, a huge protest will be taking place across London on the eve of the crucial Paris climate talks\, which will take place from the 30th November to the 12th December. \nAround the world\, in major cities\, people will be coming together to demand that our governments take action to save our beautiful planet. Across the UK\, people will be working together to make this the biggest\, most poignant demonstration yet\, and our unified voice will resonate from London across the globe to call for real action on climate change.
URL:https://www.wycombefoe.org.uk/event/peoples-march-for-climate/
LOCATION:Assemble at  Park Lane\,\, London
END:VEVENT
BEGIN:VEVENT
DTSTART;TZID=Europe/London:20151127T080000
DTEND;TZID=Europe/London:20151127T170000
DTSTAMP:20260422T230948
CREATED:20151104T084058Z
LAST-MODIFIED:20151104T084058Z
UID:586-1448611200-1448643600@www.wycombefoe.org.uk
SUMMARY:Buy Nothing Day
DESCRIPTION:It’s a day where you challenge yourself\, your family and friends to switch off from shopping and tune into life. The rules are simple\, for 24 hours you will detox from shopping and anyone can take part provided they spend a day without spending! \nwww.buynothingday.co.uk
URL:https://www.wycombefoe.org.uk/event/buy-nothing-day/
LOCATION:A WorldWide Event
END:VEVENT
END:VCALENDAR