BEGIN:VCALENDAR
VERSION:2.0
PRODID:-//Wycombe Friends of the Earth - ECPv6.15.17//NONSGML v1.0//EN
CALSCALE:GREGORIAN
METHOD:PUBLISH
X-WR-CALNAME:Wycombe Friends of the Earth
X-ORIGINAL-URL:https://www.wycombefoe.org.uk
X-WR-CALDESC:Events for Wycombe Friends of the Earth
REFRESH-INTERVAL;VALUE=DURATION:PT1H
X-Robots-Tag:noindex
X-PUBLISHED-TTL:PT1H
BEGIN:VTIMEZONE
TZID:Europe/London
BEGIN:DAYLIGHT
TZOFFSETFROM:+0000
TZOFFSETTO:+0100
TZNAME:BST
DTSTART:20240331T010000
END:DAYLIGHT
BEGIN:STANDARD
TZOFFSETFROM:+0100
TZOFFSETTO:+0000
TZNAME:GMT
DTSTART:20241027T010000
END:STANDARD
BEGIN:DAYLIGHT
TZOFFSETFROM:+0000
TZOFFSETTO:+0100
TZNAME:BST
DTSTART:20250330T010000
END:DAYLIGHT
BEGIN:STANDARD
TZOFFSETFROM:+0100
TZOFFSETTO:+0000
TZNAME:GMT
DTSTART:20251026T010000
END:STANDARD
BEGIN:DAYLIGHT
TZOFFSETFROM:+0000
TZOFFSETTO:+0100
TZNAME:BST
DTSTART:20260329T010000
END:DAYLIGHT
BEGIN:STANDARD
TZOFFSETFROM:+0100
TZOFFSETTO:+0000
TZNAME:GMT
DTSTART:20261025T010000
END:STANDARD
END:VTIMEZONE
BEGIN:VEVENT
DTSTART;VALUE=DATE:20250922
DTEND;VALUE=DATE:20250929
DTSTAMP:20260424T170339
CREATED:20160601T151032Z
LAST-MODIFIED:20250808T105525Z
UID:7351-1758499200-1759103999@www.wycombefoe.org.uk
SUMMARY:Recycle week
DESCRIPTION:The aim of the week is to encourage people to think about all those items that often get forgotten about when recycling at home. And to encourage people to recycle more\, waste less and take up the challenge for sustainable living. \nFrom second\, third (or fourth) Monday in October\, to Sunday. \n 
URL:https://www.wycombefoe.org.uk/event/recycle-week-2-2-2-2-2-2-2-2-2/
END:VEVENT
BEGIN:VEVENT
DTSTART;VALUE=DATE:20250922
DTEND;VALUE=DATE:20251006
DTSTAMP:20260424T170339
CREATED:20161102T154715Z
LAST-MODIFIED:20250705T173740Z
UID:7295-1758499200-1759708799@www.wycombefoe.org.uk
SUMMARY:Fairtrade fortnight
DESCRIPTION:For Fairtrade Fortnight thousands of individuals\, companies and groups across the UK come together to share the stories of the people who grow our food and drinks and who grow the cotton in our clothes\, people who are often exploited and underpaid. \n(Usually last Monday of February\, then 2 weeks till Sunday) \n  \n 
URL:https://www.wycombefoe.org.uk/event/fairtrade-fortnight-2-2-2-2-2-2-2-2-2/
END:VEVENT
BEGIN:VEVENT
DTSTART;TZID=Europe/London:20250925T080000
DTEND;TZID=Europe/London:20250925T170000
DTSTAMP:20260424T170339
CREATED:20250918T174243Z
LAST-MODIFIED:20250918T182918Z
UID:7394-1758787200-1758819600@www.wycombefoe.org.uk
SUMMARY:Climate Cafe Meetup
DESCRIPTION:The aim of the group is to draw community and environmental groups into wider group collaboration and cross-fertilisation of ideas as well as a source of individual support. Event is free but a donation is very welcome to cover costs. \nUsually last Thursday of the month. Usually at The Patch in the old library.
URL:https://www.wycombefoe.org.uk/event/climate-cafe-meetup/
END:VEVENT
END:VCALENDAR