BEGIN:VCALENDAR
VERSION:2.0
PRODID:-//Wycombe Friends of the Earth - ECPv6.15.17//NONSGML v1.0//EN
CALSCALE:GREGORIAN
METHOD:PUBLISH
X-WR-CALNAME:Wycombe Friends of the Earth
X-ORIGINAL-URL:https://www.wycombefoe.org.uk
X-WR-CALDESC:Events for Wycombe Friends of the Earth
REFRESH-INTERVAL;VALUE=DURATION:PT1H
X-Robots-Tag:noindex
X-PUBLISHED-TTL:PT1H
BEGIN:VTIMEZONE
TZID:Europe/London
BEGIN:DAYLIGHT
TZOFFSETFROM:+0000
TZOFFSETTO:+0100
TZNAME:BST
DTSTART:20230326T010000
END:DAYLIGHT
BEGIN:STANDARD
TZOFFSETFROM:+0100
TZOFFSETTO:+0000
TZNAME:GMT
DTSTART:20231029T010000
END:STANDARD
BEGIN:DAYLIGHT
TZOFFSETFROM:+0000
TZOFFSETTO:+0100
TZNAME:BST
DTSTART:20240331T010000
END:DAYLIGHT
BEGIN:STANDARD
TZOFFSETFROM:+0100
TZOFFSETTO:+0000
TZNAME:GMT
DTSTART:20241027T010000
END:STANDARD
BEGIN:DAYLIGHT
TZOFFSETFROM:+0000
TZOFFSETTO:+0100
TZNAME:BST
DTSTART:20250330T010000
END:DAYLIGHT
BEGIN:STANDARD
TZOFFSETFROM:+0100
TZOFFSETTO:+0000
TZNAME:GMT
DTSTART:20251026T010000
END:STANDARD
END:VTIMEZONE
BEGIN:VEVENT
DTSTART;VALUE=DATE:20241001
DTEND;VALUE=DATE:20241008
DTSTAMP:20260422T191823
CREATED:20160406T132935Z
LAST-MODIFIED:20240311T195457Z
UID:6560-1727740800-1728345599@www.wycombefoe.org.uk
SUMMARY:Vegetarian week
DESCRIPTION:What we eat has a huge impact on our environment. See website for further details/events. \nUK\, \n(Was every 2nd or 3rd Monday in May\, to Sunday. Now in October) \n 
URL:https://www.wycombefoe.org.uk/event/vegetarian-week-2-2-2-2-2-2-2/
END:VEVENT
BEGIN:VEVENT
DTSTART;VALUE=DATE:20241002
DTEND;VALUE=DATE:20241003
DTSTAMP:20260422T191823
CREATED:20200606T181020Z
LAST-MODIFIED:20240805T115910Z
UID:6811-1727827200-1727913599@www.wycombefoe.org.uk
SUMMARY:Energy efficiency day
DESCRIPTION:But efficiency is year-round. Save Money. Cut Carbon. Breathe Easier. \nWorldwide\, every first Wedn of October.
URL:https://www.wycombefoe.org.uk/event/energy-efficiency-day-2-2-2-2/
END:VEVENT
BEGIN:VEVENT
DTSTART;TZID=Europe/London:20241002T193000
DTEND;TZID=Europe/London:20241002T210000
DTSTAMP:20260422T191823
CREATED:20170129T143413Z
LAST-MODIFIED:20240805T122047Z
UID:6822-1727897400-1727902800@www.wycombefoe.org.uk
SUMMARY:Wycombe FoE Monthly Meeting
DESCRIPTION:Format of meeting (Zoom and/or Physical location).\nAgenda will be published a few days beforehand on our Home page – www.wycombefoe.org.uk. \nNon-members please email us at wycombefoe@yahoo.co.uk for a Zoom invitation.\nWe welcome new input and faces\, so let’s hear from you. \n 
URL:https://www.wycombefoe.org.uk/event/wycombe-friends-of-the-earth-monthly-meeting-23-6-2-2-2-3-3-2-3-2-2-2-2-2-2-2-2-2-2-2-2-2-3-3-2-2-2-2-2-3-2-2-2-2-2-2-2-2-2-2-2-2-2-2-4-2-2-2-2-2-2-2-2-2-3-2-2-2-2-2-3-2-2/
END:VEVENT
END:VCALENDAR