BEGIN:VCALENDAR
VERSION:2.0
PRODID:-//Wycombe Friends of the Earth - ECPv6.15.17//NONSGML v1.0//EN
CALSCALE:GREGORIAN
METHOD:PUBLISH
X-ORIGINAL-URL:https://www.wycombefoe.org.uk
X-WR-CALDESC:Events for Wycombe Friends of the Earth
REFRESH-INTERVAL;VALUE=DURATION:PT1H
X-Robots-Tag:noindex
X-PUBLISHED-TTL:PT1H
BEGIN:VTIMEZONE
TZID:Europe/London
BEGIN:DAYLIGHT
TZOFFSETFROM:+0000
TZOFFSETTO:+0100
TZNAME:BST
DTSTART:20230326T010000
END:DAYLIGHT
BEGIN:STANDARD
TZOFFSETFROM:+0100
TZOFFSETTO:+0000
TZNAME:GMT
DTSTART:20231029T010000
END:STANDARD
BEGIN:DAYLIGHT
TZOFFSETFROM:+0000
TZOFFSETTO:+0100
TZNAME:BST
DTSTART:20240331T010000
END:DAYLIGHT
BEGIN:STANDARD
TZOFFSETFROM:+0100
TZOFFSETTO:+0000
TZNAME:GMT
DTSTART:20241027T010000
END:STANDARD
BEGIN:DAYLIGHT
TZOFFSETFROM:+0000
TZOFFSETTO:+0100
TZNAME:BST
DTSTART:20250330T010000
END:DAYLIGHT
BEGIN:STANDARD
TZOFFSETFROM:+0100
TZOFFSETTO:+0000
TZNAME:GMT
DTSTART:20251026T010000
END:STANDARD
END:VTIMEZONE
BEGIN:VEVENT
DTSTART;VALUE=DATE:20240907
DTEND;VALUE=DATE:20240908
DTSTAMP:20260422T193129
CREATED:20230615T085907Z
LAST-MODIFIED:20240709T193416Z
UID:6629-1725667200-1725753599@www.wycombefoe.org.uk
SUMMARY:UN Clean Air Day (Worldwide)
DESCRIPTION:UN Clean Air Day (Worldwide) \nThe United Nations have designated a day to raise awareness of the importance of clean air.\nWorldwide\, every 7th Sept (note: UK Clean Air Day is on 3rd Thursday of June) \nThe quality of our air affects us in two ways: \nHealth impact: tiny\, invisible particles of pollution penetrate deep into our lungs\, bloodstream and bodies. These pollutants are responsible for about one-third of deaths from stroke\, chronic respiratory disease\, and lung cancer\, as well as one quarter of deaths from heart attack. Ground-level ozone\, produced from the interaction of many different pollutants in sunlight\, is also a cause of asthma and chronic respiratory illnesses. \nClimate impact: short-lived climate pollutants (SLCPs) are among those pollutants most linked with both health effects and near-term warming of the planet. They persist in the atmosphere for as little as a few days or up to a few decades\, so reducing them can have an almost immediate health and climate benefits for those living in places where levels fall.
URL:https://www.wycombefoe.org.uk/event/un-clean-air-day-worldwide-2/
END:VEVENT
BEGIN:VEVENT
DTSTART;TZID=Europe/London:20240907T100000
DTEND;TZID=Europe/London:20240907T160000
DTSTAMP:20260422T193129
CREATED:20220608T084910Z
LAST-MODIFIED:20240709T093353Z
UID:6754-1725703200-1725724800@www.wycombefoe.org.uk
SUMMARY:Scrapstore 'Refresh' EVERY SATURDAY
DESCRIPTION:Refresh Wycombe is a wonderful scrap store based in the Chiltern Shopping Centre\, right here in the heart of High Wycombe. Our aim is to encourage you to Reduce\, Reuse\, Recycle and Create. We have a huge selection of surplus and unwanted stock all donated by local businesses and individuals. You may be a crafter\, a teacher\, an artist or a maker. We have fantastic fabrics\, textiles\, haberdashery items\, cards\, papers\, foils\, and shelves full of materials just waiting for you to give it a second life and use it on your next project. We are open to everyone\, so come and visit us every Saturday between 10am and 4pm and Wednesday between 1:30pm and 4:30pm. We’re just next door to Primark inside the Chiltern Shopping Centre.\n\nPlease follow us on Social Media to get all the latest news.\nFacebook – Refreshwycombe\nInstagram – @refreshwycombe\nWebsite – www.refreshwycombe.org
URL:https://www.wycombefoe.org.uk/event/scrapstore-refresh-every-saturday-2-2-2-2-3-2-2-2-2-2-5-2-2-2-2-2-2-2-2-2-2-2-2-2-2-2/
END:VEVENT
END:VCALENDAR