BEGIN:VCALENDAR
VERSION:2.0
PRODID:-//Wycombe Friends of the Earth - ECPv6.15.17//NONSGML v1.0//EN
CALSCALE:GREGORIAN
METHOD:PUBLISH
X-ORIGINAL-URL:https://www.wycombefoe.org.uk
X-WR-CALDESC:Events for Wycombe Friends of the Earth
REFRESH-INTERVAL;VALUE=DURATION:PT1H
X-Robots-Tag:noindex
X-PUBLISHED-TTL:PT1H
BEGIN:VTIMEZONE
TZID:Europe/London
BEGIN:DAYLIGHT
TZOFFSETFROM:+0000
TZOFFSETTO:+0100
TZNAME:BST
DTSTART:20230326T010000
END:DAYLIGHT
BEGIN:STANDARD
TZOFFSETFROM:+0100
TZOFFSETTO:+0000
TZNAME:GMT
DTSTART:20231029T010000
END:STANDARD
BEGIN:DAYLIGHT
TZOFFSETFROM:+0000
TZOFFSETTO:+0100
TZNAME:BST
DTSTART:20240331T010000
END:DAYLIGHT
BEGIN:STANDARD
TZOFFSETFROM:+0100
TZOFFSETTO:+0000
TZNAME:GMT
DTSTART:20241027T010000
END:STANDARD
BEGIN:DAYLIGHT
TZOFFSETFROM:+0000
TZOFFSETTO:+0100
TZNAME:BST
DTSTART:20250330T010000
END:DAYLIGHT
BEGIN:STANDARD
TZOFFSETFROM:+0100
TZOFFSETTO:+0000
TZNAME:GMT
DTSTART:20251026T010000
END:STANDARD
END:VTIMEZONE
BEGIN:VEVENT
DTSTART;VALUE=DATE:20240610
DTEND;VALUE=DATE:20240617
DTSTAMP:20260425T041733
CREATED:20160406T150318Z
LAST-MODIFIED:20240409T110157Z
UID:6617-1717977600-1718582399@www.wycombefoe.org.uk
SUMMARY:Bike week
DESCRIPTION:Bike Week\, delivered by Cycling UK\, is an annual celebration to showcase cycling. Thousands of people all over the UK enjoy the simple pleasure of riding a bike. \nSearch the website for events near you. \nMonday to Sunday from end May or from early June. UK. \n 
URL:https://www.wycombefoe.org.uk/event/bike-week-2-2-2-2-2-2-2/
END:VEVENT
BEGIN:VEVENT
DTSTART;VALUE=DATE:20240616
DTEND;VALUE=DATE:20240617
DTSTAMP:20260425T041733
CREATED:20220616T195429Z
LAST-MODIFIED:20240410T165045Z
UID:6633-1718496000-1718582399@www.wycombefoe.org.uk
SUMMARY:Refill Day
DESCRIPTION:World Refill Day is a global campaign to prevent plastic pollution and help people live with less waste. \nAlong with our planet-protecting partners\, and thousands of everyday activists around the world\, we’re calling on businesses\, brands and governments to join the refill and reuse revolution and help make single-use plastic a thing of the past. \nAs a global movement\, we have the power to create a wave of change. By choosing to reuse\, we’re saving millions of pieces of plastic and sending a message to the rest of the world that the solutions to plastic pollution and the climate crisis are there – and together we can keep our environment\, oceans\, cities and communities plastic-free for the future. \nWorldwide\, every 16th June.
URL:https://www.wycombefoe.org.uk/event/refill-day-2-2/
END:VEVENT
END:VCALENDAR