BEGIN:VCALENDAR
VERSION:2.0
PRODID:-//Wycombe Friends of the Earth - ECPv6.15.17//NONSGML v1.0//EN
CALSCALE:GREGORIAN
METHOD:PUBLISH
X-WR-CALNAME:Wycombe Friends of the Earth
X-ORIGINAL-URL:https://www.wycombefoe.org.uk
X-WR-CALDESC:Events for Wycombe Friends of the Earth
REFRESH-INTERVAL;VALUE=DURATION:PT1H
X-Robots-Tag:noindex
X-PUBLISHED-TTL:PT1H
BEGIN:VTIMEZONE
TZID:Europe/London
BEGIN:DAYLIGHT
TZOFFSETFROM:+0000
TZOFFSETTO:+0100
TZNAME:BST
DTSTART:20220327T010000
END:DAYLIGHT
BEGIN:STANDARD
TZOFFSETFROM:+0100
TZOFFSETTO:+0000
TZNAME:GMT
DTSTART:20221030T010000
END:STANDARD
BEGIN:DAYLIGHT
TZOFFSETFROM:+0000
TZOFFSETTO:+0100
TZNAME:BST
DTSTART:20230326T010000
END:DAYLIGHT
BEGIN:STANDARD
TZOFFSETFROM:+0100
TZOFFSETTO:+0000
TZNAME:GMT
DTSTART:20231029T010000
END:STANDARD
BEGIN:DAYLIGHT
TZOFFSETFROM:+0000
TZOFFSETTO:+0100
TZNAME:BST
DTSTART:20240331T010000
END:DAYLIGHT
BEGIN:STANDARD
TZOFFSETFROM:+0100
TZOFFSETTO:+0000
TZNAME:GMT
DTSTART:20241027T010000
END:STANDARD
END:VTIMEZONE
BEGIN:VEVENT
DTSTART;VALUE=DATE:20230501
DTEND;VALUE=DATE:20230502
DTSTAMP:20260423T224033
CREATED:20170301T100115Z
LAST-MODIFIED:20230303T205745Z
UID:5754-1682899200-1682985599@www.wycombefoe.org.uk
SUMMARY:OTHER ECO GROUPS & EVENTS
DESCRIPTION:Click links below… \nList of environmental events in the Wycombe area\nThis is a more detailed listing of individual events. It is a pinned post on the Facebook page of Wycombe Env Centre. \nList of environmental organisations in the Wycombe area\nAnother way to find out re events. Click on the link to the organisation’s website and search for ‘what’s on’\, events or similar.\n \n  \n 
URL:https://www.wycombefoe.org.uk/event/note-other-local-event-listings-10-2-2-8-4-2-3-2-2-2-2-2-2-2-2-2-2-3-2-2-2-2-2-2-2-2-2-2-2-2-2-2-2-2-2-2-2-2-2-2-2-2-2-2-2-2-2-2-2-2-2-2-2-2-2-2-2-2-2-2-2/
END:VEVENT
BEGIN:VEVENT
DTSTART;TZID=Europe/London:20230501T183000
DTEND;TZID=Europe/London:20230501T193000
DTSTAMP:20260423T224033
CREATED:20220608T085815Z
LAST-MODIFIED:20230303T205852Z
UID:5756-1682965800-1682969400@www.wycombefoe.org.uk
SUMMARY:'Wycombe Environment' group meeting (most Mondays)
DESCRIPTION:Wycombe Environment (WE) is part of the Environment and Climate Change sub-group of the High Wycombe Community Board – itself part of Buckinghamshire County Council. WE is not a forum for discussion\, but for action\, to cut carbon and boost biodiversity. It meets weekly for half an hour by Zoom on Mondays at 6.30 pm. If you would like to join\, please email hwcb@buckinghamshire.gov.uk\, with ‘WE’ in the subject line. \nIt was setup 10th Feb 2021. \n 
URL:https://www.wycombefoe.org.uk/event/wycombe-environment-group-meeting-most-mondays-2-2-2-2/
END:VEVENT
END:VCALENDAR