BEGIN:VCALENDAR
VERSION:2.0
PRODID:-//Wycombe Friends of the Earth - ECPv6.15.17//NONSGML v1.0//EN
CALSCALE:GREGORIAN
METHOD:PUBLISH
X-ORIGINAL-URL:https://www.wycombefoe.org.uk
X-WR-CALDESC:Events for Wycombe Friends of the Earth
REFRESH-INTERVAL;VALUE=DURATION:PT1H
X-Robots-Tag:noindex
X-PUBLISHED-TTL:PT1H
BEGIN:VTIMEZONE
TZID:Europe/London
BEGIN:DAYLIGHT
TZOFFSETFROM:+0000
TZOFFSETTO:+0100
TZNAME:BST
DTSTART:20200329T010000
END:DAYLIGHT
BEGIN:STANDARD
TZOFFSETFROM:+0100
TZOFFSETTO:+0000
TZNAME:GMT
DTSTART:20201025T010000
END:STANDARD
BEGIN:DAYLIGHT
TZOFFSETFROM:+0000
TZOFFSETTO:+0100
TZNAME:BST
DTSTART:20210328T010000
END:DAYLIGHT
BEGIN:STANDARD
TZOFFSETFROM:+0100
TZOFFSETTO:+0000
TZNAME:GMT
DTSTART:20211031T010000
END:STANDARD
BEGIN:DAYLIGHT
TZOFFSETFROM:+0000
TZOFFSETTO:+0100
TZNAME:BST
DTSTART:20220327T010000
END:DAYLIGHT
BEGIN:STANDARD
TZOFFSETFROM:+0100
TZOFFSETTO:+0000
TZNAME:GMT
DTSTART:20221030T010000
END:STANDARD
END:VTIMEZONE
BEGIN:VEVENT
DTSTART;VALUE=DATE:20210711
DTEND;VALUE=DATE:20210712
DTSTAMP:20260425T012429
CREATED:20160502T175327Z
LAST-MODIFIED:20210604T105259Z
UID:4896-1625961600-1626047999@www.wycombefoe.org.uk
SUMMARY:World population day
DESCRIPTION:In 1989\, the Governing Council of the United Nations Development Programme recommended that 11 July be observed by the international community as World Population Day\, a day to focus attention on the urgency and importance of population issues.\n\nWorldwide\, every 11th July.\n\nFor events local to High Wycombe email  highwycombegroup@populationmatters.org\nFor events further afield\, see www.populationmatters.org.
URL:https://www.wycombefoe.org.uk/event/world-population-day-2-2-2-2-2/
END:VEVENT
BEGIN:VEVENT
DTSTART;TZID=Europe/London:20210711T110000
DTEND;TZID=Europe/London:20210711T170000
DTSTAMP:20260425T012429
CREATED:20170129T151310Z
LAST-MODIFIED:20210702T091929Z
UID:4898-1626001200-1626022800@www.wycombefoe.org.uk
SUMMARY:Pann Mill Open day (Cancelled due to Covid)
DESCRIPTION:Enjoy a walk round the Rye and stop in on Pann Mill for cake/tea/coffee and view the variety of stands. \nFlour made in Pann Mill is usually on sale (dependent on water levels). \nPossible environmental stalls: High Wycombe Beekeepers (sale of locally made honey) \nUsually on second Sunday of July. \n 
URL:https://www.wycombefoe.org.uk/event/pann-mill-open-day-4-2-2-2-2/
LOCATION:Pann Mill\, The Rye (nr Busy Bees nursery)\, High Wycombe\, HP11 1BJ\, United Kingdom
END:VEVENT
END:VCALENDAR