BEGIN:VCALENDAR
VERSION:2.0
PRODID:-//Wycombe Friends of the Earth - ECPv6.15.17//NONSGML v1.0//EN
CALSCALE:GREGORIAN
METHOD:PUBLISH
X-WR-CALNAME:Wycombe Friends of the Earth
X-ORIGINAL-URL:https://www.wycombefoe.org.uk
X-WR-CALDESC:Events for Wycombe Friends of the Earth
REFRESH-INTERVAL;VALUE=DURATION:PT1H
X-Robots-Tag:noindex
X-PUBLISHED-TTL:PT1H
BEGIN:VTIMEZONE
TZID:Europe/London
BEGIN:DAYLIGHT
TZOFFSETFROM:+0000
TZOFFSETTO:+0100
TZNAME:BST
DTSTART:20190331T010000
END:DAYLIGHT
BEGIN:STANDARD
TZOFFSETFROM:+0100
TZOFFSETTO:+0000
TZNAME:GMT
DTSTART:20191027T010000
END:STANDARD
BEGIN:DAYLIGHT
TZOFFSETFROM:+0000
TZOFFSETTO:+0100
TZNAME:BST
DTSTART:20200329T010000
END:DAYLIGHT
BEGIN:STANDARD
TZOFFSETFROM:+0100
TZOFFSETTO:+0000
TZNAME:GMT
DTSTART:20201025T010000
END:STANDARD
BEGIN:DAYLIGHT
TZOFFSETFROM:+0000
TZOFFSETTO:+0100
TZNAME:BST
DTSTART:20210328T010000
END:DAYLIGHT
BEGIN:STANDARD
TZOFFSETFROM:+0100
TZOFFSETTO:+0000
TZNAME:GMT
DTSTART:20211031T010000
END:STANDARD
END:VTIMEZONE
BEGIN:VEVENT
DTSTART;VALUE=DATE:20201128
DTEND;VALUE=DATE:20201207
DTSTAMP:20260424T065040
CREATED:20160802T144150Z
LAST-MODIFIED:20201017T153746Z
UID:4591-1606521600-1607299199@www.wycombefoe.org.uk
SUMMARY:Tree week
DESCRIPTION:National Tree Week is the UK’s largest tree celebration annually launching the start of the winter tree planting season. It is a great chance for communities to do something positive for their local treescape. Each year\, The Tree Council’s member organisations such as voluntary bodies and local authorities\, up to 200 schools and community groups\, our 8\,000 Tree Wardens and many others\, support the initiative by setting up fun\, worthwhile and accessible events\, inspiring upward of a quarter of a million people to get their hands dirty and together plant around a million trees. \nUK\, Saturday to Sunday.
URL:https://www.wycombefoe.org.uk/event/tree-week-2-2-2/
END:VEVENT
BEGIN:VEVENT
DTSTART;VALUE=DATE:20201205
DTEND;VALUE=DATE:20201206
DTSTAMP:20260424T065040
CREATED:20200606T181534Z
LAST-MODIFIED:20200606T181534Z
UID:4464-1607126400-1607212799@www.wycombefoe.org.uk
SUMMARY:Soil day
DESCRIPTION:To focus attention on the importance of healthy soil and advocating for the sustainable management of soil resources. \nWorldwide\, every 5th December.
URL:https://www.wycombefoe.org.uk/event/soil-day/
END:VEVENT
END:VCALENDAR