BEGIN:VCALENDAR
VERSION:2.0
PRODID:-//Wycombe Friends of the Earth - ECPv6.15.17//NONSGML v1.0//EN
CALSCALE:GREGORIAN
METHOD:PUBLISH
X-ORIGINAL-URL:https://www.wycombefoe.org.uk
X-WR-CALDESC:Events for Wycombe Friends of the Earth
REFRESH-INTERVAL;VALUE=DURATION:PT1H
X-Robots-Tag:noindex
X-PUBLISHED-TTL:PT1H
BEGIN:VTIMEZONE
TZID:Europe/London
BEGIN:DAYLIGHT
TZOFFSETFROM:+0000
TZOFFSETTO:+0100
TZNAME:BST
DTSTART:20190331T010000
END:DAYLIGHT
BEGIN:STANDARD
TZOFFSETFROM:+0100
TZOFFSETTO:+0000
TZNAME:GMT
DTSTART:20191027T010000
END:STANDARD
BEGIN:DAYLIGHT
TZOFFSETFROM:+0000
TZOFFSETTO:+0100
TZNAME:BST
DTSTART:20200329T010000
END:DAYLIGHT
BEGIN:STANDARD
TZOFFSETFROM:+0100
TZOFFSETTO:+0000
TZNAME:GMT
DTSTART:20201025T010000
END:STANDARD
BEGIN:DAYLIGHT
TZOFFSETFROM:+0000
TZOFFSETTO:+0100
TZNAME:BST
DTSTART:20210328T010000
END:DAYLIGHT
BEGIN:STANDARD
TZOFFSETFROM:+0100
TZOFFSETTO:+0000
TZNAME:GMT
DTSTART:20211031T010000
END:STANDARD
END:VTIMEZONE
BEGIN:VEVENT
DTSTART;VALUE=DATE:20200401
DTEND;VALUE=DATE:20200402
DTSTAMP:20260423T173203
CREATED:20170301T100115Z
LAST-MODIFIED:20200302T102507Z
UID:4328-1585699200-1585785599@www.wycombefoe.org.uk
SUMMARY:OTHER ECO EVENTS & GROUPS
DESCRIPTION:Note for using this calendar: \nSome local environmental organisations list their own events. \nClick on the link to their websites below and search for ‘what’s on’ or ‘events’: \nChiltern Rangers \nChinnor and Thame Friends of the Earth \nExtinction Rebellion Chilterns \nHigh Wycombe Beekeepers \nHigh Wycombe & Marlow Vegans \nPopulation Matters High Wycombe \nRevive the Wye \nWycombe for Climate Action \nWycombe Environment Centre \nWycombe Wildlife Group \nSee also… \nFood shops and markets selling LOCAL produce \nFriends of the Earth (London) \nMarlow Repair Cafe (March\, June and Sept) \nPopulation Matters (London) \nTen Mile Menu (local vegbox delivery)
URL:https://www.wycombefoe.org.uk/event/note-other-local-event-listings-10-2-2-8-4-2-3-2-2-2-2-2-2-2-2-2-2-3-2-2-2-2-2-2-2-2/
END:VEVENT
BEGIN:VEVENT
DTSTART;TZID=Europe/London:20200401T193000
DTEND;TZID=Europe/London:20200401T213000
DTSTAMP:20260423T173203
CREATED:20170129T143413Z
LAST-MODIFIED:20200317T204840Z
UID:4330-1585769400-1585776600@www.wycombefoe.org.uk
SUMMARY:Wycombe FoE Monthly Meeting (CANCELLED)
DESCRIPTION:Meeting cancelled due to Corona virus. \nEmail us at  wycombefoe@yahoo.co.uk for more info. \n 
URL:https://www.wycombefoe.org.uk/event/wycombe-friends-of-the-earth-monthly-meeting-23-6-2-2-2-3-3-2-3-2-2-2-2-2-2-2-2/
LOCATION:Quaker Meeting House\, 25 London Road\, High Wycombe\, HP11 1BJ\, United Kingdom
END:VEVENT
END:VCALENDAR