BEGIN:VCALENDAR
VERSION:2.0
PRODID:-//Wycombe Friends of the Earth - ECPv6.15.17//NONSGML v1.0//EN
CALSCALE:GREGORIAN
METHOD:PUBLISH
X-WR-CALNAME:Wycombe Friends of the Earth
X-ORIGINAL-URL:https://www.wycombefoe.org.uk
X-WR-CALDESC:Events for Wycombe Friends of the Earth
REFRESH-INTERVAL;VALUE=DURATION:PT1H
X-Robots-Tag:noindex
X-PUBLISHED-TTL:PT1H
BEGIN:VTIMEZONE
TZID:Europe/London
BEGIN:DAYLIGHT
TZOFFSETFROM:+0000
TZOFFSETTO:+0100
TZNAME:BST
DTSTART:20180325T010000
END:DAYLIGHT
BEGIN:STANDARD
TZOFFSETFROM:+0100
TZOFFSETTO:+0000
TZNAME:GMT
DTSTART:20181028T010000
END:STANDARD
BEGIN:DAYLIGHT
TZOFFSETFROM:+0000
TZOFFSETTO:+0100
TZNAME:BST
DTSTART:20190331T010000
END:DAYLIGHT
BEGIN:STANDARD
TZOFFSETFROM:+0100
TZOFFSETTO:+0000
TZNAME:GMT
DTSTART:20191027T010000
END:STANDARD
BEGIN:DAYLIGHT
TZOFFSETFROM:+0000
TZOFFSETTO:+0100
TZNAME:BST
DTSTART:20200329T010000
END:DAYLIGHT
BEGIN:STANDARD
TZOFFSETFROM:+0100
TZOFFSETTO:+0000
TZNAME:GMT
DTSTART:20201025T010000
END:STANDARD
END:VTIMEZONE
BEGIN:VEVENT
DTSTART;TZID=Europe/London:20191012T190000
DTEND;TZID=Europe/London:20191012T220000
DTSTAMP:20260423T043347
CREATED:20190320T220531Z
LAST-MODIFIED:20191001T161206Z
UID:3817-1570906800-1570917600@www.wycombefoe.org.uk
SUMMARY:Standup to Climate Chaos
DESCRIPTION:A unique blend of standup comedy and climate infographics.\nPlus: eco stalls\, talks\, Vegan food and eco-friendly drink. \nWycombe FoE will be there as well\, of course. \nFor advance tickets (£6) email highwycombegroup@populationmatters.org.\nOne free drink included. \nSee poster for details: \n 
URL:https://www.wycombefoe.org.uk/event/standup-to-climate-change-2019/
LOCATION:Trinity United Reformed Church\, London Road\, High Wycombe\, Buckinghamshire\, HP11 1BJ\, United Kingdom
ORGANIZER;CN="Population Matters High Wycombe":MAILTO:highwycombegroup[at]populationmatters.org
END:VEVENT
END:VCALENDAR