BEGIN:VCALENDAR
VERSION:2.0
PRODID:-//Wycombe Friends of the Earth - ECPv6.15.17//NONSGML v1.0//EN
CALSCALE:GREGORIAN
METHOD:PUBLISH
X-ORIGINAL-URL:https://www.wycombefoe.org.uk
X-WR-CALDESC:Events for Wycombe Friends of the Earth
REFRESH-INTERVAL;VALUE=DURATION:PT1H
X-Robots-Tag:noindex
X-PUBLISHED-TTL:PT1H
BEGIN:VTIMEZONE
TZID:Europe/London
BEGIN:DAYLIGHT
TZOFFSETFROM:+0000
TZOFFSETTO:+0100
TZNAME:BST
DTSTART:20180325T010000
END:DAYLIGHT
BEGIN:STANDARD
TZOFFSETFROM:+0100
TZOFFSETTO:+0000
TZNAME:GMT
DTSTART:20181028T010000
END:STANDARD
BEGIN:DAYLIGHT
TZOFFSETFROM:+0000
TZOFFSETTO:+0100
TZNAME:BST
DTSTART:20190331T010000
END:DAYLIGHT
BEGIN:STANDARD
TZOFFSETFROM:+0100
TZOFFSETTO:+0000
TZNAME:GMT
DTSTART:20191027T010000
END:STANDARD
BEGIN:DAYLIGHT
TZOFFSETFROM:+0000
TZOFFSETTO:+0100
TZNAME:BST
DTSTART:20200329T010000
END:DAYLIGHT
BEGIN:STANDARD
TZOFFSETFROM:+0100
TZOFFSETTO:+0000
TZNAME:GMT
DTSTART:20201025T010000
END:STANDARD
END:VTIMEZONE
BEGIN:VEVENT
DTSTART;TZID=Europe/London:20190424T190000
DTEND;TZID=Europe/London:20190424T210000
DTSTAMP:20260423T002529
CREATED:20190203T125752Z
LAST-MODIFIED:20190203T162424Z
UID:3725-1556132400-1556139600@www.wycombefoe.org.uk
SUMMARY:Population and Sustainability - Talk
DESCRIPTION:A presentation and discussion by an expert on population growth. \nThere will also be an information stall and display about population issues\, an award winning short video and free refreshments. \nTake the opportunity to have a walk beforehand around the beautiful Jordans village and countryside. \n  \n 
URL:https://www.wycombefoe.org.uk/event/population-and-sustainability-talk/
LOCATION:Jordans Quaker Centre\, Welders Lane\, Jordans\, Beaconsfield\, Buckinghamshire\, HP9 2SN\, United Kingdom
ORGANIZER;CN="Population Matters High Wycombe":MAILTO:highwycombegroup[at]populationmatters.org
END:VEVENT
END:VCALENDAR