BEGIN:VCALENDAR
VERSION:2.0
PRODID:-//Wycombe Friends of the Earth - ECPv6.15.17//NONSGML v1.0//EN
CALSCALE:GREGORIAN
METHOD:PUBLISH
X-WR-CALNAME:Wycombe Friends of the Earth
X-ORIGINAL-URL:https://www.wycombefoe.org.uk
X-WR-CALDESC:Events for Wycombe Friends of the Earth
REFRESH-INTERVAL;VALUE=DURATION:PT1H
X-Robots-Tag:noindex
X-PUBLISHED-TTL:PT1H
BEGIN:VTIMEZONE
TZID:Europe/London
BEGIN:DAYLIGHT
TZOFFSETFROM:+0000
TZOFFSETTO:+0100
TZNAME:BST
DTSTART:20180325T010000
END:DAYLIGHT
BEGIN:STANDARD
TZOFFSETFROM:+0100
TZOFFSETTO:+0000
TZNAME:GMT
DTSTART:20181028T010000
END:STANDARD
BEGIN:DAYLIGHT
TZOFFSETFROM:+0000
TZOFFSETTO:+0100
TZNAME:BST
DTSTART:20190331T010000
END:DAYLIGHT
BEGIN:STANDARD
TZOFFSETFROM:+0100
TZOFFSETTO:+0000
TZNAME:GMT
DTSTART:20191027T010000
END:STANDARD
BEGIN:DAYLIGHT
TZOFFSETFROM:+0000
TZOFFSETTO:+0100
TZNAME:BST
DTSTART:20200329T010000
END:DAYLIGHT
BEGIN:STANDARD
TZOFFSETFROM:+0100
TZOFFSETTO:+0000
TZNAME:GMT
DTSTART:20201025T010000
END:STANDARD
END:VTIMEZONE
BEGIN:VEVENT
DTSTART;TZID=Europe/London:20190223T100000
DTEND;TZID=Europe/London:20190223T140000
DTSTAMP:20260423T022249
CREATED:20190206T180158Z
LAST-MODIFIED:20190206T180158Z
UID:3742-1550916000-1550930400@www.wycombefoe.org.uk
SUMMARY:Community Vegan market
DESCRIPTION:Khepera’s Veg-u-cation programme is about making vegan food & products accessible\, and helping the community to make healthy lifestyle choices. \nProfits from the vegan market\, are invested in OUR COMMUNITY. Helping families on low incomes\, those with health conditions (who would not be able to afford private support) learn about eating for health on a budget. \nAt Khepera we travel around to community spaces educating families on low incomes of the importance of a healthy diet via fun interactive sessions & cooking lessons. We teach about the workings of the body\, which improves self awareness and self confidence – which then starts trickling into other areas of their lives \nFunds will help us to expand this into condition specific courses\, enabling us to gather vital statistics in order to support people referred from their GP!
URL:https://www.wycombefoe.org.uk/event/community-vegan-market/
LOCATION:Wycombe Arts Centre\, Desborough Road\, High Wycombe\, HP11 2PU\, United Kingdom
END:VEVENT
END:VCALENDAR