BEGIN:VCALENDAR
VERSION:2.0
PRODID:-//Wycombe Friends of the Earth - ECPv6.15.17//NONSGML v1.0//EN
CALSCALE:GREGORIAN
METHOD:PUBLISH
X-ORIGINAL-URL:https://www.wycombefoe.org.uk
X-WR-CALDESC:Events for Wycombe Friends of the Earth
REFRESH-INTERVAL;VALUE=DURATION:PT1H
X-Robots-Tag:noindex
X-PUBLISHED-TTL:PT1H
BEGIN:VTIMEZONE
TZID:Europe/London
BEGIN:DAYLIGHT
TZOFFSETFROM:+0000
TZOFFSETTO:+0100
TZNAME:BST
DTSTART:20170326T010000
END:DAYLIGHT
BEGIN:STANDARD
TZOFFSETFROM:+0100
TZOFFSETTO:+0000
TZNAME:GMT
DTSTART:20171029T010000
END:STANDARD
BEGIN:DAYLIGHT
TZOFFSETFROM:+0000
TZOFFSETTO:+0100
TZNAME:BST
DTSTART:20180325T010000
END:DAYLIGHT
BEGIN:STANDARD
TZOFFSETFROM:+0100
TZOFFSETTO:+0000
TZNAME:GMT
DTSTART:20181028T010000
END:STANDARD
BEGIN:DAYLIGHT
TZOFFSETFROM:+0000
TZOFFSETTO:+0100
TZNAME:BST
DTSTART:20190331T010000
END:DAYLIGHT
BEGIN:STANDARD
TZOFFSETFROM:+0100
TZOFFSETTO:+0000
TZNAME:GMT
DTSTART:20191027T010000
END:STANDARD
END:VTIMEZONE
BEGIN:VEVENT
DTSTART;TZID=Europe/London:20181213T190000
DTEND;TZID=Europe/London:20181213T210000
DTSTAMP:20260423T062539
CREATED:20181027T184249Z
LAST-MODIFIED:20181027T184249Z
UID:3406-1544727600-1544734800@www.wycombefoe.org.uk
SUMMARY:Vegan talk (incl Vegan food & drink samples)
DESCRIPTION:Interested in trying Vegan food or being vegan? Or maybe you’re considering taking part in Veganuary in the new year? Hear from Charmaine from Khepera Org about the basics of going vegan\, from the ethical and environmental impact of your diet to ensuring your nutritional requirements are being met. Join in the discussion! \nFor tickets (£10) go to\nwww.ticketsource.co.uk/whats-on/bucks/wycombe-museum/being-vegan-the-basics \nVegan samples included.
URL:https://www.wycombefoe.org.uk/event/vegan-talk-incl-vegan-food-drink-samples/
LOCATION:Wycombe Museum\, Priory Avenue\, High Wycombe\, Buckinghamshire\, HP13 6PX\, United Kingdom
END:VEVENT
END:VCALENDAR