BEGIN:VCALENDAR
VERSION:2.0
PRODID:-//Wycombe Friends of the Earth - ECPv6.15.17//NONSGML v1.0//EN
CALSCALE:GREGORIAN
METHOD:PUBLISH
X-WR-CALNAME:Wycombe Friends of the Earth
X-ORIGINAL-URL:https://www.wycombefoe.org.uk
X-WR-CALDESC:Events for Wycombe Friends of the Earth
REFRESH-INTERVAL;VALUE=DURATION:PT1H
X-Robots-Tag:noindex
X-PUBLISHED-TTL:PT1H
BEGIN:VTIMEZONE
TZID:Europe/London
BEGIN:DAYLIGHT
TZOFFSETFROM:+0000
TZOFFSETTO:+0100
TZNAME:BST
DTSTART:20170326T010000
END:DAYLIGHT
BEGIN:STANDARD
TZOFFSETFROM:+0100
TZOFFSETTO:+0000
TZNAME:GMT
DTSTART:20171029T010000
END:STANDARD
BEGIN:DAYLIGHT
TZOFFSETFROM:+0000
TZOFFSETTO:+0100
TZNAME:BST
DTSTART:20180325T010000
END:DAYLIGHT
BEGIN:STANDARD
TZOFFSETFROM:+0100
TZOFFSETTO:+0000
TZNAME:GMT
DTSTART:20181028T010000
END:STANDARD
BEGIN:DAYLIGHT
TZOFFSETFROM:+0000
TZOFFSETTO:+0100
TZNAME:BST
DTSTART:20190331T010000
END:DAYLIGHT
BEGIN:STANDARD
TZOFFSETFROM:+0100
TZOFFSETTO:+0000
TZNAME:GMT
DTSTART:20191027T010000
END:STANDARD
END:VTIMEZONE
BEGIN:VEVENT
DTSTART;TZID=Europe/London:20181206T100000
DTEND;TZID=Europe/London:20181206T130000
DTSTAMP:20260423T062522
CREATED:20160409T161011Z
LAST-MODIFIED:20181127T114139Z
UID:3398-1544090400-1544101200@www.wycombefoe.org.uk
SUMMARY:Conservation volunteering - EVERY Thursday (note 27th Dec is cancelled!)
DESCRIPTION:Every Thursday the Chiltern Rangers run a volunteer conservation group which is open to all. Come along and meet the group at Wycombe Rye Lido Car Park and keep fit while helping to take care of your local environment at woodlands. \nTools\, gloves and hot drinks are provided. Please wear stout footwear and appropriate clothing suitable for outdoors activities and the weather. If you would like to get involved then please contact us. \ninfo@chilternrangers.co.uk \nMore events on their website. \n 
URL:https://www.wycombefoe.org.uk/event/conservation-volunteering-every-thursday-of-the-month-25-4-4-4-3-2/
LOCATION:Wycombe Lido Swimming pool\, The Rye \, HighWycombe\, United Kingdom
ORGANIZER;CN="Chiltern rangers":MAILTO:info@chilternrangers.co.uk
END:VEVENT
END:VCALENDAR