BEGIN:VCALENDAR
VERSION:2.0
PRODID:-//Wycombe Friends of the Earth - ECPv6.15.17//NONSGML v1.0//EN
CALSCALE:GREGORIAN
METHOD:PUBLISH
X-WR-CALNAME:Wycombe Friends of the Earth
X-ORIGINAL-URL:https://www.wycombefoe.org.uk
X-WR-CALDESC:Events for Wycombe Friends of the Earth
REFRESH-INTERVAL;VALUE=DURATION:PT1H
X-Robots-Tag:noindex
X-PUBLISHED-TTL:PT1H
BEGIN:VTIMEZONE
TZID:Europe/London
BEGIN:DAYLIGHT
TZOFFSETFROM:+0000
TZOFFSETTO:+0100
TZNAME:BST
DTSTART:20170326T010000
END:DAYLIGHT
BEGIN:STANDARD
TZOFFSETFROM:+0100
TZOFFSETTO:+0000
TZNAME:GMT
DTSTART:20171029T010000
END:STANDARD
BEGIN:DAYLIGHT
TZOFFSETFROM:+0000
TZOFFSETTO:+0100
TZNAME:BST
DTSTART:20180325T010000
END:DAYLIGHT
BEGIN:STANDARD
TZOFFSETFROM:+0100
TZOFFSETTO:+0000
TZNAME:GMT
DTSTART:20181028T010000
END:STANDARD
BEGIN:DAYLIGHT
TZOFFSETFROM:+0000
TZOFFSETTO:+0100
TZNAME:BST
DTSTART:20190331T010000
END:DAYLIGHT
BEGIN:STANDARD
TZOFFSETFROM:+0100
TZOFFSETTO:+0000
TZNAME:GMT
DTSTART:20191027T010000
END:STANDARD
END:VTIMEZONE
BEGIN:VEVENT
DTSTART;VALUE=DATE:20180924
DTEND;VALUE=DATE:20181001
DTSTAMP:20260423T153406
CREATED:20160601T151032Z
LAST-MODIFIED:20180704T160612Z
UID:3182-1537747200-1538351999@www.wycombefoe.org.uk
SUMMARY:Recycle week
DESCRIPTION:The aim of the week is to encourage people to think about all those items that often get forgotten about when recycling at home. And to encourage people to recycle more\, waste less and take up the challenge for sustainable living. \n 
URL:https://www.wycombefoe.org.uk/event/recycle-week-2-2/
CATEGORIES:Uptodate for 2018
END:VEVENT
BEGIN:VEVENT
DTSTART;VALUE=DATE:20180926
DTEND;VALUE=DATE:20180927
DTSTAMP:20260423T153406
CREATED:20170803T192632Z
LAST-MODIFIED:20180704T160813Z
UID:3184-1537920000-1538006399@www.wycombefoe.org.uk
SUMMARY:World Contraception day (WHO)
DESCRIPTION:According to WHO (World Health Organisation)\, the promotion of family planning – and ensuring access to preferred contraceptive methods for women and couples – is essential to securing the well-being and autonomy of women\, while supporting the health and development of communities. Allowing women to choose whether\, when\, and how many children to have achieves progress on global health goals. It also helps break the cycle of poverty\, and puts families\, communities\, and countries on a stronger\, more prosperous and sustainable path. \nNote: More than 200 million women worldwide do not have adequate access to family planning services. According to Population Matters\, improved access results in smaller families. Smaller families consume less and are more sustainable. \nWorldwide\, every 26 Sept.
URL:https://www.wycombefoe.org.uk/event/world-contraception-day-who-2/
END:VEVENT
END:VCALENDAR